BEGIN:VCALENDAR
VERSION:2.0
PRODID:-//WCSU Events - ECPv6.15.17.1//NONSGML v1.0//EN
CALSCALE:GREGORIAN
METHOD:PUBLISH
X-ORIGINAL-URL:https://www.wcsu.edu/events
X-WR-CALDESC:Events for WCSU Events
REFRESH-INTERVAL;VALUE=DURATION:PT1H
X-Robots-Tag:noindex
X-PUBLISHED-TTL:PT1H
BEGIN:VTIMEZONE
TZID:America/New_York
BEGIN:DAYLIGHT
TZOFFSETFROM:-0500
TZOFFSETTO:-0400
TZNAME:EDT
DTSTART:20230312T070000
END:DAYLIGHT
BEGIN:STANDARD
TZOFFSETFROM:-0400
TZOFFSETTO:-0500
TZNAME:EST
DTSTART:20231105T060000
END:STANDARD
BEGIN:DAYLIGHT
TZOFFSETFROM:-0500
TZOFFSETTO:-0400
TZNAME:EDT
DTSTART:20240310T070000
END:DAYLIGHT
BEGIN:STANDARD
TZOFFSETFROM:-0400
TZOFFSETTO:-0500
TZNAME:EST
DTSTART:20241103T060000
END:STANDARD
BEGIN:DAYLIGHT
TZOFFSETFROM:-0500
TZOFFSETTO:-0400
TZNAME:EDT
DTSTART:20250309T070000
END:DAYLIGHT
BEGIN:STANDARD
TZOFFSETFROM:-0400
TZOFFSETTO:-0500
TZNAME:EST
DTSTART:20251102T060000
END:STANDARD
END:VTIMEZONE
BEGIN:VEVENT
DTSTART;TZID=America/New_York:20241105T090000
DTEND;TZID=America/New_York:20241105T120000
DTSTAMP:20260421T120017
CREATED:20241024T182504Z
LAST-MODIFIED:20241024T182504Z
UID:10070159-1730797200-1730808000@www.wcsu.edu
SUMMARY:Field of Flags
DESCRIPTION:FIELD OF FLAGS: The university’s Student Veterans Organization (SVO) will begin to place thousands of American flags in front of the Old Main Building on the Midtown campus. Flag placement will begin at 9 a.m. and the public is invited to join WCSU’s SVO\, Campus Police and members of the Danbury Fire and Police Departments in placing flags. The Field of Flags will remain in place until Tuesday\, Nov. 12.
URL:https://www.wcsu.edu/events/calendar/field-of-flags-2/
LOCATION:CT
CATEGORIES:Ceremony,WOW
ATTACH;FMTTYPE=image/jpeg:https://www.wcsu.edu/events/wp-content/uploads/sites/181/2023/10/flags1.jpg
END:VEVENT
BEGIN:VEVENT
DTSTART;TZID=America/New_York:20241112T113000
DTEND;TZID=America/New_York:20241112T130000
DTSTAMP:20260421T120017
CREATED:20241029T154008Z
LAST-MODIFIED:20241029T160344Z
UID:10070166-1731411000-1731416400@www.wcsu.edu
SUMMARY:Push-up Challenge
DESCRIPTION:PUSH-UP CHALLENGE: Join the Student Veterans Organization to test your push-up ability with or without a weight vest. From 11:30 a.m. to 1 p.m. at the Berkshire Hall entrance on the Midtown campus.
URL:https://www.wcsu.edu/events/calendar/push-up-challenge/
LOCATION:Berkshire Hall\, 181 White St.\, Danbury\, CT
CATEGORIES:Contest
ATTACH;FMTTYPE=image/jpeg:https://www.wcsu.edu/events/wp-content/uploads/sites/181/2023/10/Berkshire-10-18-23.jpg
END:VEVENT
BEGIN:VEVENT
DTSTART;TZID=America/New_York:20241113T180000
DTEND;TZID=America/New_York:20241113T210000
DTSTAMP:20260421T120017
CREATED:20241029T154341Z
LAST-MODIFIED:20241029T160916Z
UID:10070167-1731520800-1731531600@www.wcsu.edu
SUMMARY:Veterans' *Happy Hour*
DESCRIPTION:VETERANS’ HAPPY HOUR: Join the Student Veterans Organization for Veterans’ Happy Hour featuring beer and wings and a pool hall challenge. From 6 to 9 p.m. in the Game Room on the second floor of the Midtown Student Center. Open to WCSU Veteran students only. \n 
URL:https://www.wcsu.edu/events/calendar/veterans-happy-hour/
LOCATION:Midtown Student Center Game Room\, 181 White St.\, Danbury\, CT
CATEGORIES:Contest,Social Event
ATTACH;FMTTYPE=image/png:https://www.wcsu.edu/events/wp-content/uploads/sites/181/2023/10/10_26-Conversation-with-the-President-–-The-Commuter-Student-Experience.png
END:VEVENT
END:VCALENDAR