BEGIN:VCALENDAR
VERSION:2.0
PRODID:-//WCSU Events - ECPv6.15.17.1//NONSGML v1.0//EN
CALSCALE:GREGORIAN
METHOD:PUBLISH
X-WR-CALNAME:WCSU Events
X-ORIGINAL-URL:https://www.wcsu.edu/events
X-WR-CALDESC:Events for WCSU Events
REFRESH-INTERVAL;VALUE=DURATION:PT1H
X-Robots-Tag:noindex
X-PUBLISHED-TTL:PT1H
BEGIN:VTIMEZONE
TZID:UTC
BEGIN:STANDARD
TZOFFSETFROM:+0000
TZOFFSETTO:+0000
TZNAME:UTC
DTSTART:20210101T000000
END:STANDARD
END:VTIMEZONE
BEGIN:VEVENT
DTSTART;TZID=UTC:20221029T120000
DTEND;TZID=UTC:20221029T180000
DTSTAMP:20260423T191535
CREATED:20220815T195635Z
LAST-MODIFIED:20220929T224232Z
UID:10062690-1667044800-1667066400@www.wcsu.edu
SUMMARY:Women's Volleyball Tri-Match
DESCRIPTION:WOMEN’S VOLLEYBALL TRI-MATCH: Women’s Volleyball Tri-Match vs. University of Southern Maine at noon; USM vs. College of St. Vincent at 2 p.m.; and WCSU vs. CSV at 4 p.m. in the O’Neill Center on the Westside campus. For more information\, visit https://westconnathletics.com/index.aspx.
URL:https://www.wcsu.edu/events/calendar/womens-volleyball-tri-match/
LOCATION:O’Neill Center\, 43 Lake Ave. Extension\, Danbury\, CT
CATEGORIES:Athletics
ATTACH;FMTTYPE=image/jpeg:https://www.wcsu.edu/events/wp-content/uploads/sites/181/2022/08/Womens-VB-Tri-Match-10-29-22-e1664476169391.jpg
END:VEVENT
END:VCALENDAR