BEGIN:VCALENDAR
VERSION:2.0
PRODID:-//WCSU Events - ECPv6.15.17.1//NONSGML v1.0//EN
CALSCALE:GREGORIAN
METHOD:PUBLISH
X-WR-CALNAME:WCSU Events
X-ORIGINAL-URL:https://www.wcsu.edu/events
X-WR-CALDESC:Events for WCSU Events
REFRESH-INTERVAL;VALUE=DURATION:PT1H
X-Robots-Tag:noindex
X-PUBLISHED-TTL:PT1H
BEGIN:VTIMEZONE
TZID:America/New_York
BEGIN:DAYLIGHT
TZOFFSETFROM:-0500
TZOFFSETTO:-0400
TZNAME:EDT
DTSTART:20240310T070000
END:DAYLIGHT
BEGIN:STANDARD
TZOFFSETFROM:-0400
TZOFFSETTO:-0500
TZNAME:EST
DTSTART:20241103T060000
END:STANDARD
BEGIN:DAYLIGHT
TZOFFSETFROM:-0500
TZOFFSETTO:-0400
TZNAME:EDT
DTSTART:20250309T070000
END:DAYLIGHT
BEGIN:STANDARD
TZOFFSETFROM:-0400
TZOFFSETTO:-0500
TZNAME:EST
DTSTART:20251102T060000
END:STANDARD
BEGIN:DAYLIGHT
TZOFFSETFROM:-0500
TZOFFSETTO:-0400
TZNAME:EDT
DTSTART:20260308T070000
END:DAYLIGHT
BEGIN:STANDARD
TZOFFSETFROM:-0400
TZOFFSETTO:-0500
TZNAME:EST
DTSTART:20261101T060000
END:STANDARD
END:VTIMEZONE
BEGIN:VEVENT
DTSTART;TZID=America/New_York:20251015T143000
DTEND;TZID=America/New_York:20251015T150000
DTSTAMP:20260419T202711
CREATED:20250912T193116Z
LAST-MODIFIED:20251009T190211Z
UID:10071967-1760538600-1760540400@www.wcsu.edu
SUMMARY:Culinary Council Meeting
DESCRIPTION:CULINARY COUNCIL MEETING: Have feedback about campus dining? Join the Culinary Council Meeting to share your thoughts\, ask questions\, and learn about upcoming dining events and initiatives. Your input helps shape the future of dining at WCSU! Join us for free food and give your feedback on what we can do better! From 2:30 to 3 p.m. in Berkshire Hall on the Midtown campus.
URL:https://www.wcsu.edu/events/calendar/culinary-council-meeting-2/
LOCATION:Berkshire Hall\, 181 White St.\, Danbury\, CT
CATEGORIES:Food
ATTACH;FMTTYPE=image/jpeg:https://www.wcsu.edu/events/wp-content/uploads/sites/181/2023/10/Berkshire-10-18-23.jpg
ORGANIZER;CN="WCSU Dining":MAILTO:heidi.diaz@sodexo.com
END:VEVENT
END:VCALENDAR