BEGIN:VCALENDAR
VERSION:2.0
PRODID:-//WCSU Events - ECPv6.15.17.1//NONSGML v1.0//EN
CALSCALE:GREGORIAN
METHOD:PUBLISH
X-WR-CALNAME:WCSU Events
X-ORIGINAL-URL:https://www.wcsu.edu/events
X-WR-CALDESC:Events for WCSU Events
REFRESH-INTERVAL;VALUE=DURATION:PT1H
X-Robots-Tag:noindex
X-PUBLISHED-TTL:PT1H
BEGIN:VTIMEZONE
TZID:America/New_York
BEGIN:DAYLIGHT
TZOFFSETFROM:-0500
TZOFFSETTO:-0400
TZNAME:EDT
DTSTART:20220313T070000
END:DAYLIGHT
BEGIN:STANDARD
TZOFFSETFROM:-0400
TZOFFSETTO:-0500
TZNAME:EST
DTSTART:20221106T060000
END:STANDARD
BEGIN:DAYLIGHT
TZOFFSETFROM:-0500
TZOFFSETTO:-0400
TZNAME:EDT
DTSTART:20230312T070000
END:DAYLIGHT
BEGIN:STANDARD
TZOFFSETFROM:-0400
TZOFFSETTO:-0500
TZNAME:EST
DTSTART:20231105T060000
END:STANDARD
BEGIN:DAYLIGHT
TZOFFSETFROM:-0500
TZOFFSETTO:-0400
TZNAME:EDT
DTSTART:20240310T070000
END:DAYLIGHT
BEGIN:STANDARD
TZOFFSETFROM:-0400
TZOFFSETTO:-0500
TZNAME:EST
DTSTART:20241103T060000
END:STANDARD
END:VTIMEZONE
BEGIN:VEVENT
DTSTART;TZID=America/New_York:20231101T173000
DTEND;TZID=America/New_York:20231101T200000
DTSTAMP:20260422T012351
CREATED:20231019T190412Z
LAST-MODIFIED:20231023T185614Z
UID:10064090-1698859800-1698868800@www.wcsu.edu
SUMMARY:A Conversation with Rudy Ruggles
DESCRIPTION:ONE DAY\, THREE DAWNS\, CURIOSITY AND WHERE IT TOOK ME – A CONVERSATION WITH RUDY RUGGLES: A conversation with Rudy Ruggles – Scientist\, Philanthropist\, Explorer\, National Security Expert\, Inventor – Please join us for a Distinguished Lecture with reception to follow. At 5:30 p.m. in the Ruth Haas Library on the Midtown campus. Reserve a space at https://wcsutickets.regfox.com/rudy-ruggles-lecture. \nRudy Ruggles has pursued a lifelong love of learning and a career that has encompassed scientific research and development\, international relations\, strategic planning\, and high-speed technological innovation. He’s been engaged in National Security and Intelligence Services for more than 35 years\, and served with the U.S. Army\, Combat Engineers. Ruggles has been posted and worked in multiple countries including Iran\, Algeria\, Australia and China. His travels have taken him around the world and he has literally explored the ends of the earth\, including an 8\,500’ dive in a Russian deep submersible to the mid-Atlantic Ridge off the Azores to study the biodiversity of hydrothermal vent fields. He’s also participated in expeditions to the North Pole\,\nthe Antarctic and rainforests in Costa Rica and Madagascar. An inventor and holder of two patents\, Ruggles has\namassed numerous awards\, published articles and academic honors.
URL:https://www.wcsu.edu/events/calendar/a-conversation-with-rudy-ruggles/
LOCATION:Ruth Haas Library\, 181 White St.\, Danbury\, CT
CATEGORIES:Lectures
ATTACH;FMTTYPE=image/jpeg:https://www.wcsu.edu/events/wp-content/uploads/sites/181/2023/10/oneday_three-dawns500x300.jpg
ORGANIZER;CN="WCSU Foundation":MAILTO:bartonn@wcsu.edu
END:VEVENT
END:VCALENDAR