BEGIN:VCALENDAR
VERSION:2.0
PRODID:-//WCSU Events - ECPv6.15.17.1//NONSGML v1.0//EN
CALSCALE:GREGORIAN
METHOD:PUBLISH
X-WR-CALNAME:WCSU Events
X-ORIGINAL-URL:https://www.wcsu.edu/events
X-WR-CALDESC:Events for WCSU Events
REFRESH-INTERVAL;VALUE=DURATION:PT1H
X-Robots-Tag:noindex
X-PUBLISHED-TTL:PT1H
BEGIN:VTIMEZONE
TZID:UTC
BEGIN:STANDARD
TZOFFSETFROM:+0000
TZOFFSETTO:+0000
TZNAME:UTC
DTSTART:20210101T000000
END:STANDARD
END:VTIMEZONE
BEGIN:VEVENT
DTSTART;TZID=UTC:20221206T170000
DTEND;TZID=UTC:20221206T210000
DTSTAMP:20260419T143053
CREATED:20221013T213711Z
LAST-MODIFIED:20221031T212215Z
UID:10061379-1670346000-1670360400@www.wcsu.edu
SUMMARY:Women's and Men's LEC Basketball Doubleheader
DESCRIPTION:WOMEN’S AND MEN’S BASKETBALL LITTLE EAST CONFERENCE DOUBLEHEADER: Wolves women and men face UMass Boston at 5 and 7 p.m. in a Little East Conference battle in the Feldman Arena of the O’Neill Center.
URL:https://www.wcsu.edu/events/calendar/womens-and-mens-lec-basketball-doubleheader-8/
LOCATION:O’Neill Center\, 43 Lake Ave. Extension\, Danbury\, CT
CATEGORIES:Athletics
ATTACH;FMTTYPE=image/jpeg:https://www.wcsu.edu/events/wp-content/uploads/sites/181/2022/10/Basketball-Doubleheader-12-6-22-e1667236910961.jpg
ORGANIZER;CN="Athletics":MAILTO:amess@wcsu.edu
END:VEVENT
BEGIN:VEVENT
DTSTART;TZID=UTC:20221211T140000
DTEND;TZID=UTC:20221211T160000
DTSTAMP:20260419T143053
CREATED:20221013T212057Z
LAST-MODIFIED:20221025T194258Z
UID:10063091-1670767200-1670774400@www.wcsu.edu
SUMMARY:Women's Basketball Game
DESCRIPTION:WOMEN’S BASKETBALL GAME: The Wolves take on York College of New York in the second meeting of a home-and-home\, back-to-back series at 2 p.m. in the Feldman Arena of the O’Neill Center.
URL:https://www.wcsu.edu/events/calendar/womens-basketball-game-2/
LOCATION:O’Neill Center\, 43 Lake Ave. Extension\, Danbury\, CT
CATEGORIES:Athletics
ATTACH;FMTTYPE=image/jpeg:https://www.wcsu.edu/events/wp-content/uploads/sites/181/2022/10/Womens-Basketball-12-11-22-e1666712558415.jpg
ORGANIZER;CN="Athletics":MAILTO:amess@wcsu.edu
END:VEVENT
BEGIN:VEVENT
DTSTART;TZID=UTC:20221230T160000
DTEND;TZID=UTC:20221230T200000
DTSTAMP:20260419T143053
CREATED:20221013T211808Z
LAST-MODIFIED:20221116T153535Z
UID:10063092-1672416000-1672430400@www.wcsu.edu
SUMMARY:Women's Basketball Hat City Tournament
DESCRIPTION:WOMEN’S BASKETBALL HAT CITY TOURNAMENT: Wolves host their annual tournament around the holiday in the Feldman Arena of the O’Neill Center.\nWestConn vs. SUNY Delhi 4 p.m.\nFitchburg State vs. Mitchell College 6 p.m.
URL:https://www.wcsu.edu/events/calendar/womens-basketball-hat-city-tournament-2/
LOCATION:O’Neill Center\, 43 Lake Ave. Extension\, Danbury\, CT
CATEGORIES:Athletics
ATTACH;FMTTYPE=image/jpeg:https://www.wcsu.edu/events/wp-content/uploads/sites/181/2022/10/Hat-City-Tournament-12-30-e1668612917790.jpg
ORGANIZER;CN="Athletics":MAILTO:amess@wcsu.edu
END:VEVENT
BEGIN:VEVENT
DTSTART;TZID=UTC:20221231T130000
DTEND;TZID=UTC:20221231T170000
DTSTAMP:20260419T143053
CREATED:20221013T211632Z
LAST-MODIFIED:20221116T151011Z
UID:10063093-1672491600-1672506000@www.wcsu.edu
SUMMARY:Women's Basketball Hat City Tournament
DESCRIPTION:WOMEN’S BASKETBALL HAT CITY TOURNAMENT: The second day of the round-robin tournament continues in the Feldman Arena of the O’Neill Center.\nSUNY Delhi vs. Mitchell College 1 p.m.\nWolves vs. Fitchburg State 3 p.m.
URL:https://www.wcsu.edu/events/calendar/womens-basketball-hat-city-tournament/
LOCATION:O’Neill Center\, 43 Lake Ave. Extension\, Danbury\, CT
CATEGORIES:Athletics
ATTACH;FMTTYPE=image/jpeg:https://www.wcsu.edu/events/wp-content/uploads/sites/181/2022/10/Hat-City-Tournament-12-31-e1668611392841.jpg
ORGANIZER;CN="Athletics":MAILTO:amess@wcsu.edu
END:VEVENT
END:VCALENDAR