BEGIN:VCALENDAR
VERSION:2.0
PRODID:-//WCSU Events - ECPv6.15.17.1//NONSGML v1.0//EN
CALSCALE:GREGORIAN
METHOD:PUBLISH
X-WR-CALNAME:WCSU Events
X-ORIGINAL-URL:https://www.wcsu.edu/events
X-WR-CALDESC:Events for WCSU Events
REFRESH-INTERVAL;VALUE=DURATION:PT1H
X-Robots-Tag:noindex
X-PUBLISHED-TTL:PT1H
BEGIN:VTIMEZONE
TZID:America/New_York
BEGIN:DAYLIGHT
TZOFFSETFROM:-0500
TZOFFSETTO:-0400
TZNAME:EDT
DTSTART:20220313T070000
END:DAYLIGHT
BEGIN:STANDARD
TZOFFSETFROM:-0400
TZOFFSETTO:-0500
TZNAME:EST
DTSTART:20221106T060000
END:STANDARD
BEGIN:DAYLIGHT
TZOFFSETFROM:-0500
TZOFFSETTO:-0400
TZNAME:EDT
DTSTART:20230312T070000
END:DAYLIGHT
BEGIN:STANDARD
TZOFFSETFROM:-0400
TZOFFSETTO:-0500
TZNAME:EST
DTSTART:20231105T060000
END:STANDARD
BEGIN:DAYLIGHT
TZOFFSETFROM:-0500
TZOFFSETTO:-0400
TZNAME:EDT
DTSTART:20240310T070000
END:DAYLIGHT
BEGIN:STANDARD
TZOFFSETFROM:-0400
TZOFFSETTO:-0500
TZNAME:EST
DTSTART:20241103T060000
END:STANDARD
END:VTIMEZONE
BEGIN:VEVENT
DTSTART;TZID=America/New_York:20230911T153000
DTEND;TZID=America/New_York:20230911T173000
DTSTAMP:20260419T143753
CREATED:20230831T152547Z
LAST-MODIFIED:20230831T155014Z
UID:10063787-1694446200-1694453400@www.wcsu.edu
SUMMARY:Women's Tennis vs. Purchase College
DESCRIPTION:WESTCONN WOMEN’S TENNIS VS. PURCHASE COLLEGE: The Wolves will face Purchase College at 3:30 p.m. at the Westside Courts. For more information\, visit https://westconnathletics.com/.
URL:https://www.wcsu.edu/events/calendar/westconn-womens-tennis-vs-purchase-college/
LOCATION:Westside Tennis Courts\, 43 Lake Ave. Extension\, Danbury\, CT
CATEGORIES:Athletics
ATTACH;FMTTYPE=image/jpeg:https://www.wcsu.edu/events/wp-content/uploads/sites/181/2023/01/Womens-Tennis.jpg
END:VEVENT
BEGIN:VEVENT
DTSTART;TZID=America/New_York:20230916T130000
DTEND;TZID=America/New_York:20230916T150000
DTSTAMP:20260419T143753
CREATED:20230831T153046Z
LAST-MODIFIED:20230831T153046Z
UID:10063788-1694869200-1694876400@www.wcsu.edu
SUMMARY:Women's Tennis vs. Salem State
DESCRIPTION:WESTCONN WOMEN’S TENNIS VS. SALEM STATE UNIVERSITY: The Wolves will face Salem State University at 1 p.m. at the Westside Courts. For more information\, visit https://westconnathletics.com/.
URL:https://www.wcsu.edu/events/calendar/womens-tennis-vs-salem-state/
LOCATION:Westside Tennis Courts\, 43 Lake Ave. Extension\, Danbury\, CT
CATEGORIES:Athletics
ATTACH;FMTTYPE=image/jpeg:https://www.wcsu.edu/events/wp-content/uploads/sites/181/2023/01/Womens-Tennis.jpg
END:VEVENT
BEGIN:VEVENT
DTSTART;TZID=America/New_York:20230922T160000
DTEND;TZID=America/New_York:20230922T180000
DTSTAMP:20260419T143753
CREATED:20230831T153342Z
LAST-MODIFIED:20230831T153342Z
UID:10063789-1695398400-1695405600@www.wcsu.edu
SUMMARY:Women's Tennis vs. Bard College
DESCRIPTION:WESTCONN WOMEN’S TENNIS VS. PURCHASE COLLEGE: The Wolves will face Bard College at 4 p.m. at the Westside Courts. For more information\, visit https://westconnathletics.com/.
URL:https://www.wcsu.edu/events/calendar/womens-tennis-vs-bard-college/
LOCATION:Westside Tennis Courts\, 43 Lake Ave. Extension\, Danbury\, CT
CATEGORIES:Athletics
ATTACH;FMTTYPE=image/jpeg:https://www.wcsu.edu/events/wp-content/uploads/sites/181/2023/01/Womens-Tennis.jpg
END:VEVENT
BEGIN:VEVENT
DTSTART;TZID=America/New_York:20230923T130000
DTEND;TZID=America/New_York:20230923T150000
DTSTAMP:20260419T143753
CREATED:20230831T153544Z
LAST-MODIFIED:20230922T201516Z
UID:10063790-1695474000-1695481200@www.wcsu.edu
SUMMARY:Women's Tennis vs. VSU Castleton
DESCRIPTION:WESTCONN WOMEN’S TENNIS VS. VERMONT STATE UNIVERSITY CASTLETON : The Wolves will face Vermont State University Castleton.  For more information\, visit https://westconnathletics.com/. \nDue to expected inclement weather\, this match has been moved to the Middlebury Racquet Club in Middlebury\, Connecticut\, and will now start at 1:30 p.m.
URL:https://www.wcsu.edu/events/calendar/womens-tennis-vs-castleton-university/
LOCATION:Westside Tennis Courts\, 43 Lake Ave. Extension\, Danbury\, CT
CATEGORIES:Athletics
ATTACH;FMTTYPE=image/jpeg:https://www.wcsu.edu/events/wp-content/uploads/sites/181/2023/01/Womens-Tennis.jpg
END:VEVENT
BEGIN:VEVENT
DTSTART;TZID=America/New_York:20230930T130000
DTEND;TZID=America/New_York:20230930T150000
DTSTAMP:20260419T143753
CREATED:20230831T153732Z
LAST-MODIFIED:20230831T153732Z
UID:10063791-1696078800-1696086000@www.wcsu.edu
SUMMARY:Women's Tennis vs. Plymouth State
DESCRIPTION:WESTCONN WOMEN’S TENNIS VS. PLYMOUTH STATE UNIVERSITY: The Wolves will face Plymouth State University at 1 p.m. at the Westside Courts. For more information\, visit https://westconnathletics.com/.
URL:https://www.wcsu.edu/events/calendar/womens-tennis-vs-plymouth-state/
LOCATION:Westside Tennis Courts\, 43 Lake Ave. Extension\, Danbury\, CT
CATEGORIES:Athletics
ATTACH;FMTTYPE=image/jpeg:https://www.wcsu.edu/events/wp-content/uploads/sites/181/2023/01/Womens-Tennis.jpg
END:VEVENT
END:VCALENDAR