BEGIN:VCALENDAR
VERSION:2.0
PRODID:-//WCSU Events - ECPv6.15.17.1//NONSGML v1.0//EN
CALSCALE:GREGORIAN
METHOD:PUBLISH
X-WR-CALNAME:WCSU Events
X-ORIGINAL-URL:https://www.wcsu.edu/events
X-WR-CALDESC:Events for WCSU Events
REFRESH-INTERVAL;VALUE=DURATION:PT1H
X-Robots-Tag:noindex
X-PUBLISHED-TTL:PT1H
BEGIN:VTIMEZONE
TZID:UTC
BEGIN:STANDARD
TZOFFSETFROM:+0000
TZOFFSETTO:+0000
TZNAME:UTC
DTSTART:20200101T000000
END:STANDARD
END:VTIMEZONE
BEGIN:VEVENT
DTSTART;TZID=UTC:20220205T120000
DTEND;TZID=UTC:20220205T150000
DTSTAMP:20260420T130101
CREATED:20211029T191741Z
LAST-MODIFIED:20220202T014932Z
UID:10061546-1644062400-1644073200@www.wcsu.edu
SUMMARY:Women's and Men's Swimming and Diving
DESCRIPTION:WOMEN’S AND MEN’S SWIMMING AND DIVING: WestConn hosts a tri-match from noon to 3 p.m. with Westfield State University and UMass Dartmouth at the O’Neill Center Pool. \nSpectators are welcome again.
URL:https://www.wcsu.edu/events/calendar/womens-and-mens-swimming-and-diving/
LOCATION:O’Neill Center\, 43 Lake Ave. Extension\, Danbury\, CT
CATEGORIES:Athletics
ATTACH;FMTTYPE=image/jpeg:https://www.wcsu.edu/events/wp-content/uploads/sites/181/2021/10/25-swimming.jpg
END:VEVENT
BEGIN:VEVENT
DTSTART;TZID=UTC:20220202T173000
DTEND;TZID=UTC:20220202T213000
DTSTAMP:20260420T130101
CREATED:20211029T193746Z
LAST-MODIFIED:20220202T011259Z
UID:10061535-1643823000-1643837400@www.wcsu.edu
SUMMARY:Women's and Men's Basketball Doubleheader
DESCRIPTION:WOMEN’S AND MEN’S BASKETBALL HOST LEC DOUBLEHEADER: WestConn women’s and men’s basketball host Rhode Island College in a Little East Conference doubleheader at 5:30 p.m. in the Feldman Arena of the O’Neill Center. \nWomen @ 5:30 p.m.\nMen @ 7:30 p.m. \nSpectators are welcome again. Games can still be viewed at https://www.littleeast.tv/
URL:https://www.wcsu.edu/events/calendar/womens-and-mens-basketball-doubleheader-3/
LOCATION:O’Neill Center\, 43 Lake Ave. Extension\, Danbury\, CT
CATEGORIES:Athletics,Virtual event,WOW
ATTACH;FMTTYPE=image/jpeg:https://www.wcsu.edu/events/wp-content/uploads/sites/181/2021/10/22-basketball.jpg
END:VEVENT
BEGIN:VEVENT
DTSTART;TZID=UTC:20220129T130000
DTEND;TZID=UTC:20220129T170000
DTSTAMP:20260420T130101
CREATED:20211029T193916Z
LAST-MODIFIED:20220118T202116Z
UID:10059625-1643461200-1643475600@www.wcsu.edu
SUMMARY:Women's and Men's Basketball Doubleheader
DESCRIPTION:WOMEN’S AND MEN’S BASKETBALL HOST LEC DOUBLEHEADER: WestConn women’s and men’s basketball host UMass Dartmouth in a Little East Conference doubleheader at 1 p.m. in the Feldman Arena of the O’Neill Center. \nWomen @ 1 p.m.\nMen @ 3 p.m. \nDue to the surge in Covid cases across the country\, spectators are currently not allowed. Games can be viewed at https://www.littleeast.tv/
URL:https://www.wcsu.edu/events/calendar/womens-and-mens-basketball-doubleheader-4/
LOCATION:O’Neill Center\, 43 Lake Ave. Extension\, Danbury\, CT
CATEGORIES:Athletics
ATTACH;FMTTYPE=image/png:https://www.wcsu.edu/events/wp-content/uploads/sites/181/2021/10/Jan.-29-basketball-e1641307216414.png
END:VEVENT
BEGIN:VEVENT
DTSTART;TZID=UTC:20220126T173000
DTEND;TZID=UTC:20220126T213000
DTSTAMP:20260420T130101
CREATED:20211029T194523Z
LAST-MODIFIED:20220118T202139Z
UID:10059623-1643218200-1643232600@www.wcsu.edu
SUMMARY:Women's and Men's Basketball LEC Doubleheader
DESCRIPTION:WOMEN’S AND MEN’S BASKETBALL LEC DOUBLEHEADER: WestConn women’s and men’s basketball host UMass Boston in a Little East Conference doubleheader at 5:30 p.m. in the Feldman Arena of the O’Neill Center. \nWomen @ 5:30 p.m.\nMen @ 7:30 p.m. \nDue to the surge in Covid cases across the country\, spectators are currently not allowed. Games can be viewed at https://www.littleeast.tv/ \n 
URL:https://www.wcsu.edu/events/calendar/womens-and-mens-basketball-lec-doubleheader/
LOCATION:O’Neill Center\, 43 Lake Ave. Extension\, Danbury\, CT
CATEGORIES:Athletics
ATTACH;FMTTYPE=image/png:https://www.wcsu.edu/events/wp-content/uploads/sites/181/2021/10/Jan.-26-basketball-e1641303678621.png
END:VEVENT
BEGIN:VEVENT
DTSTART;TZID=UTC:20220122T140000
DTEND;TZID=UTC:20220122T170000
DTSTAMP:20260420T130101
CREATED:20220121T182039Z
LAST-MODIFIED:20220121T194605Z
UID:10061674-1642860000-1642870800@www.wcsu.edu
SUMMARY:Women's Basketball
DESCRIPTION:WOMEN’S BASKETBALL: WestConn vs UMass Dartmouth at 2 p.m.   \nDue to the surge in Covid cases across the country\, spectators are currently not allowed. Games can be viewed at https://www.littleeast.tv/
URL:https://www.wcsu.edu/events/calendar/womens-basketball-3/
LOCATION:Virtual
CATEGORIES:Athletics
ATTACH;FMTTYPE=image/jpeg:https://www.wcsu.edu/events/wp-content/uploads/sites/181/2022/01/Womens-Basketball.jpg
END:VEVENT
BEGIN:VEVENT
DTSTART;TZID=UTC:20220121T160000
DTEND;TZID=UTC:20220121T190000
DTSTAMP:20260420T130101
CREATED:20211029T192005Z
LAST-MODIFIED:20220120T020305Z
UID:10061545-1642780800-1642791600@www.wcsu.edu
SUMMARY:Women's and Men's Swimming and Diving
DESCRIPTION:WOMEN’S AND MEN’S SWIMMING AND DIVING: WestConn hosts William Paterson University from 4 to 7 p.m. at the O’Neill Center Pool. \nDue to the surge in Covid cases across the country\, spectators are currently not allowed.
URL:https://www.wcsu.edu/events/calendar/womens-and-mens-swimming-and-diving-2/
LOCATION:O’Neill Center\, 43 Lake Ave. Extension\, Danbury\, CT
CATEGORIES:Athletics
ATTACH;FMTTYPE=image/png:https://www.wcsu.edu/events/wp-content/uploads/sites/181/2021/10/Jan.-21-swimming-e1641303554656.png
END:VEVENT
BEGIN:VEVENT
DTSTART;TZID=UTC:20220119T173000
DTEND;TZID=UTC:20220119T213000
DTSTAMP:20260420T130101
CREATED:20211029T194652Z
LAST-MODIFIED:20220118T202155Z
UID:10059621-1642613400-1642627800@www.wcsu.edu
SUMMARY:Women's Basketball
DESCRIPTION:WOMEN’S BASKETBALL: WestConn women’s basketball will host intra-state rival Eastern Connecticut in a Little East Conference game at 5:30 p.m. in the Feldman Arena of the O’Neill Center. \nDue to the surge in Covid cases across the country\, spectators are currently not allowed. Games can be viewed at https://www.littleeast.tv/
URL:https://www.wcsu.edu/events/calendar/womens-and-mens-basketball-lec-doubleheader-2/
LOCATION:O’Neill Center\, 43 Lake Ave. Extension\, Danbury\, CT
CATEGORIES:Athletics
ATTACH;FMTTYPE=image/jpeg:https://www.wcsu.edu/events/wp-content/uploads/sites/181/2021/10/Jan.-19-basketball.jpg
END:VEVENT
BEGIN:VEVENT
DTSTART;TZID=UTC:20220117T160000
DTEND;TZID=UTC:20220117T180000
DTSTAMP:20260420T130101
CREATED:20211029T195019Z
LAST-MODIFIED:20220110T204950Z
UID:10059619-1642435200-1642442400@www.wcsu.edu
SUMMARY:Men's Basketball
DESCRIPTION:MEN’S BASKETBALL: WestConn Men’s Basketball hosts Keene State College in a Little East Conference game at 4 p.m. in the Feldman Arena of the O’Neill Center. This is a make-up for a game originally scheduled for Jan. 8. \nDue to the surge in Covid cases across the country\, spectators are currently not allowed.
URL:https://www.wcsu.edu/events/calendar/womens-and-mens-basketball-lec-doubleheader-3/
LOCATION:O’Neill Center\, 43 Lake Ave. Extension\, Danbury\, CT
CATEGORIES:Athletics
ATTACH;FMTTYPE=image/png:https://www.wcsu.edu/events/wp-content/uploads/sites/181/2021/10/Jan.-8-basketball-e1641303018980.png
END:VEVENT
BEGIN:VEVENT
DTSTART;TZID=UTC:20220117T140000
DTEND;TZID=UTC:20220117T160000
DTSTAMP:20260420T130101
CREATED:20211228T201424Z
LAST-MODIFIED:20220110T205032Z
UID:10059764-1642428000-1642435200@www.wcsu.edu
SUMMARY:Women's Basketball
DESCRIPTION:WOMEN’S BASKETBALL: WestConn women’s basketball hosts UMass Dartmouth at 2 p.m. in the Feldman Arena of the O’Neill Center. This is a make-up for a game originally scheduled for Jan. 5. \n  \nDue to the surge in Covid cases across the country\, spectators are currently not allowed.
URL:https://www.wcsu.edu/events/calendar/womens-and-mens-basketball-doubleheader-6/
LOCATION:O’Neill Center\, 43 Lake Ave. Extension\, Danbury\, CT
CATEGORIES:Athletics
ATTACH;FMTTYPE=image/png:https://www.wcsu.edu/events/wp-content/uploads/sites/181/2021/12/Jan.-5-basketball-e1641302884103.png
END:VEVENT
BEGIN:VEVENT
DTSTART;TZID=UTC:20220114T140000
DTEND;TZID=UTC:20220114T170000
DTSTAMP:20260420T130101
CREATED:20220113T182039Z
LAST-MODIFIED:20220113T190932Z
UID:10059772-1642168800-1642179600@www.wcsu.edu
SUMMARY:Men's Basketball
DESCRIPTION:MEN’S BASKETBALL: WestConn men’s basketball will host intra-state rival Eastern Connecticut in a Little East Conference game at 2 p.m. in the Feldman Arena of the O’Neill Center. \nDue to the surge in Covid cases across the country\, spectators are currently not allowed.
URL:https://www.wcsu.edu/events/calendar/mens-basketball-4/
LOCATION:O’Neill Center\, 43 Lake Ave. Extension\, Danbury\, CT
CATEGORIES:Athletics
ATTACH;FMTTYPE=image/jpeg:https://www.wcsu.edu/events/wp-content/uploads/sites/181/2022/01/114-basketball.jpg
END:VEVENT
BEGIN:VEVENT
DTSTART;TZID=UTC:20220112T150000
DTEND;TZID=UTC:20220112T180000
DTSTAMP:20260420T130101
CREATED:20211029T192311Z
LAST-MODIFIED:20220104T202525Z
UID:10061544-1641999600-1642010400@www.wcsu.edu
SUMMARY:Women's and Men's Swimming and Diving
DESCRIPTION:WOMEN’S AND MEN’S SWIMMING AND DIVING: WestConn will host a tri-match with FDU-Florham and Albertus Magnus College from 3 to 6 p.m. at the O’Neill Center Pool. \nDue to the surge in Covid cases across the country\, spectators are currently not allowed.
URL:https://www.wcsu.edu/events/calendar/womens-and-mens-swimming-and-diving-3/
LOCATION:O’Neill Center\, 43 Lake Ave. Extension\, Danbury\, CT
CATEGORIES:Athletics
ATTACH;FMTTYPE=image/png:https://www.wcsu.edu/events/wp-content/uploads/sites/181/2021/10/Jan.-12-swimming-e1641303287878.png
END:VEVENT
BEGIN:VEVENT
DTSTART;TZID=UTC:20211230T160000
DTEND;TZID=UTC:20211230T200000
DTSTAMP:20260420T130101
CREATED:20211029T192928Z
LAST-MODIFIED:20211228T225618Z
UID:10061540-1640880000-1640894400@www.wcsu.edu
SUMMARY:Hat City Tournament - Women's Basketball
DESCRIPTION:WOMEN’S BASKETBALL HAT CITY TOURNAMENT: The WestConn women’s basketball team hosts the annual Hat City Tournament in the Feldman Arena at the O’Neill Center. \nAll games will be played at Feldman Arena inside the William A. O’Neill Center on the school’s Westside campus.  All fans are required to be masked throughout the tournament and for all WestConn athletic events. \n12/30 – WCSU vs. SUNY Poly\, 4 p.m. \n12/31 – WCSU vs. SUNY Poly\, noon
URL:https://www.wcsu.edu/events/calendar/hat-city-tournament-womens-basketball-2/
LOCATION:O’Neill Center\, 43 Lake Ave. Extension\, Danbury\, CT
CATEGORIES:Athletics
ATTACH;FMTTYPE=image/jpeg:https://www.wcsu.edu/events/wp-content/uploads/sites/181/2021/10/Basketball-12-30.jpg
END:VEVENT
BEGIN:VEVENT
DTSTART;TZID=UTC:20211230T110000
DTEND;TZID=UTC:20211230T150000
DTSTAMP:20260420T130101
CREATED:20211029T195228Z
LAST-MODIFIED:20211222T211101Z
UID:10059617-1640862000-1640876400@www.wcsu.edu
SUMMARY:Men's Basketball Holiday Tournament
DESCRIPTION:MEN’S BASKETBALL HOLIDAY TOURNAMENT: WestConn Men’s Basketball Holiday Tournament  in the Feldman Arena of the O’Neill Center. \nDue to changes in COVID protocols at Elms College\, the Blazers had to withdraw from the upcoming Hat City Tournament. \nThe two-day event has now morphed into a three-day round-robin affair.  The updated schedule\, along with the WestConn Men’s Basketball Holiday Tournament slate\, can be seen below. \nAll games will be played at Feldman Arena inside the William A. O’Neill Center on the school’s Westside campus.  All fans are required to be masked throughout the tournament and for all WestConn athletic events. \nWednesday\, December 29\nMBB – WestConn vs. New Paltz\, 3 p.m.\nMBB – Cabrini vs. William Paterson\, 5 p.m.\nWBB – WestConn vs. Farmingdale\, 7 p.m. \nThursday\, December 30\nMBB – Consolation Game\, 11 a.m.\nMBB – Championship Game\, 1 p.m.\nWBB – Farmingdale vs. SUNY Poly\, 4 p.m. \nFriday\, December 31\nWBB – WestConn vs. SUNY Poly\, 1 p.m. \n 
URL:https://www.wcsu.edu/events/calendar/mens-basketball-holiday-tournament/
LOCATION:O’Neill Center\, 43 Lake Ave. Extension\, Danbury\, CT
CATEGORIES:Athletics
ATTACH;FMTTYPE=image/jpeg:https://www.wcsu.edu/events/wp-content/uploads/sites/181/2021/10/12-30-M-Basketball-Holiday.jpg
END:VEVENT
BEGIN:VEVENT
DTSTART;TZID=UTC:20211229T150000
DTEND;TZID=UTC:20211229T190000
DTSTAMP:20260420T130101
CREATED:20211029T195450Z
LAST-MODIFIED:20211222T210901Z
UID:10059615-1640790000-1640804400@www.wcsu.edu
SUMMARY:Men's Basketball Holiday Tournament
DESCRIPTION:MEN’S BASKETBALL HOLIDAY TOURNAMENT: WestConn Men’s Basketball hosts a two-day holiday tournament beginning at 3 p.m. in the Feldman Arena of the O’Neill Center. \nDue to changes in COVID protocols at Elms College\, the Blazers had to withdraw from the upcoming Hat City Tournament. \nThe two-day event has now morphed into a three-day round-robin affair.  The updated schedule\, along with the WestConn Men’s Basketball Holiday Tournament slate\, can be seen below. \nAll games will be played at Feldman Arena inside the William A. O’Neill Center on the school’s Westside campus.  All fans are required to be masked throughout the tournament and for all WestConn athletic events. \nWednesday\, December 29\nMBB – WestConn vs. New Paltz\, 3 p.m.\nMBB – Cabrini vs. William Paterson\, 5 p.m.\nWBB – WestConn vs. Farmingdale\, 7 p.m. \nThursday\, December 30\nMBB – Consolation Game\, 11 a.m.\nMBB – Championship Game\, 1 p.m.\nWBB – Farmingdale vs. SUNY Poly\, 4 p.m. \nFriday\, December 31\nWBB – WestConn vs. SUNY Poly\, 1 p.m. \n 
URL:https://www.wcsu.edu/events/calendar/mens-basketball-holiday-tournament-2/
LOCATION:O’Neill Center\, 43 Lake Ave. Extension\, Danbury\, CT
CATEGORIES:Athletics
ATTACH;FMTTYPE=image/jpeg:https://www.wcsu.edu/events/wp-content/uploads/sites/181/2021/10/12-29-M-Basketball-Holiday.jpg
END:VEVENT
BEGIN:VEVENT
DTSTART;TZID=UTC:20211204T130000
DTEND;TZID=UTC:20211204T170000
DTSTAMP:20260420T130101
CREATED:20211104T165910Z
LAST-MODIFIED:20211104T172351Z
UID:10061567-1638622800-1638637200@www.wcsu.edu
SUMMARY:Jody Rajcula Day
DESCRIPTION:JODY RAJCULA DAY: Coach Jody Rajcula’s induction into the LEC Hall of Fame Class of 2021\nDecember 4\, 2021 @ 1 p.m. \nJoin us immediately following the Women’s Basketball game vs. Plymouth State for a ceremony to recognize Coach Jody Rajcula on her induction into the LEC Hall of Fame. Reception to follow. Please RSVP via email to Crucittit@wcsu.edu by Friday\, Nov. 26.
URL:https://www.wcsu.edu/events/calendar/jody-rajcula-day/
LOCATION:O’Neill Center\, 43 Lake Ave. Extension\, Danbury\, CT
CATEGORIES:Alumni,Athletics
ATTACH;FMTTYPE=image/jpeg:https://www.wcsu.edu/events/wp-content/uploads/sites/181/2021/11/IMG_1376.jpg
END:VEVENT
BEGIN:VEVENT
DTSTART;TZID=UTC:20211204T130000
DTEND;TZID=UTC:20211204T170000
DTSTAMP:20260420T130101
CREATED:20211029T195617Z
LAST-MODIFIED:20211029T195630Z
UID:10059613-1638622800-1638637200@www.wcsu.edu
SUMMARY:Women's and Men's Basketball Doubleheader
DESCRIPTION:WOMEN’S AND MEN’S BASKETBALL DOUBLEHEADER: WestConn vs. Plymouth State University from 1 to 5 p.m. in the Feldman Arena of the O’Neill Center. \nWomen @ 1 p.m.\nMen @ 3 p.m.
URL:https://www.wcsu.edu/events/calendar/womens-and-mens-basketball-doubleheader-5/
LOCATION:O’Neill Center\, 43 Lake Ave. Extension\, Danbury\, CT
CATEGORIES:Athletics
END:VEVENT
BEGIN:VEVENT
DTSTART;TZID=UTC:20211130T193000
DTEND;TZID=UTC:20211130T213000
DTSTAMP:20260420T130101
CREATED:20211029T195753Z
LAST-MODIFIED:20211101T225949Z
UID:10059612-1638300600-1638307800@www.wcsu.edu
SUMMARY:Men's Basketball
DESCRIPTION:MEN’S BASKETBALL: WestConn vs. Manhattanville at 7:30 p.m. in the Feldman Arena of the O’Neill Center.
URL:https://www.wcsu.edu/events/calendar/mens-basketball/
LOCATION:O’Neill Center\, 43 Lake Ave. Extension\, Danbury\, CT
CATEGORIES:Athletics,WOW
ATTACH;FMTTYPE=image/jpeg:https://www.wcsu.edu/events/wp-content/uploads/sites/181/2021/10/Nov.-30-mens-basketball.jpg
END:VEVENT
BEGIN:VEVENT
DTSTART;TZID=UTC:20211130T173000
DTEND;TZID=UTC:20211130T193000
DTSTAMP:20260420T130101
CREATED:20211029T193103Z
LAST-MODIFIED:20211101T225843Z
UID:10061539-1638293400-1638300600@www.wcsu.edu
SUMMARY:Women's Basketball
DESCRIPTION:WOMEN’S BASKETBALL: WestConn women’s basketball hosts University of St. Joseph at 5:30 p.m. in the Feldman Arena of the O’Neill Center.
URL:https://www.wcsu.edu/events/calendar/womens-basketball/
LOCATION:O’Neill Center\, 43 Lake Ave. Extension\, Danbury\, CT
CATEGORIES:Athletics,WOW
ATTACH;FMTTYPE=image/jpeg:https://www.wcsu.edu/events/wp-content/uploads/sites/181/2021/10/Nov-30-womens-basketball.jpg
END:VEVENT
BEGIN:VEVENT
DTSTART;TZID=UTC:20211127T160000
DTEND;TZID=UTC:20211127T180000
DTSTAMP:20260420T130101
CREATED:20211029T193222Z
LAST-MODIFIED:20211101T225451Z
UID:10061538-1638028800-1638036000@www.wcsu.edu
SUMMARY:Women's Basketball
DESCRIPTION:WOMEN’S BASKETBALL: WestConn women’s basketball hosts John Jay College at 4 p.m. in the Feldman Arena of the O’Neill Center.
URL:https://www.wcsu.edu/events/calendar/womens-basketball-2/
LOCATION:O’Neill Center\, 43 Lake Ave. Extension\, Danbury\, CT
CATEGORIES:Athletics
ATTACH;FMTTYPE=image/jpeg:https://www.wcsu.edu/events/wp-content/uploads/sites/181/2021/10/Nov-27-womens-basketball.jpg
END:VEVENT
BEGIN:VEVENT
DTSTART;TZID=UTC:20211123T190000
DTEND;TZID=UTC:20211123T210000
DTSTAMP:20260420T130101
CREATED:20211029T200152Z
LAST-MODIFIED:20211101T225327Z
UID:10059611-1637694000-1637701200@www.wcsu.edu
SUMMARY:Men's Basketball
DESCRIPTION:MEN’S BASKETBALL: WestConn vs. St. Joseph’s of Brooklyn at 7 p.m. in the Feldman Arena of the O’Neill Center.
URL:https://www.wcsu.edu/events/calendar/mens-basketball-2/
LOCATION:O’Neill Center\, 43 Lake Ave. Extension\, Danbury\, CT
CATEGORIES:Athletics
ATTACH;FMTTYPE=image/jpeg:https://www.wcsu.edu/events/wp-content/uploads/sites/181/2021/10/Nov-23-mens-basketball-e1635791412494.jpg
END:VEVENT
BEGIN:VEVENT
DTSTART;TZID=UTC:20211113T130000
DTEND;TZID=UTC:20211113T150000
DTSTAMP:20260420T130101
CREATED:20211029T200311Z
LAST-MODIFIED:20211029T235203Z
UID:10059610-1636808400-1636815600@www.wcsu.edu
SUMMARY:Men's Basketball
DESCRIPTION:MEN’S BASKETBALL: Men’s Basketball vs. Mount St. Mary College at 1 p.m. in the Feldman Arena of the O’Neill Center.
URL:https://www.wcsu.edu/events/calendar/mens-basketball-3/
LOCATION:O’Neill Center\, 43 Lake Ave. Extension\, Danbury\, CT
CATEGORIES:Athletics,WOW
ATTACH;FMTTYPE=image/jpeg:https://www.wcsu.edu/events/wp-content/uploads/sites/181/2021/10/Basketball-11-13-e1635537097395.jpg
END:VEVENT
BEGIN:VEVENT
DTSTART;TZID=UTC:20211113T120000
DTEND;TZID=UTC:20211113T150000
DTSTAMP:20260420T130101
CREATED:20211029T192613Z
LAST-MODIFIED:20211101T222858Z
UID:10061542-1636804800-1636815600@www.wcsu.edu
SUMMARY:Women's and Men's Swimming and Diving
DESCRIPTION:WOMEN’S AND MEN’S SWIMMING AND DIVING: WestConn women and men will host Plymouth State University at noon at the O’Neill Center Pool.
URL:https://www.wcsu.edu/events/calendar/womens-and-mens-swimming-and-diving-5/
LOCATION:O’Neill Center\, 43 Lake Ave. Extension\, Danbury\, CT
CATEGORIES:Athletics
ATTACH;FMTTYPE=image/jpeg:https://www.wcsu.edu/events/wp-content/uploads/sites/181/2021/10/Nov-13-swimming.jpg
END:VEVENT
BEGIN:VEVENT
DTSTART;TZID=UTC:20211107T130000
DTEND;TZID=UTC:20211107T170000
DTSTAMP:20260420T130101
CREATED:20211029T200449Z
LAST-MODIFIED:20211101T222736Z
UID:10061534-1636290000-1636304400@www.wcsu.edu
SUMMARY:Men's Basketball Tip-Off Tournament
DESCRIPTION:MEN’S BASKETBALL TIP-OFF TOURNAMENT: WestConn Tip-Off Tournament from 1 to 5 p.m. in the Feldman Arena of the O’Neill Center. \nConsolation and Championship Games 1 & 3 p.m.
URL:https://www.wcsu.edu/events/calendar/mens-basketball-tip-off-tournament/
LOCATION:O’Neill Center\, 43 Lake Ave. Extension\, Danbury\, CT
CATEGORIES:Athletics
ATTACH;FMTTYPE=image/jpeg:https://www.wcsu.edu/events/wp-content/uploads/sites/181/2021/10/Nov-7-mens-basketball.jpg
END:VEVENT
BEGIN:VEVENT
DTSTART;TZID=UTC:20211106T120000
DTEND;TZID=UTC:20211106T150000
DTSTAMP:20260420T130101
CREATED:20211029T192433Z
LAST-MODIFIED:20211101T222517Z
UID:10061543-1636200000-1636210800@www.wcsu.edu
SUMMARY:Women's and Men's Swimming and Diving
DESCRIPTION:WOMEN’S AND MEN’S SWIMMING AND DIVING: WestConn will host New Paltz at noon at the O’Neill Center Pool.
URL:https://www.wcsu.edu/events/calendar/womens-and-mens-swimming-and-diving-4/
LOCATION:O’Neill Center\, 43 Lake Ave. Extension\, Danbury\, CT
CATEGORIES:Athletics
ATTACH;FMTTYPE=image/jpeg:https://www.wcsu.edu/events/wp-content/uploads/sites/181/2021/10/Nov-6-swimming.jpg
END:VEVENT
BEGIN:VEVENT
DTSTART;TZID=UTC:20211104T180000
DTEND;TZID=UTC:20211104T203000
DTSTAMP:20260420T130101
CREATED:20211102T175425Z
LAST-MODIFIED:20211104T163010Z
UID:10061556-1636048800-1636057800@www.wcsu.edu
SUMMARY:Women's Soccer - Little East Tournament
DESCRIPTION:WOMEN’S SOCCER – LITTLE EAST TOURNAMENT: WestConn takes on either Eastern Connecticut State University of University of Southern Maine in the LEC Semifinals at 6 p.m. in the Westside Athletic Complex.
URL:https://www.wcsu.edu/events/calendar/womens-soccer-little-east-tournament/
LOCATION:Westside Athletic Complex\, 43 Lake Ave. Extension\, Danbury\, CT
CATEGORIES:Athletics
END:VEVENT
BEGIN:VEVENT
DTSTART;TZID=UTC:20211102T190000
DTEND;TZID=UTC:20211102T210000
DTSTAMP:20260420T130101
CREATED:20211102T175231Z
LAST-MODIFIED:20211102T175231Z
UID:10061555-1635879600-1635886800@www.wcsu.edu
SUMMARY:Women's Volleyball - Little East Tournament
DESCRIPTION:WOMEN’S VOLLEYBALL – LITTLE EAST TOURNAMENT: WestConn takes on intra-state rival Eastern Connecticut State University in the LEC Quarterfinals at 7 p.m. in the Feldman Arena of the O’Neill Center.
URL:https://www.wcsu.edu/events/calendar/womens-volleyball-little-east-tournament/
LOCATION:O’Neill Center\, 43 Lake Ave. Extension\, Danbury\, CT
CATEGORIES:Athletics
END:VEVENT
BEGIN:VEVENT
DTSTART;TZID=UTC:20211102T160000
DTEND;TZID=UTC:20211102T183000
DTSTAMP:20260420T130101
CREATED:20211102T175028Z
LAST-MODIFIED:20211104T162911Z
UID:10061554-1635868800-1635877800@www.wcsu.edu
SUMMARY:Men's Soccer - Little East Tournament
DESCRIPTION:MEN’S SOCCER – LITTLE EAST TOURNAMENT: WestConn takes on UMass Dartmouth in the LEC Quarterfinals at 4 p.m. at the Westside Athletic Complex.
URL:https://www.wcsu.edu/events/calendar/mens-soccer-little-east-tournament/
LOCATION:Westside Athletic Complex\, 43 Lake Ave. Extension\, Danbury\, CT
CATEGORIES:Athletics
END:VEVENT
BEGIN:VEVENT
DTSTART;TZID=UTC:20211030T130000
DTEND;TZID=UTC:20211030T150000
DTSTAMP:20260420T130101
CREATED:20210720T231313Z
LAST-MODIFIED:20211022T221512Z
UID:10060319-1635598800-1635606000@www.wcsu.edu
SUMMARY:Field Hockey
DESCRIPTION:FIELD HOCKEY: WestConn Field Hockey vs. Plymouth State University at 1 p.m. at the Westside Athletic Complex.
URL:https://www.wcsu.edu/events/calendar/field-hockey/
LOCATION:Westside Athletic Complex\, 43 Lake Ave. Extension\, Danbury\, CT
CATEGORIES:Athletics,WOW
ATTACH;FMTTYPE=image/jpeg:https://www.wcsu.edu/events/wp-content/uploads/sites/181/2021/07/1030-field-hockey.jpg
END:VEVENT
BEGIN:VEVENT
DTSTART;TZID=UTC:20211030T100000
DTEND;TZID=UTC:20211030T120000
DTSTAMP:20260420T130101
CREATED:20210720T224629Z
LAST-MODIFIED:20211022T221451Z
UID:10060340-1635588000-1635595200@www.wcsu.edu
SUMMARY:Men's Soccer
DESCRIPTION:MEN’S SOCCER: WestConn Men’s Soccer vs. University of Southern Maine at 10 a.m. at the Westside Athletic Complex.
URL:https://www.wcsu.edu/events/calendar/mens-soccer/
LOCATION:Westside Athletic Complex\, 43 Lake Ave. Extension\, Danbury\, CT
CATEGORIES:Athletics,WOW
ATTACH;FMTTYPE=image/jpeg:https://www.wcsu.edu/events/wp-content/uploads/sites/181/2021/07/1030-mens-soccer-e1633353091759.jpg
END:VEVENT
BEGIN:VEVENT
DTSTART;TZID=UTC:20211027T180000
DTEND;TZID=UTC:20211027T200000
DTSTAMP:20260420T130101
CREATED:20210720T224759Z
LAST-MODIFIED:20211004T171032Z
UID:10060327-1635357600-1635364800@www.wcsu.edu
SUMMARY:Men's Soccer
DESCRIPTION:MEN’S SOCCER: WestConn Men’s Soccer vs. Pratt Institute at 6 p.m. at the Westside Athletic Complex.
URL:https://www.wcsu.edu/events/calendar/mens-soccer-2/
LOCATION:Westside Athletic Complex\, 43 Lake Ave. Extension\, Danbury\, CT
CATEGORIES:Athletics,WOW
ATTACH;FMTTYPE=image/jpeg:https://www.wcsu.edu/events/wp-content/uploads/sites/181/2021/07/1027-mens-soccer.jpg
END:VEVENT
END:VCALENDAR