BEGIN:VCALENDAR
VERSION:2.0
PRODID:-//WCSU Events - ECPv6.15.17.1//NONSGML v1.0//EN
CALSCALE:GREGORIAN
METHOD:PUBLISH
X-WR-CALNAME:WCSU Events
X-ORIGINAL-URL:https://www.wcsu.edu/events
X-WR-CALDESC:Events for WCSU Events
REFRESH-INTERVAL;VALUE=DURATION:PT1H
X-Robots-Tag:noindex
X-PUBLISHED-TTL:PT1H
BEGIN:VTIMEZONE
TZID:America/New_York
BEGIN:DAYLIGHT
TZOFFSETFROM:-0500
TZOFFSETTO:-0400
TZNAME:EDT
DTSTART:20230312T070000
END:DAYLIGHT
BEGIN:STANDARD
TZOFFSETFROM:-0400
TZOFFSETTO:-0500
TZNAME:EST
DTSTART:20231105T060000
END:STANDARD
BEGIN:DAYLIGHT
TZOFFSETFROM:-0500
TZOFFSETTO:-0400
TZNAME:EDT
DTSTART:20240310T070000
END:DAYLIGHT
BEGIN:STANDARD
TZOFFSETFROM:-0400
TZOFFSETTO:-0500
TZNAME:EST
DTSTART:20241103T060000
END:STANDARD
BEGIN:DAYLIGHT
TZOFFSETFROM:-0500
TZOFFSETTO:-0400
TZNAME:EDT
DTSTART:20250309T070000
END:DAYLIGHT
BEGIN:STANDARD
TZOFFSETFROM:-0400
TZOFFSETTO:-0500
TZNAME:EST
DTSTART:20251102T060000
END:STANDARD
BEGIN:DAYLIGHT
TZOFFSETFROM:-0500
TZOFFSETTO:-0400
TZNAME:EDT
DTSTART:20260308T070000
END:DAYLIGHT
BEGIN:STANDARD
TZOFFSETFROM:-0400
TZOFFSETTO:-0500
TZNAME:EST
DTSTART:20261101T060000
END:STANDARD
BEGIN:DAYLIGHT
TZOFFSETFROM:-0500
TZOFFSETTO:-0400
TZNAME:EDT
DTSTART:20270314T070000
END:DAYLIGHT
BEGIN:STANDARD
TZOFFSETFROM:-0400
TZOFFSETTO:-0500
TZNAME:EST
DTSTART:20271107T060000
END:STANDARD
END:VTIMEZONE
BEGIN:VEVENT
DTSTART;TZID=America/New_York:20260411T170000
DTEND;TZID=America/New_York:20260411T183000
DTSTAMP:20260424T100349
CREATED:20260409T172813Z
LAST-MODIFIED:20260409T172813Z
UID:10074522-1775926800-1775932200@www.wcsu.edu
SUMMARY:Mobius by Esther Goldstein - New Works Series
DESCRIPTION:MOBIUS BY ESTHER GOLDSTEIN – NEW WORKS SERIES: “Mobius” is a play written by Esther Goldstein. We will have a staged reading of it in Room 334 of the Visual and Performing Arts Center on the Westside campus at 5 p.m.
URL:https://www.wcsu.edu/events/calendar/mobius-by-esther-goldstein-new-works-series/
LOCATION:VPAC\, Room 334\, 43 Lake Ave. Extension\, Danbury\, CT
CATEGORIES:Theatre
ATTACH;FMTTYPE=image/jpeg:https://www.wcsu.edu/events/wp-content/uploads/sites/181/2023/09/VPAC.jpg
END:VEVENT
BEGIN:VEVENT
DTSTART;TZID=America/New_York:20260328T190000
DTEND;TZID=America/New_York:20260328T203000
DTSTAMP:20260424T100349
CREATED:20260323T142031Z
LAST-MODIFIED:20260323T142031Z
UID:10074477-1774724400-1774729800@www.wcsu.edu
SUMMARY:DATE NIGHT: Or\, An Orphans Journey by Ethan W. Doyle and Gabrielle Tapper - New Work Series
DESCRIPTION:DATE NIGHT: Or\, An Orphans Journey is a play written by Ethan W. Doyle and Gabrielle Tapper. We will have a staged reading at 7 p.m. in Room 334 of the VPAC.
URL:https://www.wcsu.edu/events/calendar/date-night-or-an-orphans-journey-by-ethan-w-doyle-and-gabrielle-tapper-new-work-series/
LOCATION:VPAC\, Room 334\, 43 Lake Ave. Extension\, Danbury\, CT
CATEGORIES:Theatre
ATTACH;FMTTYPE=image/jpeg:https://www.wcsu.edu/events/wp-content/uploads/sites/181/2023/09/VPAC.jpg
END:VEVENT
BEGIN:VEVENT
DTSTART;TZID=America/New_York:20260308T200000
DTEND;TZID=America/New_York:20260308T220000
DTSTAMP:20260424T100349
CREATED:20260306T134025Z
LAST-MODIFIED:20260306T134025Z
UID:10074437-1773000000-1773007200@www.wcsu.edu
SUMMARY:Centerstage Karaoke Night
DESCRIPTION:CENTERSTAGE KARAOKE NIGHT: Karaoke Night will happen at the Pinney Hall Lounge on the Westside campus from 8 to 10 p.m.! Come for music\, snacks\, raffles\, and fun with your friends!
URL:https://www.wcsu.edu/events/calendar/centerstage-karaoke-night/
LOCATION:Pinney Hall Lounge\, 43 Lake Ave. Extension\, Danbury\, CT
CATEGORIES:Music,Social Event,Visual & Performing Arts
ATTACH;FMTTYPE=image/jpeg:https://www.wcsu.edu/events/wp-content/uploads/sites/181/2020/10/Pinney-Hall-e1772804407772.jpg
END:VEVENT
BEGIN:VEVENT
DTSTART;TZID=America/New_York:20260307T183000
DTEND;TZID=America/New_York:20260307T203000
DTSTAMP:20260424T100349
CREATED:20260306T134349Z
LAST-MODIFIED:20260306T134349Z
UID:10074436-1772908200-1772915400@www.wcsu.edu
SUMMARY:'After Class' by Bella Husk- New Work Series
DESCRIPTION:‘AFTER CLASS’ BY BELLA HUSK – NEW WORK SERIES: “After Class” is a play written by Bella Husk. We will have a staged reading of it from 6:30 to 8:30 p.m. in Room 334 of the VPAC on the Westside campus.
URL:https://www.wcsu.edu/events/calendar/after-class-by-bella-husk-new-work-series/
LOCATION:VPAC\, Room 334\, 43 Lake Ave. Extension\, Danbury\, CT
CATEGORIES:Theatre
ATTACH;FMTTYPE=image/jpeg:https://www.wcsu.edu/events/wp-content/uploads/sites/181/2023/09/VPAC.jpg
END:VEVENT
BEGIN:VEVENT
DTSTART;TZID=America/New_York:20251206T200000
DTEND;TZID=America/New_York:20251206T220000
DTSTAMP:20260424T100349
CREATED:20251114T191357Z
LAST-MODIFIED:20251205T153714Z
UID:10072686-1765051200-1765058400@www.wcsu.edu
SUMMARY:Take Centerstage
DESCRIPTION:TAKE CENTERSTAGE: Take Centerstage is a performance that consists of 10-minute adaptations of plays and musicals! Our shows this year are: “Aunt Leaf\,” directed by Logan Perrault; “13\,” directed by Paul Carlantone; “Co-op\,” directed by Brian Cummins; “Merrily We Roll Along\,” directed by Ben Goffredo; “Fun Home\,” directed by Nyelle Gogarty; and “Seussical\,” directed by Amanda Seery. From 8 to 10 p.m. in the Studio Theater in the Visual and Performing Arts Center on the Westside campus.
URL:https://www.wcsu.edu/events/calendar/take-centerstage/
LOCATION:Studio Theatre\, VPAC\, 43 Lake Ave. Extension\, Danbury\, CT
CATEGORIES:Theatre
ATTACH;FMTTYPE=image/jpeg:https://www.wcsu.edu/events/wp-content/uploads/sites/181/2023/02/VPAC-2022-e1677097850198.jpg
END:VEVENT
BEGIN:VEVENT
DTSTART;TZID=America/New_York:20240907T160000
DTEND;TZID=America/New_York:20240907T203000
DTSTAMP:20260424T100349
CREATED:20240821T182642Z
LAST-MODIFIED:20240828T162917Z
UID:10067760-1725724800-1725741000@www.wcsu.edu
SUMMARY:CenterStage's The New Works Festival
DESCRIPTION:CENTERSTAGE’S THE NEW WORKS FESTIVAL:  \nThe New Works Festival! Celebrating the future of theatre arts \nPresented by CenterStage\, a WCSU student organization \n4 – 5:30 p.m. – Staged Reading of “Lost Gravity\,” a new play written by Rowan Cunningham\, directed by August Kittleson \n6:30 – 8 p.m. – Workshop & Conference \n“Hair\, costumes and makeup in showbiz: addressing it.” – Janelle Robinson\, from the original Broadway Cast of “Mary Poppins” and Broadway revival of “Oklahoma.” \n“Dance: Past\, Present and Future – How we educate is how we can begin to make change.” – Jenifer Turey\, former Radio City Rockette and Broadway National Tour of “42nd Street” and “Will Rogers’ Follies.” \n“Theatre Arts Leaders: Representation\, Creativity\, The Future” – moderated by WCSU faculty member Dr. Donald P. Gagnon and featuring all 2024-25 WCSU Theatre Arts student organization presidents. \nHands-on workshop and snack session: Create and take home your own “Everything” Jar through a guided workshop. \n  \nOpen to the public\, make reservations and purchase a ticket at www.eventbrite.com/e/centerstage-presents-the-new-works-festival-tickets-938741690667?aff=ebdsoporgprofile. \n 
URL:https://www.wcsu.edu/events/calendar/centerstages-the-new-works-festival/
LOCATION:Visual & Performing Arts Center\, 43 Lake Ave. Extension\, Danbury\, CT\, 06811
CATEGORIES:Dance,Diversity,Entertainment,Social Event,Theater,Visual & Performing Arts,WOW
ATTACH;FMTTYPE=image/jpeg:https://www.wcsu.edu/events/wp-content/uploads/sites/181/2024/08/Centerstage_500x300.jpg
END:VEVENT
END:VCALENDAR