BEGIN:VCALENDAR
VERSION:2.0
PRODID:-//WCSU Events - ECPv6.15.17.1//NONSGML v1.0//EN
CALSCALE:GREGORIAN
METHOD:PUBLISH
X-WR-CALNAME:WCSU Events
X-ORIGINAL-URL:https://www.wcsu.edu/events
X-WR-CALDESC:Events for WCSU Events
REFRESH-INTERVAL;VALUE=DURATION:PT1H
X-Robots-Tag:noindex
X-PUBLISHED-TTL:PT1H
BEGIN:VTIMEZONE
TZID:UTC
BEGIN:STANDARD
TZOFFSETFROM:+0000
TZOFFSETTO:+0000
TZNAME:UTC
DTSTART:20200101T000000
END:STANDARD
END:VTIMEZONE
BEGIN:VEVENT
DTSTART;TZID=UTC:20220301T000000
DTEND;TZID=UTC:20220301T235900
DTSTAMP:20260419T201123
CREATED:20220222T183331Z
LAST-MODIFIED:20220305T013232Z
UID:10061821-1646092800-1646179140@www.wcsu.edu
SUMMARY:"Tastes of Danbury"
DESCRIPTION:TASTES OF DANBURY MEAL DEAL – MARCH 2022: CityCenter Danbury is excited to announce a very tasty event scheduled for the month of March – “Tastes of Danbury.”\nLooking for a great way to get out and enjoy life while introducing your palate to some delicious food? For only $25\, you can enjoy a variety of delicious meals from four different establishments throughout our downtown area! You read that right\, one payment of $25 gets you four (4) different meals\, and you can go whenever you want through the month of March; that’s less than $10 a meal\, talk about savings!!! With so many awesome restaurants to check out\, we had to split them into multiple months. We have planned out a slightly gluttonous itinerary\, so all you have to do is put on a pair of eating pants – trust us\, you’ll need ’em! \nTo purchase tickets and for more details\, please go to the link below! \nhttps://citycenterdanbury.com/event/tastes-of-danbury
URL:https://www.wcsu.edu/events/calendar/tastes-of-danbury/2022-03-01/
LOCATION:various locations
CATEGORIES:Entertainment,Food,Social Event
ATTACH;FMTTYPE=image/png:https://www.wcsu.edu/events/wp-content/uploads/sites/181/2022/02/2022-02-20_11h04_30.png
ORGANIZER;CN="CityCenter Danbury":MAILTO:Lazaro@citycenterdanbury.com
END:VEVENT
BEGIN:VEVENT
DTSTART;TZID=UTC:20210917T100000
DTEND;TZID=UTC:20210917T140000
DTSTAMP:20260419T201123
CREATED:20210625T193426Z
LAST-MODIFIED:20210916T224533Z
UID:10060303-1631872800-1631887200@www.wcsu.edu
SUMMARY:Danbury Farmers' Market
DESCRIPTION:AFFILIATED EVENT: DANBURY FARMERS’ MARKET: Every Friday\, from June 25 through Oct. 29\, the Danbury Farmers’ Market community is thrilled for everyone to share in the excitement and benefits of fresh local fruits\, vegetables and specialty food items & more. Come join us from 10 a.m. to 2 p.m. at the Danbury Railway Museum just a few minutes walk from the Midtown campus and enjoy all organic produce and home made crafts from a variety of vendors. If you’re looking for fresh produce\, healthy choice or guidance throughout our Danbury community\, then this is the place to be!! \n  \nGet your Flu Shot Today at the Market!
URL:https://www.wcsu.edu/events/calendar/danbury-farmers-market-2021-09-17/
LOCATION:Danbury Railway Museum\, 120 White Street\, Danbury\, CT\, 06810\, United States
CATEGORIES:Food,WOW
ATTACH;FMTTYPE=image/jpeg:https://www.wcsu.edu/events/wp-content/uploads/sites/181/2021/06/Flu-Clinic.jpg
ORGANIZER;CN="CityCenter Danbury":MAILTO:Lazaro@citycenterdanbury.com
END:VEVENT
BEGIN:VEVENT
DTSTART;TZID=UTC:20210910T100000
DTEND;TZID=UTC:20210910T140000
DTSTAMP:20260419T201123
CREATED:20210625T193426Z
LAST-MODIFIED:20210909T234517Z
UID:10060301-1631268000-1631282400@www.wcsu.edu
SUMMARY:Danbury Farmers' Market
DESCRIPTION:AFFILIATED EVENT: DANBURY FARMER’S MARKET: Every Friday\, from June 25 through October 29\, the Danbury Farmers’ Market community is thrilled for everyone to share in the excitement and benefits of fresh local fruits\, vegetables and specialty food items & more. Come join us from 10 a.m. to 2 p.m. at the Danbury Railway Museum just a few minutes walk from the Midtown campus and enjoy all organic produce and home made crafts from a variety of vendors. If you’re looking for fresh produce\, healthy choice or guidance throughout our Danbury community\, then this is the place to be!! Click on the
URL:https://www.wcsu.edu/events/calendar/danbury-farmers-market-2021-09-10/
LOCATION:Danbury Railway Museum\, 120 White Street\, Danbury\, CT\, 06810\, United States
CATEGORIES:Food,WOW
ATTACH;FMTTYPE=image/jpeg:https://www.wcsu.edu/events/wp-content/uploads/sites/181/2021/06/Farmers-Market-400.jpg
ORGANIZER;CN="CityCenter Danbury":MAILTO:Lazaro@citycenterdanbury.com
END:VEVENT
END:VCALENDAR