BEGIN:VCALENDAR
VERSION:2.0
PRODID:-//WCSU Events - ECPv6.15.17.1//NONSGML v1.0//EN
CALSCALE:GREGORIAN
METHOD:PUBLISH
X-WR-CALNAME:WCSU Events
X-ORIGINAL-URL:https://www.wcsu.edu/events
X-WR-CALDESC:Events for WCSU Events
REFRESH-INTERVAL;VALUE=DURATION:PT1H
X-Robots-Tag:noindex
X-PUBLISHED-TTL:PT1H
BEGIN:VTIMEZONE
TZID:America/New_York
BEGIN:DAYLIGHT
TZOFFSETFROM:-0500
TZOFFSETTO:-0400
TZNAME:EDT
DTSTART:20230312T070000
END:DAYLIGHT
BEGIN:STANDARD
TZOFFSETFROM:-0400
TZOFFSETTO:-0500
TZNAME:EST
DTSTART:20231105T060000
END:STANDARD
BEGIN:DAYLIGHT
TZOFFSETFROM:-0500
TZOFFSETTO:-0400
TZNAME:EDT
DTSTART:20240310T070000
END:DAYLIGHT
BEGIN:STANDARD
TZOFFSETFROM:-0400
TZOFFSETTO:-0500
TZNAME:EST
DTSTART:20241103T060000
END:STANDARD
BEGIN:DAYLIGHT
TZOFFSETFROM:-0500
TZOFFSETTO:-0400
TZNAME:EDT
DTSTART:20250309T070000
END:DAYLIGHT
BEGIN:STANDARD
TZOFFSETFROM:-0400
TZOFFSETTO:-0500
TZNAME:EST
DTSTART:20251102T060000
END:STANDARD
BEGIN:DAYLIGHT
TZOFFSETFROM:-0500
TZOFFSETTO:-0400
TZNAME:EDT
DTSTART:20260308T070000
END:DAYLIGHT
BEGIN:STANDARD
TZOFFSETFROM:-0400
TZOFFSETTO:-0500
TZNAME:EST
DTSTART:20261101T060000
END:STANDARD
END:VTIMEZONE
BEGIN:VTIMEZONE
TZID:UTC
BEGIN:STANDARD
TZOFFSETFROM:+0000
TZOFFSETTO:+0000
TZNAME:UTC
DTSTART:20200101T000000
END:STANDARD
END:VTIMEZONE
BEGIN:VEVENT
DTSTART;TZID=America/New_York:20250929T093000
DTEND;TZID=America/New_York:20250929T123000
DTSTAMP:20260420T071815
CREATED:20250910T132025Z
LAST-MODIFIED:20250910T132025Z
UID:10071964-1759138200-1759149000@www.wcsu.edu
SUMMARY:Social Workers Navigating Stressful Times
DESCRIPTION:SOCIAL WORKERS NAVIGATING STRESSFUL TIMES: This mini-conference features Tabatha Sookdeo\, Executive Director for Connecticut Students for a Dream\, as the keynote speaker. She will discuss the challenges facing the immigrant community and what we need to know. Breakout sessions will include speakers discussing how to help our clients manage personal\, emotional\, and financial stress. The conference also includes breakout sessions on how we\, as providers\, can manage our own stress. From 9:30 a.m. to 12:30 p.m. in the Midtown Student Center. Registration is required: https://forms.gle/aREJSynkEr6YuH378
URL:https://www.wcsu.edu/events/calendar/social-workers-navigating-stressful-times/
LOCATION:Midtown Student Center\, 181 White St.\, Danbury\, CT
CATEGORIES:Speaker
ATTACH;FMTTYPE=image/jpeg:https://www.wcsu.edu/events/wp-content/uploads/sites/181/2023/02/Midtown-Student-Center.jpg
END:VEVENT
BEGIN:VEVENT
DTSTART;TZID=America/New_York:20250226T110000
DTEND;TZID=America/New_York:20250226T130000
DTSTAMP:20260420T071815
CREATED:20250213T161426Z
LAST-MODIFIED:20250213T161426Z
UID:10070918-1740567600-1740574800@www.wcsu.edu
SUMMARY:Misconception of the Angry Black Woman
DESCRIPTION:MISCONCEPTION OF THE ANGRY BLACK WOMAN: The Misconceptions of the Angry Black Woman training is an engaging and thought-provoking exploration of the stereotypes and realities surrounding the Angry Black Woman narrative. This training series seeks to unpack the historical roots\, societal impact\, and contemporary implications of this harmful stereotype\, while fostering understanding\, empathy\, and allyship among participants. The training will be presented from 11 a.m. to 1 pm. virtually by Shauna L. Figueroa\, LCSW. \nSponsored by WCSU’s Social Work Department. Register at https://us06web.zoom.us/meeting/register/cwp-gRVIRt-iBye51NoVfA
URL:https://www.wcsu.edu/events/calendar/misconception-of-the-angry-black-woman/
LOCATION:Virtual
CATEGORIES:Discussion,Diversity,Virtual event,Webinar,WOW
ATTACH;FMTTYPE=image/jpeg:https://www.wcsu.edu/events/wp-content/uploads/sites/181/2025/01/bhm3_500x300.jpg
END:VEVENT
BEGIN:VEVENT
DTSTART;TZID=America/New_York:20240502T190000
DTEND;TZID=America/New_York:20240502T203000
DTSTAMP:20260420T071815
CREATED:20240425T190220Z
LAST-MODIFIED:20240502T161620Z
UID:10065976-1714676400-1714681800@www.wcsu.edu
SUMMARY:Alpha Phi Alpha Informational Session
DESCRIPTION:ALPHA PHI ALPHA INFORMATIONAL SESSION: Join us for an enlightening evening as The Mu Chapter of Alpha Phi Alpha Fraternity\, Inc. hosts an informational session. This event is a wonderful opportunity for interested students to learn about the rich history\, mission\, and life-changing community service initiatives of Alpha Phi Alpha. Gain insights into the fraternity’s profound impact on leadership and brotherhood\, both locally and globally. Whether you’re considering membership or simply wish to learn more about our prestigious organization\, this session will provide valuable information and the chance to connect with current brothers. at 7 p.m. in Room 202 of the Midtown Student Center. Business professional attire required\, please.
URL:https://www.wcsu.edu/events/calendar/alpha-phi-alpha-informational-session/
LOCATION:Midtown Student Center\, 181 White St.\, Danbury\, CT
CATEGORIES:Greek life,Information Session,Leadership,Meeting,WOW
ATTACH;FMTTYPE=image/png:https://www.wcsu.edu/events/wp-content/uploads/sites/181/2023/10/10_26-Conversation-with-the-President-–-The-Commuter-Student-Experience.png
END:VEVENT
BEGIN:VEVENT
DTSTART;TZID=UTC:20211210T000000
DTEND;TZID=UTC:20211210T235900
DTSTAMP:20260420T071815
CREATED:20211118T002326Z
LAST-MODIFIED:20211118T002326Z
UID:10059720-1639094400-1639180740@www.wcsu.edu
SUMMARY:Afghan Refugee Item Drive
DESCRIPTION:AFGHAN REFUGEE ITEM DRIVE: The Department of Social Work invites you to participate in our Item Drive for Afghan refugees resettling into our area. Connecticut has welcomed 214 emergency evacuees from Afghanistan and is on a path to welcoming 500 more. Items will be donated to the Integrated Refugee & Immigrant Services (IRIS). Every item helps! Drop off in the Department of Social Work in White Hall.
URL:https://www.wcsu.edu/events/calendar/afghan-refugee-item-drive/2021-12-10/
LOCATION:Midtown campus\, 181 White St.\, Danbury\, CT
CATEGORIES:Charity/Fundraising
ATTACH;FMTTYPE=image/png:https://www.wcsu.edu/events/wp-content/uploads/sites/181/2021/11/Item-Drive-Flyer.png
END:VEVENT
BEGIN:VEVENT
DTSTART;TZID=UTC:20211209T000000
DTEND;TZID=UTC:20211209T235900
DTSTAMP:20260420T071815
CREATED:20211118T002326Z
LAST-MODIFIED:20211118T002326Z
UID:10059719-1639008000-1639094340@www.wcsu.edu
SUMMARY:Afghan Refugee Item Drive
DESCRIPTION:AFGHAN REFUGEE ITEM DRIVE: The Department of Social Work invites you to participate in our Item Drive for Afghan refugees resettling into our area. Connecticut has welcomed 214 emergency evacuees from Afghanistan and is on a path to welcoming 500 more. Items will be donated to the Integrated Refugee & Immigrant Services (IRIS). Every item helps! Drop off in the Department of Social Work in White Hall.
URL:https://www.wcsu.edu/events/calendar/afghan-refugee-item-drive/2021-12-09/
LOCATION:Midtown campus\, 181 White St.\, Danbury\, CT
CATEGORIES:Charity/Fundraising
ATTACH;FMTTYPE=image/png:https://www.wcsu.edu/events/wp-content/uploads/sites/181/2021/11/Item-Drive-Flyer.png
END:VEVENT
BEGIN:VEVENT
DTSTART;TZID=UTC:20211208T000000
DTEND;TZID=UTC:20211208T235900
DTSTAMP:20260420T071815
CREATED:20211118T002326Z
LAST-MODIFIED:20211118T002326Z
UID:10059718-1638921600-1639007940@www.wcsu.edu
SUMMARY:Afghan Refugee Item Drive
DESCRIPTION:AFGHAN REFUGEE ITEM DRIVE: The Department of Social Work invites you to participate in our Item Drive for Afghan refugees resettling into our area. Connecticut has welcomed 214 emergency evacuees from Afghanistan and is on a path to welcoming 500 more. Items will be donated to the Integrated Refugee & Immigrant Services (IRIS). Every item helps! Drop off in the Department of Social Work in White Hall.
URL:https://www.wcsu.edu/events/calendar/afghan-refugee-item-drive/2021-12-08/
LOCATION:Midtown campus\, 181 White St.\, Danbury\, CT
CATEGORIES:Charity/Fundraising
ATTACH;FMTTYPE=image/png:https://www.wcsu.edu/events/wp-content/uploads/sites/181/2021/11/Item-Drive-Flyer.png
END:VEVENT
BEGIN:VEVENT
DTSTART;TZID=UTC:20211207T000000
DTEND;TZID=UTC:20211207T235900
DTSTAMP:20260420T071815
CREATED:20211118T002326Z
LAST-MODIFIED:20211118T002326Z
UID:10059717-1638835200-1638921540@www.wcsu.edu
SUMMARY:Afghan Refugee Item Drive
DESCRIPTION:AFGHAN REFUGEE ITEM DRIVE: The Department of Social Work invites you to participate in our Item Drive for Afghan refugees resettling into our area. Connecticut has welcomed 214 emergency evacuees from Afghanistan and is on a path to welcoming 500 more. Items will be donated to the Integrated Refugee & Immigrant Services (IRIS). Every item helps! Drop off in the Department of Social Work in White Hall.
URL:https://www.wcsu.edu/events/calendar/afghan-refugee-item-drive/2021-12-07/
LOCATION:Midtown campus\, 181 White St.\, Danbury\, CT
CATEGORIES:Charity/Fundraising
ATTACH;FMTTYPE=image/png:https://www.wcsu.edu/events/wp-content/uploads/sites/181/2021/11/Item-Drive-Flyer.png
END:VEVENT
BEGIN:VEVENT
DTSTART;TZID=UTC:20211206T000000
DTEND;TZID=UTC:20211206T235900
DTSTAMP:20260420T071815
CREATED:20211118T002326Z
LAST-MODIFIED:20211118T002326Z
UID:10059716-1638748800-1638835140@www.wcsu.edu
SUMMARY:Afghan Refugee Item Drive
DESCRIPTION:AFGHAN REFUGEE ITEM DRIVE: The Department of Social Work invites you to participate in our Item Drive for Afghan refugees resettling into our area. Connecticut has welcomed 214 emergency evacuees from Afghanistan and is on a path to welcoming 500 more. Items will be donated to the Integrated Refugee & Immigrant Services (IRIS). Every item helps! Drop off in the Department of Social Work in White Hall.
URL:https://www.wcsu.edu/events/calendar/afghan-refugee-item-drive/2021-12-06/
LOCATION:Midtown campus\, 181 White St.\, Danbury\, CT
CATEGORIES:Charity/Fundraising
ATTACH;FMTTYPE=image/png:https://www.wcsu.edu/events/wp-content/uploads/sites/181/2021/11/Item-Drive-Flyer.png
END:VEVENT
BEGIN:VEVENT
DTSTART;TZID=UTC:20211205T000000
DTEND;TZID=UTC:20211205T235900
DTSTAMP:20260420T071815
CREATED:20211118T002326Z
LAST-MODIFIED:20211118T002326Z
UID:10059715-1638662400-1638748740@www.wcsu.edu
SUMMARY:Afghan Refugee Item Drive
DESCRIPTION:AFGHAN REFUGEE ITEM DRIVE: The Department of Social Work invites you to participate in our Item Drive for Afghan refugees resettling into our area. Connecticut has welcomed 214 emergency evacuees from Afghanistan and is on a path to welcoming 500 more. Items will be donated to the Integrated Refugee & Immigrant Services (IRIS). Every item helps! Drop off in the Department of Social Work in White Hall.
URL:https://www.wcsu.edu/events/calendar/afghan-refugee-item-drive/2021-12-05/
LOCATION:Midtown campus\, 181 White St.\, Danbury\, CT
CATEGORIES:Charity/Fundraising
ATTACH;FMTTYPE=image/png:https://www.wcsu.edu/events/wp-content/uploads/sites/181/2021/11/Item-Drive-Flyer.png
END:VEVENT
BEGIN:VEVENT
DTSTART;TZID=UTC:20211204T000000
DTEND;TZID=UTC:20211204T235900
DTSTAMP:20260420T071815
CREATED:20211118T002326Z
LAST-MODIFIED:20211118T002326Z
UID:10059714-1638576000-1638662340@www.wcsu.edu
SUMMARY:Afghan Refugee Item Drive
DESCRIPTION:AFGHAN REFUGEE ITEM DRIVE: The Department of Social Work invites you to participate in our Item Drive for Afghan refugees resettling into our area. Connecticut has welcomed 214 emergency evacuees from Afghanistan and is on a path to welcoming 500 more. Items will be donated to the Integrated Refugee & Immigrant Services (IRIS). Every item helps! Drop off in the Department of Social Work in White Hall.
URL:https://www.wcsu.edu/events/calendar/afghan-refugee-item-drive/2021-12-04/
LOCATION:Midtown campus\, 181 White St.\, Danbury\, CT
CATEGORIES:Charity/Fundraising
ATTACH;FMTTYPE=image/png:https://www.wcsu.edu/events/wp-content/uploads/sites/181/2021/11/Item-Drive-Flyer.png
END:VEVENT
BEGIN:VEVENT
DTSTART;TZID=UTC:20211203T000000
DTEND;TZID=UTC:20211203T235900
DTSTAMP:20260420T071815
CREATED:20211118T002326Z
LAST-MODIFIED:20211118T002326Z
UID:10059713-1638489600-1638575940@www.wcsu.edu
SUMMARY:Afghan Refugee Item Drive
DESCRIPTION:AFGHAN REFUGEE ITEM DRIVE: The Department of Social Work invites you to participate in our Item Drive for Afghan refugees resettling into our area. Connecticut has welcomed 214 emergency evacuees from Afghanistan and is on a path to welcoming 500 more. Items will be donated to the Integrated Refugee & Immigrant Services (IRIS). Every item helps! Drop off in the Department of Social Work in White Hall.
URL:https://www.wcsu.edu/events/calendar/afghan-refugee-item-drive/2021-12-03/
LOCATION:Midtown campus\, 181 White St.\, Danbury\, CT
CATEGORIES:Charity/Fundraising
ATTACH;FMTTYPE=image/png:https://www.wcsu.edu/events/wp-content/uploads/sites/181/2021/11/Item-Drive-Flyer.png
END:VEVENT
BEGIN:VEVENT
DTSTART;TZID=UTC:20211202T000000
DTEND;TZID=UTC:20211202T235900
DTSTAMP:20260420T071815
CREATED:20211118T002326Z
LAST-MODIFIED:20211118T002326Z
UID:10059712-1638403200-1638489540@www.wcsu.edu
SUMMARY:Afghan Refugee Item Drive
DESCRIPTION:AFGHAN REFUGEE ITEM DRIVE: The Department of Social Work invites you to participate in our Item Drive for Afghan refugees resettling into our area. Connecticut has welcomed 214 emergency evacuees from Afghanistan and is on a path to welcoming 500 more. Items will be donated to the Integrated Refugee & Immigrant Services (IRIS). Every item helps! Drop off in the Department of Social Work in White Hall.
URL:https://www.wcsu.edu/events/calendar/afghan-refugee-item-drive/2021-12-02/
LOCATION:Midtown campus\, 181 White St.\, Danbury\, CT
CATEGORIES:Charity/Fundraising
ATTACH;FMTTYPE=image/png:https://www.wcsu.edu/events/wp-content/uploads/sites/181/2021/11/Item-Drive-Flyer.png
END:VEVENT
BEGIN:VEVENT
DTSTART;TZID=UTC:20211201T000000
DTEND;TZID=UTC:20211201T235900
DTSTAMP:20260420T071815
CREATED:20211118T002326Z
LAST-MODIFIED:20211118T002326Z
UID:10059711-1638316800-1638403140@www.wcsu.edu
SUMMARY:Afghan Refugee Item Drive
DESCRIPTION:AFGHAN REFUGEE ITEM DRIVE: The Department of Social Work invites you to participate in our Item Drive for Afghan refugees resettling into our area. Connecticut has welcomed 214 emergency evacuees from Afghanistan and is on a path to welcoming 500 more. Items will be donated to the Integrated Refugee & Immigrant Services (IRIS). Every item helps! Drop off in the Department of Social Work in White Hall.
URL:https://www.wcsu.edu/events/calendar/afghan-refugee-item-drive/2021-12-01/
LOCATION:Midtown campus\, 181 White St.\, Danbury\, CT
CATEGORIES:Charity/Fundraising
ATTACH;FMTTYPE=image/png:https://www.wcsu.edu/events/wp-content/uploads/sites/181/2021/11/Item-Drive-Flyer.png
END:VEVENT
BEGIN:VEVENT
DTSTART;TZID=UTC:20211130T000000
DTEND;TZID=UTC:20211130T235900
DTSTAMP:20260420T071815
CREATED:20211118T002326Z
LAST-MODIFIED:20211118T002326Z
UID:10059710-1638230400-1638316740@www.wcsu.edu
SUMMARY:Afghan Refugee Item Drive
DESCRIPTION:AFGHAN REFUGEE ITEM DRIVE: The Department of Social Work invites you to participate in our Item Drive for Afghan refugees resettling into our area. Connecticut has welcomed 214 emergency evacuees from Afghanistan and is on a path to welcoming 500 more. Items will be donated to the Integrated Refugee & Immigrant Services (IRIS). Every item helps! Drop off in the Department of Social Work in White Hall.
URL:https://www.wcsu.edu/events/calendar/afghan-refugee-item-drive/2021-11-30/
LOCATION:Midtown campus\, 181 White St.\, Danbury\, CT
CATEGORIES:Charity/Fundraising
ATTACH;FMTTYPE=image/png:https://www.wcsu.edu/events/wp-content/uploads/sites/181/2021/11/Item-Drive-Flyer.png
END:VEVENT
BEGIN:VEVENT
DTSTART;TZID=UTC:20211129T000000
DTEND;TZID=UTC:20211129T235900
DTSTAMP:20260420T071815
CREATED:20211118T002326Z
LAST-MODIFIED:20211118T002326Z
UID:10059709-1638144000-1638230340@www.wcsu.edu
SUMMARY:Afghan Refugee Item Drive
DESCRIPTION:AFGHAN REFUGEE ITEM DRIVE: The Department of Social Work invites you to participate in our Item Drive for Afghan refugees resettling into our area. Connecticut has welcomed 214 emergency evacuees from Afghanistan and is on a path to welcoming 500 more. Items will be donated to the Integrated Refugee & Immigrant Services (IRIS). Every item helps! Drop off in the Department of Social Work in White Hall.
URL:https://www.wcsu.edu/events/calendar/afghan-refugee-item-drive/2021-11-29/
LOCATION:Midtown campus\, 181 White St.\, Danbury\, CT
CATEGORIES:Charity/Fundraising
ATTACH;FMTTYPE=image/png:https://www.wcsu.edu/events/wp-content/uploads/sites/181/2021/11/Item-Drive-Flyer.png
END:VEVENT
BEGIN:VEVENT
DTSTART;TZID=UTC:20211128T000000
DTEND;TZID=UTC:20211128T235900
DTSTAMP:20260420T071815
CREATED:20211118T002326Z
LAST-MODIFIED:20211118T002326Z
UID:10059708-1638057600-1638143940@www.wcsu.edu
SUMMARY:Afghan Refugee Item Drive
DESCRIPTION:AFGHAN REFUGEE ITEM DRIVE: The Department of Social Work invites you to participate in our Item Drive for Afghan refugees resettling into our area. Connecticut has welcomed 214 emergency evacuees from Afghanistan and is on a path to welcoming 500 more. Items will be donated to the Integrated Refugee & Immigrant Services (IRIS). Every item helps! Drop off in the Department of Social Work in White Hall.
URL:https://www.wcsu.edu/events/calendar/afghan-refugee-item-drive/2021-11-28/
LOCATION:Midtown campus\, 181 White St.\, Danbury\, CT
CATEGORIES:Charity/Fundraising
ATTACH;FMTTYPE=image/png:https://www.wcsu.edu/events/wp-content/uploads/sites/181/2021/11/Item-Drive-Flyer.png
END:VEVENT
BEGIN:VEVENT
DTSTART;TZID=UTC:20211127T000000
DTEND;TZID=UTC:20211127T235900
DTSTAMP:20260420T071815
CREATED:20211118T002326Z
LAST-MODIFIED:20211118T002326Z
UID:10059707-1637971200-1638057540@www.wcsu.edu
SUMMARY:Afghan Refugee Item Drive
DESCRIPTION:AFGHAN REFUGEE ITEM DRIVE: The Department of Social Work invites you to participate in our Item Drive for Afghan refugees resettling into our area. Connecticut has welcomed 214 emergency evacuees from Afghanistan and is on a path to welcoming 500 more. Items will be donated to the Integrated Refugee & Immigrant Services (IRIS). Every item helps! Drop off in the Department of Social Work in White Hall.
URL:https://www.wcsu.edu/events/calendar/afghan-refugee-item-drive/2021-11-27/
LOCATION:Midtown campus\, 181 White St.\, Danbury\, CT
CATEGORIES:Charity/Fundraising
ATTACH;FMTTYPE=image/png:https://www.wcsu.edu/events/wp-content/uploads/sites/181/2021/11/Item-Drive-Flyer.png
END:VEVENT
BEGIN:VEVENT
DTSTART;TZID=UTC:20211126T000000
DTEND;TZID=UTC:20211126T235900
DTSTAMP:20260420T071815
CREATED:20211118T002326Z
LAST-MODIFIED:20211118T002326Z
UID:10059706-1637884800-1637971140@www.wcsu.edu
SUMMARY:Afghan Refugee Item Drive
DESCRIPTION:AFGHAN REFUGEE ITEM DRIVE: The Department of Social Work invites you to participate in our Item Drive for Afghan refugees resettling into our area. Connecticut has welcomed 214 emergency evacuees from Afghanistan and is on a path to welcoming 500 more. Items will be donated to the Integrated Refugee & Immigrant Services (IRIS). Every item helps! Drop off in the Department of Social Work in White Hall.
URL:https://www.wcsu.edu/events/calendar/afghan-refugee-item-drive/2021-11-26/
LOCATION:Midtown campus\, 181 White St.\, Danbury\, CT
CATEGORIES:Charity/Fundraising
ATTACH;FMTTYPE=image/png:https://www.wcsu.edu/events/wp-content/uploads/sites/181/2021/11/Item-Drive-Flyer.png
END:VEVENT
BEGIN:VEVENT
DTSTART;TZID=UTC:20211125T000000
DTEND;TZID=UTC:20211125T235900
DTSTAMP:20260420T071815
CREATED:20211118T002326Z
LAST-MODIFIED:20211118T002326Z
UID:10059705-1637798400-1637884740@www.wcsu.edu
SUMMARY:Afghan Refugee Item Drive
DESCRIPTION:AFGHAN REFUGEE ITEM DRIVE: The Department of Social Work invites you to participate in our Item Drive for Afghan refugees resettling into our area. Connecticut has welcomed 214 emergency evacuees from Afghanistan and is on a path to welcoming 500 more. Items will be donated to the Integrated Refugee & Immigrant Services (IRIS). Every item helps! Drop off in the Department of Social Work in White Hall.
URL:https://www.wcsu.edu/events/calendar/afghan-refugee-item-drive/2021-11-25/
LOCATION:Midtown campus\, 181 White St.\, Danbury\, CT
CATEGORIES:Charity/Fundraising
ATTACH;FMTTYPE=image/png:https://www.wcsu.edu/events/wp-content/uploads/sites/181/2021/11/Item-Drive-Flyer.png
END:VEVENT
BEGIN:VEVENT
DTSTART;TZID=UTC:20211124T000000
DTEND;TZID=UTC:20211124T235900
DTSTAMP:20260420T071815
CREATED:20211118T002326Z
LAST-MODIFIED:20211118T002326Z
UID:10059704-1637712000-1637798340@www.wcsu.edu
SUMMARY:Afghan Refugee Item Drive
DESCRIPTION:AFGHAN REFUGEE ITEM DRIVE: The Department of Social Work invites you to participate in our Item Drive for Afghan refugees resettling into our area. Connecticut has welcomed 214 emergency evacuees from Afghanistan and is on a path to welcoming 500 more. Items will be donated to the Integrated Refugee & Immigrant Services (IRIS). Every item helps! Drop off in the Department of Social Work in White Hall.
URL:https://www.wcsu.edu/events/calendar/afghan-refugee-item-drive/2021-11-24/
LOCATION:Midtown campus\, 181 White St.\, Danbury\, CT
CATEGORIES:Charity/Fundraising
ATTACH;FMTTYPE=image/png:https://www.wcsu.edu/events/wp-content/uploads/sites/181/2021/11/Item-Drive-Flyer.png
END:VEVENT
BEGIN:VEVENT
DTSTART;TZID=UTC:20211123T000000
DTEND;TZID=UTC:20211123T235900
DTSTAMP:20260420T071815
CREATED:20211118T002326Z
LAST-MODIFIED:20211118T002326Z
UID:10059703-1637625600-1637711940@www.wcsu.edu
SUMMARY:Afghan Refugee Item Drive
DESCRIPTION:AFGHAN REFUGEE ITEM DRIVE: The Department of Social Work invites you to participate in our Item Drive for Afghan refugees resettling into our area. Connecticut has welcomed 214 emergency evacuees from Afghanistan and is on a path to welcoming 500 more. Items will be donated to the Integrated Refugee & Immigrant Services (IRIS). Every item helps! Drop off in the Department of Social Work in White Hall.
URL:https://www.wcsu.edu/events/calendar/afghan-refugee-item-drive/2021-11-23/
LOCATION:Midtown campus\, 181 White St.\, Danbury\, CT
CATEGORIES:Charity/Fundraising
ATTACH;FMTTYPE=image/png:https://www.wcsu.edu/events/wp-content/uploads/sites/181/2021/11/Item-Drive-Flyer.png
END:VEVENT
BEGIN:VEVENT
DTSTART;TZID=UTC:20211122T000000
DTEND;TZID=UTC:20211122T235900
DTSTAMP:20260420T071815
CREATED:20211118T002326Z
LAST-MODIFIED:20211118T002326Z
UID:10059702-1637539200-1637625540@www.wcsu.edu
SUMMARY:Afghan Refugee Item Drive
DESCRIPTION:AFGHAN REFUGEE ITEM DRIVE: The Department of Social Work invites you to participate in our Item Drive for Afghan refugees resettling into our area. Connecticut has welcomed 214 emergency evacuees from Afghanistan and is on a path to welcoming 500 more. Items will be donated to the Integrated Refugee & Immigrant Services (IRIS). Every item helps! Drop off in the Department of Social Work in White Hall.
URL:https://www.wcsu.edu/events/calendar/afghan-refugee-item-drive/2021-11-22/
LOCATION:Midtown campus\, 181 White St.\, Danbury\, CT
CATEGORIES:Charity/Fundraising
ATTACH;FMTTYPE=image/png:https://www.wcsu.edu/events/wp-content/uploads/sites/181/2021/11/Item-Drive-Flyer.png
END:VEVENT
BEGIN:VEVENT
DTSTART;TZID=UTC:20211121T000000
DTEND;TZID=UTC:20211121T235900
DTSTAMP:20260420T071815
CREATED:20211118T002326Z
LAST-MODIFIED:20211118T002326Z
UID:10059701-1637452800-1637539140@www.wcsu.edu
SUMMARY:Afghan Refugee Item Drive
DESCRIPTION:AFGHAN REFUGEE ITEM DRIVE: The Department of Social Work invites you to participate in our Item Drive for Afghan refugees resettling into our area. Connecticut has welcomed 214 emergency evacuees from Afghanistan and is on a path to welcoming 500 more. Items will be donated to the Integrated Refugee & Immigrant Services (IRIS). Every item helps! Drop off in the Department of Social Work in White Hall.
URL:https://www.wcsu.edu/events/calendar/afghan-refugee-item-drive/2021-11-21/
LOCATION:Midtown campus\, 181 White St.\, Danbury\, CT
CATEGORIES:Charity/Fundraising
ATTACH;FMTTYPE=image/png:https://www.wcsu.edu/events/wp-content/uploads/sites/181/2021/11/Item-Drive-Flyer.png
END:VEVENT
BEGIN:VEVENT
DTSTART;TZID=UTC:20211120T000000
DTEND;TZID=UTC:20211120T235900
DTSTAMP:20260420T071815
CREATED:20211118T002326Z
LAST-MODIFIED:20211118T002326Z
UID:10059700-1637366400-1637452740@www.wcsu.edu
SUMMARY:Afghan Refugee Item Drive
DESCRIPTION:AFGHAN REFUGEE ITEM DRIVE: The Department of Social Work invites you to participate in our Item Drive for Afghan refugees resettling into our area. Connecticut has welcomed 214 emergency evacuees from Afghanistan and is on a path to welcoming 500 more. Items will be donated to the Integrated Refugee & Immigrant Services (IRIS). Every item helps! Drop off in the Department of Social Work in White Hall.
URL:https://www.wcsu.edu/events/calendar/afghan-refugee-item-drive/2021-11-20/
LOCATION:Midtown campus\, 181 White St.\, Danbury\, CT
CATEGORIES:Charity/Fundraising
ATTACH;FMTTYPE=image/png:https://www.wcsu.edu/events/wp-content/uploads/sites/181/2021/11/Item-Drive-Flyer.png
END:VEVENT
BEGIN:VEVENT
DTSTART;TZID=UTC:20211119T000000
DTEND;TZID=UTC:20211119T235900
DTSTAMP:20260420T071815
CREATED:20211118T002326Z
LAST-MODIFIED:20211118T002326Z
UID:10059699-1637280000-1637366340@www.wcsu.edu
SUMMARY:Afghan Refugee Item Drive
DESCRIPTION:AFGHAN REFUGEE ITEM DRIVE: The Department of Social Work invites you to participate in our Item Drive for Afghan refugees resettling into our area. Connecticut has welcomed 214 emergency evacuees from Afghanistan and is on a path to welcoming 500 more. Items will be donated to the Integrated Refugee & Immigrant Services (IRIS). Every item helps! Drop off in the Department of Social Work in White Hall.
URL:https://www.wcsu.edu/events/calendar/afghan-refugee-item-drive/2021-11-19/
LOCATION:Midtown campus\, 181 White St.\, Danbury\, CT
CATEGORIES:Charity/Fundraising
ATTACH;FMTTYPE=image/png:https://www.wcsu.edu/events/wp-content/uploads/sites/181/2021/11/Item-Drive-Flyer.png
END:VEVENT
BEGIN:VEVENT
DTSTART;TZID=UTC:20211118T000000
DTEND;TZID=UTC:20211118T235900
DTSTAMP:20260420T071815
CREATED:20211118T002326Z
LAST-MODIFIED:20211118T002326Z
UID:10059698-1637193600-1637279940@www.wcsu.edu
SUMMARY:Afghan Refugee Item Drive
DESCRIPTION:AFGHAN REFUGEE ITEM DRIVE: The Department of Social Work invites you to participate in our Item Drive for Afghan refugees resettling into our area. Connecticut has welcomed 214 emergency evacuees from Afghanistan and is on a path to welcoming 500 more. Items will be donated to the Integrated Refugee & Immigrant Services (IRIS). Every item helps! Drop off in the Department of Social Work in White Hall.
URL:https://www.wcsu.edu/events/calendar/afghan-refugee-item-drive/2021-11-18/
LOCATION:Midtown campus\, 181 White St.\, Danbury\, CT
CATEGORIES:Charity/Fundraising
ATTACH;FMTTYPE=image/png:https://www.wcsu.edu/events/wp-content/uploads/sites/181/2021/11/Item-Drive-Flyer.png
END:VEVENT
BEGIN:VEVENT
DTSTART;TZID=UTC:20211117T000000
DTEND;TZID=UTC:20211117T235900
DTSTAMP:20260420T071815
CREATED:20211118T002326Z
LAST-MODIFIED:20211118T002326Z
UID:10059697-1637107200-1637193540@www.wcsu.edu
SUMMARY:Afghan Refugee Item Drive
DESCRIPTION:AFGHAN REFUGEE ITEM DRIVE: The Department of Social Work invites you to participate in our Item Drive for Afghan refugees resettling into our area. Connecticut has welcomed 214 emergency evacuees from Afghanistan and is on a path to welcoming 500 more. Items will be donated to the Integrated Refugee & Immigrant Services (IRIS). Every item helps! Drop off in the Department of Social Work in White Hall.
URL:https://www.wcsu.edu/events/calendar/afghan-refugee-item-drive/2021-11-17/
LOCATION:Midtown campus\, 181 White St.\, Danbury\, CT
CATEGORIES:Charity/Fundraising
ATTACH;FMTTYPE=image/png:https://www.wcsu.edu/events/wp-content/uploads/sites/181/2021/11/Item-Drive-Flyer.png
END:VEVENT
BEGIN:VEVENT
DTSTART;TZID=UTC:20211104T173000
DTEND;TZID=UTC:20211104T213000
DTSTAMP:20260420T071815
CREATED:20211014T174959Z
LAST-MODIFIED:20211020T203722Z
UID:10061456-1636047000-1636061400@www.wcsu.edu
SUMMARY:Twenty Pearls: Documentary and Discussion
DESCRIPTION:TWENTY PEARLS: A DOCUMENTARY AND DISCUSSION: Join us from 5:30 to 9:30 p.m. in Ives Concert Hall in White Hall on the Midtown campus for a screening and discussion of the documentary “Twenty Pearls.” Co-sponsored by the Office of Intercultural Affairs and departments of Education and Social Work. Learn about the role of service\, education\, equal rights\, and the intent to uplift within Black\, Greek letter organizations. Refreshments will be served.
URL:https://www.wcsu.edu/events/calendar/twenty-pearls-documentary-and-discussion/
LOCATION:Ives Concert Hall\, 181 White St.\, Danbury\, CT
CATEGORIES:Discussion,Diversity,Movie
ATTACH;FMTTYPE=image/jpeg:https://www.wcsu.edu/events/wp-content/uploads/sites/181/2021/10/Twenty-Pearls-Documentary.jpg
END:VEVENT
END:VCALENDAR