BEGIN:VCALENDAR
VERSION:2.0
PRODID:-//WCSU Events - ECPv6.15.17.1//NONSGML v1.0//EN
CALSCALE:GREGORIAN
METHOD:PUBLISH
X-ORIGINAL-URL:https://www.wcsu.edu/events
X-WR-CALDESC:Events for WCSU Events
REFRESH-INTERVAL;VALUE=DURATION:PT1H
X-Robots-Tag:noindex
X-PUBLISHED-TTL:PT1H
BEGIN:VTIMEZONE
TZID:America/New_York
BEGIN:DAYLIGHT
TZOFFSETFROM:-0500
TZOFFSETTO:-0400
TZNAME:EDT
DTSTART:20210314T070000
END:DAYLIGHT
BEGIN:STANDARD
TZOFFSETFROM:-0400
TZOFFSETTO:-0500
TZNAME:EST
DTSTART:20211107T060000
END:STANDARD
BEGIN:DAYLIGHT
TZOFFSETFROM:-0500
TZOFFSETTO:-0400
TZNAME:EDT
DTSTART:20220313T070000
END:DAYLIGHT
BEGIN:STANDARD
TZOFFSETFROM:-0400
TZOFFSETTO:-0500
TZNAME:EST
DTSTART:20221106T060000
END:STANDARD
BEGIN:DAYLIGHT
TZOFFSETFROM:-0500
TZOFFSETTO:-0400
TZNAME:EDT
DTSTART:20230312T070000
END:DAYLIGHT
BEGIN:STANDARD
TZOFFSETFROM:-0400
TZOFFSETTO:-0500
TZNAME:EST
DTSTART:20231105T060000
END:STANDARD
BEGIN:DAYLIGHT
TZOFFSETFROM:-0500
TZOFFSETTO:-0400
TZNAME:EDT
DTSTART:20240310T070000
END:DAYLIGHT
BEGIN:STANDARD
TZOFFSETFROM:-0400
TZOFFSETTO:-0500
TZNAME:EST
DTSTART:20241103T060000
END:STANDARD
END:VTIMEZONE
BEGIN:VTIMEZONE
TZID:UTC
BEGIN:STANDARD
TZOFFSETFROM:+0000
TZOFFSETTO:+0000
TZNAME:UTC
DTSTART:20210101T000000
END:STANDARD
END:VTIMEZONE
BEGIN:VEVENT
DTSTART;TZID=America/New_York:20230501T180000
DTEND;TZID=America/New_York:20230501T200000
DTSTAMP:20260420T124535
CREATED:20230419T192015Z
LAST-MODIFIED:20230419T192015Z
UID:10063634-1682964000-1682971200@www.wcsu.edu
SUMMARY:Cookie Baking!
DESCRIPTION:ROTARACT AND NEWMAN CLUB: COOKIE BAKING! Help us show appreciation for our professors by baking cookies for Teacher Appreciation Week! This event will take place at 6 p.m. in the Newman Center (across the street from Newbury and Litchfield Hall). Baking supplies will be provided!
URL:https://www.wcsu.edu/events/calendar/cookie-baking/
LOCATION:Newman Center\, 7 8th Avenue\, Danbury\, CT\, 06810\, United States
CATEGORIES:Community Service
ATTACH;FMTTYPE=image/jpeg:https://www.wcsu.edu/events/wp-content/uploads/sites/181/2020/09/Newman-Center-900-e1676392298408.jpg
ORGANIZER;CN="Rotaract":MAILTO:rotaract@wcsu.edu
END:VEVENT
BEGIN:VEVENT
DTSTART;TZID=America/New_York:20230426T170000
DTEND;TZID=America/New_York:20230426T183000
DTSTAMP:20260420T124535
CREATED:20230411T135235Z
LAST-MODIFIED:20230411T184941Z
UID:10063614-1682528400-1682533800@www.wcsu.edu
SUMMARY:Newman Dinner
DESCRIPTION:SOHO PIZZA NEWMAN DINNER: Our next Newman dinner will be from 5 to 6:30 p.m. at the Newman Center across from Newbury Hall. We will be having pizza from Soho’s! Come enjoy a Danbury classic with us and engage in fellowship! We hope to see you there! Thank you to SGA for funding this event.
URL:https://www.wcsu.edu/events/calendar/newman-dinner-8/
LOCATION:Newman Center\, 7 8th Avenue\, Danbury\, CT\, 06810\, United States
CATEGORIES:Food,Social Event
ATTACH;FMTTYPE=image/jpeg:https://www.wcsu.edu/events/wp-content/uploads/sites/181/2023/04/Newman-Center.jpg
END:VEVENT
BEGIN:VEVENT
DTSTART;TZID=America/New_York:20230419T183000
DTEND;TZID=America/New_York:20230419T203000
DTSTAMP:20260420T124535
CREATED:20230418T135538Z
LAST-MODIFIED:20230418T135538Z
UID:10063632-1681929000-1681936200@www.wcsu.edu
SUMMARY:Game Night
DESCRIPTION:GAME NIGHT: Game night is back! Come play games at the Newman Center across from Newbury Hall from 6:30 to 8:30 p.m.! We hope to see you there!
URL:https://www.wcsu.edu/events/calendar/game-night-3/
LOCATION:Newman Center\, 7 8th Avenue\, Danbury\, CT\, 06810\, United States
CATEGORIES:Games
ATTACH;FMTTYPE=image/jpeg:https://www.wcsu.edu/events/wp-content/uploads/sites/181/2020/09/Newman-Center-900-e1676392298408.jpg
END:VEVENT
BEGIN:VEVENT
DTSTART;TZID=America/New_York:20230412T170000
DTEND;TZID=America/New_York:20230412T183000
DTSTAMP:20260420T124535
CREATED:20230406T141823Z
LAST-MODIFIED:20230406T141823Z
UID:10063609-1681318800-1681324200@www.wcsu.edu
SUMMARY:Soho Pizza Newman Dinner
DESCRIPTION:SOHO PIZZA NEWMAN DINNER: Our next Newman dinner will be  from 5 to 6:30 p.m. at the Newman Center across from Newbury Hall. We will be having pizza from Soho’s! Come enjoy a Danbury classic with us and engage in fellowship! We hope to see you there! Thank you to SGA for funding this event.
URL:https://www.wcsu.edu/events/calendar/soho-pizza-newman-dinner-2/
LOCATION:Newman Center\, 7 8th Avenue\, Danbury\, CT\, 06810\, United States
CATEGORIES:Food
ATTACH;FMTTYPE=image/jpeg:https://www.wcsu.edu/events/wp-content/uploads/sites/181/2023/04/Newman-Center.jpg
END:VEVENT
BEGIN:VEVENT
DTSTART;TZID=America/New_York:20230405T170000
DTEND;TZID=America/New_York:20230405T183000
DTSTAMP:20260420T124535
CREATED:20230405T162943Z
LAST-MODIFIED:20230405T162943Z
UID:10063607-1680714000-1680719400@www.wcsu.edu
SUMMARY:Prayer Night
DESCRIPTION:PRAYER NIGHT: From 5-6:30 p.m.\, we will have a night of prayer and reflection as we await Easter Sunday! All are welcome at the Newman Center\, 7 8th Avenue\, across from Newbury Hall! We hope to see you there!
URL:https://www.wcsu.edu/events/calendar/prayer-night/
LOCATION:Newman Center\, 7 8th Avenue\, Danbury\, CT\, 06810\, United States
CATEGORIES:Worship
ATTACH;FMTTYPE=image/jpeg:https://www.wcsu.edu/events/wp-content/uploads/sites/181/2023/04/Newman-Center.jpg
END:VEVENT
BEGIN:VEVENT
DTSTART;TZID=America/New_York:20230322T170000
DTEND;TZID=America/New_York:20230322T183000
DTSTAMP:20260420T124535
CREATED:20230313T173416Z
LAST-MODIFIED:20230313T173416Z
UID:10063529-1679504400-1679509800@www.wcsu.edu
SUMMARY:Pasta Newman Dinner
DESCRIPTION:PASTA NEWMAN DINNER: Our next Newman Dinner will be held from 5 to 6:30 p.m. at the Newman Center across from Newbury Hall! We will be having a variety of pastas from Stew Leonard’s. Come by for the food and stay for the fellowship! We hope to see you there! Thank you to SGA for funding this event!
URL:https://www.wcsu.edu/events/calendar/pasta-newman-dinner/
LOCATION:Newman Center\, 7 8th Avenue\, Danbury\, CT\, 06810\, United States
CATEGORIES:Food
ATTACH;FMTTYPE=image/jpeg:https://www.wcsu.edu/events/wp-content/uploads/sites/181/2020/09/Newman-Center-900-e1676392298408.jpg
END:VEVENT
BEGIN:VEVENT
DTSTART;TZID=America/New_York:20230301T170000
DTEND;TZID=America/New_York:20230301T183000
DTSTAMP:20260420T124535
CREATED:20230223T182546Z
LAST-MODIFIED:20230223T182546Z
UID:10063469-1677690000-1677695400@www.wcsu.edu
SUMMARY:Newman Dinner
DESCRIPTION:ASIAN FOOD NEWMAN DINNER: Our next Newman Dinner of the semester will be held from 5 to 6:30 p.m. at the Newman Center across from Newbury Hall. We will be having a variety of Asian food from Stew Leonard’s. Bring your friends! Thank you to SGA for funding this event!
URL:https://www.wcsu.edu/events/calendar/newman-dinner-7/
LOCATION:Newman Center\, 7 8th Avenue\, Danbury\, CT\, 06810\, United States
CATEGORIES:Food,Social Event
ATTACH;FMTTYPE=image/jpeg:https://www.wcsu.edu/events/wp-content/uploads/sites/181/2020/09/Newman-Center-900-e1676392298408.jpg
END:VEVENT
BEGIN:VEVENT
DTSTART;TZID=America/New_York:20230215T170000
DTEND;TZID=America/New_York:20230215T183000
DTSTAMP:20260420T124535
CREATED:20230208T211812Z
LAST-MODIFIED:20230227T135629Z
UID:10063386-1676480400-1676485800@www.wcsu.edu
SUMMARY:Newman Dinner
DESCRIPTION:CHIPOTLE NEWMAN DINNER: Love Chipotle? Stop by the Newman Center across from Newbury Hall from 5 to 6:30 p.m. for the first Newman Dinner of the semester! We will be serving food from Chipotle! Come hang with friends and enjoy a delicious meal! Thank you to SGA for funding this event!
URL:https://www.wcsu.edu/events/calendar/chipotle-newman-dinner-2/
LOCATION:Newman Center\, 7 8th Avenue\, Danbury\, CT\, 06810\, United States
CATEGORIES:Food,Social Event
ATTACH;FMTTYPE=image/jpeg:https://www.wcsu.edu/events/wp-content/uploads/sites/181/2020/09/Newman-Center-900-e1676392298408.jpg
END:VEVENT
BEGIN:VEVENT
DTSTART;TZID=America/New_York:20230206T123000
DTEND;TZID=America/New_York:20230206T150000
DTSTAMP:20260420T124535
CREATED:20230206T135702Z
LAST-MODIFIED:20230206T135702Z
UID:10063375-1675686600-1675695600@www.wcsu.edu
SUMMARY:Valentine's Day Heart Assembling
DESCRIPTION:VALENTINE’S DAY HEART ASSEMBLING: Love is in the air! Help make construction paper hearts from 12:30 p.m. to 3 p.m. at the Newman Center (across from Newbury Hall). The hearts will be given out on Valentine’s Day! Hope to see you there!
URL:https://www.wcsu.edu/events/calendar/valentines-day-heart-assembling/
LOCATION:Newman Center\, 7 8th Avenue\, Danbury\, CT\, 06810\, United States
CATEGORIES:Art
ATTACH;FMTTYPE=image/png:https://www.wcsu.edu/events/wp-content/uploads/sites/181/2023/02/Screen-Shot-2023-02-04-at-11.24.57-AM.png
END:VEVENT
BEGIN:VEVENT
DTSTART;TZID=America/New_York:20230201T180000
DTEND;TZID=America/New_York:20230201T200000
DTSTAMP:20260420T124535
CREATED:20230130T204525Z
LAST-MODIFIED:20230130T204525Z
UID:10063354-1675274400-1675281600@www.wcsu.edu
SUMMARY:Game Night!
DESCRIPTION:NEWMAN CLUB GAME NIGHT: Got game? Newman Club will be hosting a game night from 6 to 8 p.m. at the Newman Center\, 7 8th Avenue (behind and across from Newbury Hall). Come by for a fun night of friendship and games!
URL:https://www.wcsu.edu/events/calendar/game-night-2/
LOCATION:Newman Center\, 7 8th Avenue\, Danbury\, CT\, 06810\, United States
CATEGORIES:Games,Social Event
ATTACH;FMTTYPE=image/png:https://www.wcsu.edu/events/wp-content/uploads/sites/181/2023/01/Screen-Shot-2023-01-30-at-3.09.58-PM-e1675111493473.png
END:VEVENT
BEGIN:VEVENT
DTSTART;TZID=America/New_York:20221207T163000
DTEND;TZID=America/New_York:20221207T194500
DTSTAMP:20260420T124535
CREATED:20221202T210426Z
LAST-MODIFIED:20221202T210426Z
UID:10063185-1670430600-1670442300@www.wcsu.edu
SUMMARY:Christmas Party
DESCRIPTION:CHRISTMAS PARTY: It’s the most wonderful time of the year! Come celebrate Christmas with us from 4:30 to 7:45 p.m. at the Newman Center! (behind and across from Newbury Hall). We will be having food\, Christmas bingo\, holiday card making\, a Christmas photoshoot\, and karaoke! Hope to see you all there!
URL:https://www.wcsu.edu/events/calendar/christmas-party/
LOCATION:Newman Center\, 7 8th Avenue\, Danbury\, CT\, 06810\, United States
CATEGORIES:Social Event
ATTACH;FMTTYPE=image/png:https://www.wcsu.edu/events/wp-content/uploads/sites/181/2022/12/Screen-Shot-2022-12-02-at-10.59.54-AM-e1670014973945.png
END:VEVENT
BEGIN:VEVENT
DTSTART;TZID=UTC:20221206T153000
DTEND;TZID=UTC:20221206T153000
DTSTAMP:20260420T124535
CREATED:20220920T194354Z
LAST-MODIFIED:20220920T195016Z
UID:10062778-1670340600-1670340600@www.wcsu.edu
SUMMARY:Newman Club Food Pantry
DESCRIPTION:NEWMAN CLUB FOOD PANTRY: Struggling and in need of food? The Newman Club is here to help! Every Tuesday from 3:30-4:30 p.m. at the Newman Center (behind and across from Newbury Hall)\, the Newman Club will be handing out bags of nonperishable goods for students experiencing food insecurity. Come stop by and get a bag!
URL:https://www.wcsu.edu/events/calendar/newman-club-food-pantry-4/2022-12-06/
LOCATION:Newman Center\, 7 8th Avenue\, Danbury\, CT\, 06810\, United States
CATEGORIES:Food,WOW
ATTACH;FMTTYPE=image/jpeg:https://www.wcsu.edu/events/wp-content/uploads/sites/181/2022/09/Blue-Colorful-Kiosk-Instagram-Post-e1663688542716.jpeg
END:VEVENT
BEGIN:VEVENT
DTSTART;TZID=UTC:20221129T153000
DTEND;TZID=UTC:20221129T153000
DTSTAMP:20260420T124535
CREATED:20220920T194354Z
LAST-MODIFIED:20220920T195016Z
UID:10062777-1669735800-1669735800@www.wcsu.edu
SUMMARY:Newman Club Food Pantry
DESCRIPTION:NEWMAN CLUB FOOD PANTRY: Struggling and in need of food? The Newman Club is here to help! Every Tuesday from 3:30-4:30 p.m. at the Newman Center (behind and across from Newbury Hall)\, the Newman Club will be handing out bags of nonperishable goods for students experiencing food insecurity. Come stop by and get a bag!
URL:https://www.wcsu.edu/events/calendar/newman-club-food-pantry-4/2022-11-29/
LOCATION:Newman Center\, 7 8th Avenue\, Danbury\, CT\, 06810\, United States
CATEGORIES:Food,WOW
ATTACH;FMTTYPE=image/jpeg:https://www.wcsu.edu/events/wp-content/uploads/sites/181/2022/09/Blue-Colorful-Kiosk-Instagram-Post-e1663688542716.jpeg
END:VEVENT
BEGIN:VEVENT
DTSTART;TZID=UTC:20221122T153000
DTEND;TZID=UTC:20221122T153000
DTSTAMP:20260420T124535
CREATED:20220920T194354Z
LAST-MODIFIED:20220920T195016Z
UID:10062776-1669131000-1669131000@www.wcsu.edu
SUMMARY:Newman Club Food Pantry
DESCRIPTION:NEWMAN CLUB FOOD PANTRY: Struggling and in need of food? The Newman Club is here to help! Every Tuesday from 3:30-4:30 p.m. at the Newman Center (behind and across from Newbury Hall)\, the Newman Club will be handing out bags of nonperishable goods for students experiencing food insecurity. Come stop by and get a bag!
URL:https://www.wcsu.edu/events/calendar/newman-club-food-pantry-4/2022-11-22/
LOCATION:Newman Center\, 7 8th Avenue\, Danbury\, CT\, 06810\, United States
CATEGORIES:Food,WOW
ATTACH;FMTTYPE=image/jpeg:https://www.wcsu.edu/events/wp-content/uploads/sites/181/2022/09/Blue-Colorful-Kiosk-Instagram-Post-e1663688542716.jpeg
END:VEVENT
BEGIN:VEVENT
DTSTART;TZID=America/New_York:20221118T180000
DTEND;TZID=America/New_York:20221118T200000
DTSTAMP:20260420T124535
CREATED:20221114T155608Z
LAST-MODIFIED:20221117T192954Z
UID:10061461-1668794400-1668801600@www.wcsu.edu
SUMMARY:CANCELLED: Karaoke Night
DESCRIPTION:CANCELLED: KARAOKE NIGHT: Unleash your inner musician with us at Karaoke Night from 6 to 8 p.m. at the Newman Center (Behind and across from Newbury Hall). We hope to see you there! Thank you to SGA for funding this event!
URL:https://www.wcsu.edu/events/calendar/karaoke-night-2/
LOCATION:Newman Center\, 7 8th Avenue\, Danbury\, CT\, 06810\, United States
CATEGORIES:Music
ATTACH;FMTTYPE=image/jpeg:https://www.wcsu.edu/events/wp-content/uploads/sites/181/2022/11/IMG_2702.jpg
END:VEVENT
BEGIN:VEVENT
DTSTART;TZID=America/New_York:20221116T170000
DTEND;TZID=America/New_York:20221116T183000
DTSTAMP:20260420T124535
CREATED:20221109T191426Z
LAST-MODIFIED:20221110T141831Z
UID:10063162-1668618000-1668623400@www.wcsu.edu
SUMMARY:Chili's Newman Dinner
DESCRIPTION:CHILI’S NEWMAN DINNER: “Hi welcome to Chili’s!” (and Newman Dinner!) Come join us from 5 to 6:30 p.m. at the Newman Center (behind and across from Newbury Hall) to enjoy cheeseburger sliders and dessert from Chili’s. We hope to see you there!
URL:https://www.wcsu.edu/events/calendar/chilis-newman-dinner/
LOCATION:Newman Center\, 7 8th Avenue\, Danbury\, CT\, 06810\, United States
CATEGORIES:Food
ATTACH;FMTTYPE=image/png:https://www.wcsu.edu/events/wp-content/uploads/sites/181/2022/11/Screen-Shot-2022-11-09-at-11.05.55-AM-e1668021250624.png
END:VEVENT
BEGIN:VEVENT
DTSTART;TZID=UTC:20221115T153000
DTEND;TZID=UTC:20221115T153000
DTSTAMP:20260420T124535
CREATED:20220920T194354Z
LAST-MODIFIED:20220920T195016Z
UID:10062775-1668526200-1668526200@www.wcsu.edu
SUMMARY:Newman Club Food Pantry
DESCRIPTION:NEWMAN CLUB FOOD PANTRY: Struggling and in need of food? The Newman Club is here to help! Every Tuesday from 3:30-4:30 p.m. at the Newman Center (behind and across from Newbury Hall)\, the Newman Club will be handing out bags of nonperishable goods for students experiencing food insecurity. Come stop by and get a bag!
URL:https://www.wcsu.edu/events/calendar/newman-club-food-pantry-4/2022-11-15/
LOCATION:Newman Center\, 7 8th Avenue\, Danbury\, CT\, 06810\, United States
CATEGORIES:Food,WOW
ATTACH;FMTTYPE=image/jpeg:https://www.wcsu.edu/events/wp-content/uploads/sites/181/2022/09/Blue-Colorful-Kiosk-Instagram-Post-e1663688542716.jpeg
END:VEVENT
BEGIN:VEVENT
DTSTART;TZID=UTC:20221108T153000
DTEND;TZID=UTC:20221108T153000
DTSTAMP:20260420T124535
CREATED:20220920T194354Z
LAST-MODIFIED:20220920T195016Z
UID:10062774-1667921400-1667921400@www.wcsu.edu
SUMMARY:Newman Club Food Pantry
DESCRIPTION:NEWMAN CLUB FOOD PANTRY: Struggling and in need of food? The Newman Club is here to help! Every Tuesday from 3:30-4:30 p.m. at the Newman Center (behind and across from Newbury Hall)\, the Newman Club will be handing out bags of nonperishable goods for students experiencing food insecurity. Come stop by and get a bag!
URL:https://www.wcsu.edu/events/calendar/newman-club-food-pantry-4/2022-11-08/
LOCATION:Newman Center\, 7 8th Avenue\, Danbury\, CT\, 06810\, United States
CATEGORIES:Food,WOW
ATTACH;FMTTYPE=image/jpeg:https://www.wcsu.edu/events/wp-content/uploads/sites/181/2022/09/Blue-Colorful-Kiosk-Instagram-Post-e1663688542716.jpeg
END:VEVENT
BEGIN:VEVENT
DTSTART;TZID=UTC:20221102T170000
DTEND;TZID=UTC:20221102T183000
DTSTAMP:20260420T124535
CREATED:20221025T230222Z
LAST-MODIFIED:20221026T210140Z
UID:10063129-1667408400-1667413800@www.wcsu.edu
SUMMARY:Sandwich Newman Dinner
DESCRIPTION:SANDWICH NEWMAN DINNER: Come to our next Newman dinner from 5 to 6:30 p.m. at the Newman Center (behind and across from Newbury Hall)! We will be having yummy Italian\, American\, and Chicken Cutlet with Crispy Bacon sandwiches! We hope to see you there! Bring your friends!
URL:https://www.wcsu.edu/events/calendar/sandwich-newman-dinner/
LOCATION:Newman Center\, 7 8th Avenue\, Danbury\, CT\, 06810\, United States
CATEGORIES:Food
ATTACH;FMTTYPE=image/png:https://www.wcsu.edu/events/wp-content/uploads/sites/181/2022/10/Screen-Shot-2022-10-25-at-9.43.12-AM-e1666724523509.png
END:VEVENT
BEGIN:VEVENT
DTSTART;TZID=UTC:20221102T150000
DTEND;TZID=UTC:20221102T160000
DTSTAMP:20260420T124535
CREATED:20221026T203236Z
LAST-MODIFIED:20221027T001631Z
UID:10063132-1667401200-1667404800@www.wcsu.edu
SUMMARY:Lectio Divina with Bobby
DESCRIPTION:LECTIO DIVINA WITH BOBBY: Need some time to relax after the stress of midterms? Want to spend a few minutes in contemplative reflection before our Newman dinner?  The Newman Club will be hosting a Lectio Divina from 3 -4 p.m. at the Newman Center (behind and across from Newbury Hall)  for all students on campus. The Lectio Divina will be led by Newman Club President Bobby . Lectio Divinas are guided readings and reflections with the focus of bringing everyone together as a community. Everyone is welcome! Looking forward to seeing you all there!
URL:https://www.wcsu.edu/events/calendar/lectio-divina-with-bobby/
LOCATION:Newman Center\, 7 8th Avenue\, Danbury\, CT\, 06810\, United States
CATEGORIES:Reading
ATTACH;FMTTYPE=image/png:https://www.wcsu.edu/events/wp-content/uploads/sites/181/2022/10/Bobbys-Lectio-Divina-revised.png
END:VEVENT
BEGIN:VEVENT
DTSTART;TZID=UTC:20221101T153000
DTEND;TZID=UTC:20221101T153000
DTSTAMP:20260420T124535
CREATED:20220920T194354Z
LAST-MODIFIED:20220920T195016Z
UID:10062773-1667316600-1667316600@www.wcsu.edu
SUMMARY:Newman Club Food Pantry
DESCRIPTION:NEWMAN CLUB FOOD PANTRY: Struggling and in need of food? The Newman Club is here to help! Every Tuesday from 3:30-4:30 p.m. at the Newman Center (behind and across from Newbury Hall)\, the Newman Club will be handing out bags of nonperishable goods for students experiencing food insecurity. Come stop by and get a bag!
URL:https://www.wcsu.edu/events/calendar/newman-club-food-pantry-4/2022-11-01/
LOCATION:Newman Center\, 7 8th Avenue\, Danbury\, CT\, 06810\, United States
CATEGORIES:Food,WOW
ATTACH;FMTTYPE=image/jpeg:https://www.wcsu.edu/events/wp-content/uploads/sites/181/2022/09/Blue-Colorful-Kiosk-Instagram-Post-e1663688542716.jpeg
END:VEVENT
BEGIN:VEVENT
DTSTART;TZID=UTC:20221025T153000
DTEND;TZID=UTC:20221025T153000
DTSTAMP:20260420T124535
CREATED:20220920T194354Z
LAST-MODIFIED:20220920T195016Z
UID:10062772-1666711800-1666711800@www.wcsu.edu
SUMMARY:Newman Club Food Pantry
DESCRIPTION:NEWMAN CLUB FOOD PANTRY: Struggling and in need of food? The Newman Club is here to help! Every Tuesday from 3:30-4:30 p.m. at the Newman Center (behind and across from Newbury Hall)\, the Newman Club will be handing out bags of nonperishable goods for students experiencing food insecurity. Come stop by and get a bag!
URL:https://www.wcsu.edu/events/calendar/newman-club-food-pantry-4/2022-10-25/
LOCATION:Newman Center\, 7 8th Avenue\, Danbury\, CT\, 06810\, United States
CATEGORIES:Food,WOW
ATTACH;FMTTYPE=image/jpeg:https://www.wcsu.edu/events/wp-content/uploads/sites/181/2022/09/Blue-Colorful-Kiosk-Instagram-Post-e1663688542716.jpeg
END:VEVENT
BEGIN:VEVENT
DTSTART;TZID=UTC:20221018T153000
DTEND;TZID=UTC:20221018T153000
DTSTAMP:20260420T124535
CREATED:20220920T194354Z
LAST-MODIFIED:20220920T195016Z
UID:10062771-1666107000-1666107000@www.wcsu.edu
SUMMARY:Newman Club Food Pantry
DESCRIPTION:NEWMAN CLUB FOOD PANTRY: Struggling and in need of food? The Newman Club is here to help! Every Tuesday from 3:30-4:30 p.m. at the Newman Center (behind and across from Newbury Hall)\, the Newman Club will be handing out bags of nonperishable goods for students experiencing food insecurity. Come stop by and get a bag!
URL:https://www.wcsu.edu/events/calendar/newman-club-food-pantry-4/2022-10-18/
LOCATION:Newman Center\, 7 8th Avenue\, Danbury\, CT\, 06810\, United States
CATEGORIES:Food,WOW
ATTACH;FMTTYPE=image/jpeg:https://www.wcsu.edu/events/wp-content/uploads/sites/181/2022/09/Blue-Colorful-Kiosk-Instagram-Post-e1663688542716.jpeg
END:VEVENT
BEGIN:VEVENT
DTSTART;TZID=UTC:20221012T170000
DTEND;TZID=UTC:20221012T183000
DTSTAMP:20260420T124535
CREATED:20221011T184542Z
LAST-MODIFIED:20221011T184637Z
UID:10061369-1665594000-1665599400@www.wcsu.edu
SUMMARY:Newman Dinner
DESCRIPTION:STEW LEONARD’S CHINESE FOOD NEWMAN DINNER: Come to our next Newman dinner from 5 to 6:30 p.m. at the Newman Center (behind and across from Newbury Hall). We will be having white rice\, General Tso’s chicken\, vegetable lo mein\, and chicken and broccoli from Stew Leonard’s!  Come have some yummy Chinese  food with us ! Bring your friends!
URL:https://www.wcsu.edu/events/calendar/newman-dinner-6/
LOCATION:Newman Center\, 7 8th Avenue\, Danbury\, CT\, 06810\, United States
CATEGORIES:Food
ATTACH;FMTTYPE=image/png:https://www.wcsu.edu/events/wp-content/uploads/sites/181/2022/10/Screen-Shot-2022-10-11-at-10.12.03-AM-e1665499524399.png
END:VEVENT
BEGIN:VEVENT
DTSTART;TZID=UTC:20221011T153000
DTEND;TZID=UTC:20221011T153000
DTSTAMP:20260420T124535
CREATED:20220920T194354Z
LAST-MODIFIED:20220920T195016Z
UID:10062770-1665502200-1665502200@www.wcsu.edu
SUMMARY:Newman Club Food Pantry
DESCRIPTION:NEWMAN CLUB FOOD PANTRY: Struggling and in need of food? The Newman Club is here to help! Every Tuesday from 3:30-4:30 p.m. at the Newman Center (behind and across from Newbury Hall)\, the Newman Club will be handing out bags of nonperishable goods for students experiencing food insecurity. Come stop by and get a bag!
URL:https://www.wcsu.edu/events/calendar/newman-club-food-pantry-4/2022-10-11/
LOCATION:Newman Center\, 7 8th Avenue\, Danbury\, CT\, 06810\, United States
CATEGORIES:Food,WOW
ATTACH;FMTTYPE=image/jpeg:https://www.wcsu.edu/events/wp-content/uploads/sites/181/2022/09/Blue-Colorful-Kiosk-Instagram-Post-e1663688542716.jpeg
END:VEVENT
BEGIN:VEVENT
DTSTART;TZID=UTC:20221004T153000
DTEND;TZID=UTC:20221004T153000
DTSTAMP:20260420T124535
CREATED:20220920T194354Z
LAST-MODIFIED:20220920T195016Z
UID:10062769-1664897400-1664897400@www.wcsu.edu
SUMMARY:Newman Club Food Pantry
DESCRIPTION:NEWMAN CLUB FOOD PANTRY: Struggling and in need of food? The Newman Club is here to help! Every Tuesday from 3:30-4:30 p.m. at the Newman Center (behind and across from Newbury Hall)\, the Newman Club will be handing out bags of nonperishable goods for students experiencing food insecurity. Come stop by and get a bag!
URL:https://www.wcsu.edu/events/calendar/newman-club-food-pantry-4/2022-10-04/
LOCATION:Newman Center\, 7 8th Avenue\, Danbury\, CT\, 06810\, United States
CATEGORIES:Food,WOW
ATTACH;FMTTYPE=image/jpeg:https://www.wcsu.edu/events/wp-content/uploads/sites/181/2022/09/Blue-Colorful-Kiosk-Instagram-Post-e1663688542716.jpeg
END:VEVENT
BEGIN:VEVENT
DTSTART;TZID=UTC:20220928T170000
DTEND;TZID=UTC:20220928T183000
DTSTAMP:20260420T124535
CREATED:20220921T195900Z
LAST-MODIFIED:20220921T195914Z
UID:10062782-1664384400-1664389800@www.wcsu.edu
SUMMARY:Chipotle Newman Dinner
DESCRIPTION:CHIPOTLE NEWMAN DINNER: Come to our next Newman dinner from 5 to 6:30 p.m. at the Newman Center (behind and across from Newbury Hall). We will be having chicken\, veggie\, and steak burritos from Chipotle\, plus chips and dip! Come have some yummy Mexican food with us ! Bring your friends!
URL:https://www.wcsu.edu/events/calendar/chipotle-newman-dinner/
LOCATION:Newman Center\, 7 8th Avenue\, Danbury\, CT\, 06810\, United States
CATEGORIES:Food
ATTACH;FMTTYPE=image/png:https://www.wcsu.edu/events/wp-content/uploads/sites/181/2022/09/Screen-Shot-2022-09-21-at-10.55.57-AM-1-e1663775926205.png
END:VEVENT
BEGIN:VEVENT
DTSTART;TZID=UTC:20220928T150000
DTEND;TZID=UTC:20220928T160000
DTSTAMP:20260420T124535
CREATED:20220927T171925Z
LAST-MODIFIED:20220927T171926Z
UID:10062917-1664377200-1664380800@www.wcsu.edu
SUMMARY:Lectio Divina with Erica
DESCRIPTION:LECTIO DIVINIA WITH ERICA: Need some time to relax after a long day? Want to spend a few minutes in contemplative reflection before our Newman dinner?  The  Newman Club will host a  Lectio Divina  from 3 to 4 p.m. at the Newman Center (behind and across from Newbury Hall)  for all students on campus. The Lectio Divina  will be led by Newman Club PR Chair/Treasurer Erica. Lectio Divinas are guided readings and reflections with the focus of bringing everyone together as a community. Everyone is welcome! Looking forward to seeing you all there!
URL:https://www.wcsu.edu/events/calendar/lectio-divina-with-erica/
LOCATION:Newman Center\, 7 8th Avenue\, Danbury\, CT\, 06810\, United States
CATEGORIES:Reading
ATTACH;FMTTYPE=image/png:https://www.wcsu.edu/events/wp-content/uploads/sites/181/2022/09/Screen-Shot-2022-09-26-at-10.20.25-AM-e1665500052115.png
END:VEVENT
BEGIN:VEVENT
DTSTART;TZID=UTC:20220927T153000
DTEND;TZID=UTC:20220927T153000
DTSTAMP:20260420T124535
CREATED:20220920T194354Z
LAST-MODIFIED:20220920T195016Z
UID:10062768-1664292600-1664292600@www.wcsu.edu
SUMMARY:Newman Club Food Pantry
DESCRIPTION:NEWMAN CLUB FOOD PANTRY: Struggling and in need of food? The Newman Club is here to help! Every Tuesday from 3:30-4:30 p.m. at the Newman Center (behind and across from Newbury Hall)\, the Newman Club will be handing out bags of nonperishable goods for students experiencing food insecurity. Come stop by and get a bag!
URL:https://www.wcsu.edu/events/calendar/newman-club-food-pantry-4/2022-09-27/
LOCATION:Newman Center\, 7 8th Avenue\, Danbury\, CT\, 06810\, United States
CATEGORIES:Food,WOW
ATTACH;FMTTYPE=image/jpeg:https://www.wcsu.edu/events/wp-content/uploads/sites/181/2022/09/Blue-Colorful-Kiosk-Instagram-Post-e1663688542716.jpeg
END:VEVENT
BEGIN:VEVENT
DTSTART;TZID=UTC:20220920T153000
DTEND;TZID=UTC:20220920T163000
DTSTAMP:20260420T124535
CREATED:20220916T232053Z
LAST-MODIFIED:20220916T232053Z
UID:10062752-1663687800-1663691400@www.wcsu.edu
SUMMARY:Newman Club Food Pantry
DESCRIPTION:NEWMAN CLUB FOOD PANTRY: Struggling and in need of food? The Newman Club is here to help! Every Tuesday from 3:30-4:30 p.m. at the Newman Center (behind and across from Newbury Hall)\,  the Newman Club will be handing out bags of nonperishable goods for students experiencing food insecurity. Come stop by and get a bag!
URL:https://www.wcsu.edu/events/calendar/newman-club-food-pantry-5/
LOCATION:Newman Center\, 7 8th Avenue\, Danbury\, CT\, 06810\, United States
CATEGORIES:Food
ATTACH;FMTTYPE=image/jpeg:https://www.wcsu.edu/events/wp-content/uploads/sites/181/2022/09/Blue-Colorful-Kiosk-Instagram-Post-e1663688542716.jpeg
END:VEVENT
END:VCALENDAR