BEGIN:VCALENDAR
VERSION:2.0
PRODID:-//WCSU Events - ECPv6.15.17.1//NONSGML v1.0//EN
CALSCALE:GREGORIAN
METHOD:PUBLISH
X-WR-CALNAME:WCSU Events
X-ORIGINAL-URL:https://www.wcsu.edu/events
X-WR-CALDESC:Events for WCSU Events
REFRESH-INTERVAL;VALUE=DURATION:PT1H
X-Robots-Tag:noindex
X-PUBLISHED-TTL:PT1H
BEGIN:VTIMEZONE
TZID:UTC
BEGIN:STANDARD
TZOFFSETFROM:+0000
TZOFFSETTO:+0000
TZNAME:UTC
DTSTART:20210101T000000
END:STANDARD
END:VTIMEZONE
BEGIN:VEVENT
DTSTART;TZID=UTC:20221011T153000
DTEND;TZID=UTC:20221011T153000
DTSTAMP:20260420T193548
CREATED:20220920T194354Z
LAST-MODIFIED:20220920T195016Z
UID:10062770-1665502200-1665502200@www.wcsu.edu
SUMMARY:Newman Club Food Pantry
DESCRIPTION:NEWMAN CLUB FOOD PANTRY: Struggling and in need of food? The Newman Club is here to help! Every Tuesday from 3:30-4:30 p.m. at the Newman Center (behind and across from Newbury Hall)\, the Newman Club will be handing out bags of nonperishable goods for students experiencing food insecurity. Come stop by and get a bag!
URL:https://www.wcsu.edu/events/calendar/newman-club-food-pantry-4/2022-10-11/
LOCATION:Newman Center\, 7 8th Avenue\, Danbury\, CT\, 06810\, United States
CATEGORIES:Food,WOW
ATTACH;FMTTYPE=image/jpeg:https://www.wcsu.edu/events/wp-content/uploads/sites/181/2022/09/Blue-Colorful-Kiosk-Instagram-Post-e1663688542716.jpeg
END:VEVENT
BEGIN:VEVENT
DTSTART;TZID=UTC:20221004T153000
DTEND;TZID=UTC:20221004T153000
DTSTAMP:20260420T193548
CREATED:20220920T194354Z
LAST-MODIFIED:20220920T195016Z
UID:10062769-1664897400-1664897400@www.wcsu.edu
SUMMARY:Newman Club Food Pantry
DESCRIPTION:NEWMAN CLUB FOOD PANTRY: Struggling and in need of food? The Newman Club is here to help! Every Tuesday from 3:30-4:30 p.m. at the Newman Center (behind and across from Newbury Hall)\, the Newman Club will be handing out bags of nonperishable goods for students experiencing food insecurity. Come stop by and get a bag!
URL:https://www.wcsu.edu/events/calendar/newman-club-food-pantry-4/2022-10-04/
LOCATION:Newman Center\, 7 8th Avenue\, Danbury\, CT\, 06810\, United States
CATEGORIES:Food,WOW
ATTACH;FMTTYPE=image/jpeg:https://www.wcsu.edu/events/wp-content/uploads/sites/181/2022/09/Blue-Colorful-Kiosk-Instagram-Post-e1663688542716.jpeg
END:VEVENT
BEGIN:VEVENT
DTSTART;TZID=UTC:20220928T170000
DTEND;TZID=UTC:20220928T183000
DTSTAMP:20260420T193548
CREATED:20220921T195900Z
LAST-MODIFIED:20220921T195914Z
UID:10062782-1664384400-1664389800@www.wcsu.edu
SUMMARY:Chipotle Newman Dinner
DESCRIPTION:CHIPOTLE NEWMAN DINNER: Come to our next Newman dinner from 5 to 6:30 p.m. at the Newman Center (behind and across from Newbury Hall). We will be having chicken\, veggie\, and steak burritos from Chipotle\, plus chips and dip! Come have some yummy Mexican food with us ! Bring your friends!
URL:https://www.wcsu.edu/events/calendar/chipotle-newman-dinner/
LOCATION:Newman Center\, 7 8th Avenue\, Danbury\, CT\, 06810\, United States
CATEGORIES:Food
ATTACH;FMTTYPE=image/png:https://www.wcsu.edu/events/wp-content/uploads/sites/181/2022/09/Screen-Shot-2022-09-21-at-10.55.57-AM-1-e1663775926205.png
END:VEVENT
BEGIN:VEVENT
DTSTART;TZID=UTC:20220928T150000
DTEND;TZID=UTC:20220928T160000
DTSTAMP:20260420T193548
CREATED:20220927T171925Z
LAST-MODIFIED:20220927T171926Z
UID:10062917-1664377200-1664380800@www.wcsu.edu
SUMMARY:Lectio Divina with Erica
DESCRIPTION:LECTIO DIVINIA WITH ERICA: Need some time to relax after a long day? Want to spend a few minutes in contemplative reflection before our Newman dinner?  The  Newman Club will host a  Lectio Divina  from 3 to 4 p.m. at the Newman Center (behind and across from Newbury Hall)  for all students on campus. The Lectio Divina  will be led by Newman Club PR Chair/Treasurer Erica. Lectio Divinas are guided readings and reflections with the focus of bringing everyone together as a community. Everyone is welcome! Looking forward to seeing you all there!
URL:https://www.wcsu.edu/events/calendar/lectio-divina-with-erica/
LOCATION:Newman Center\, 7 8th Avenue\, Danbury\, CT\, 06810\, United States
CATEGORIES:Reading
ATTACH;FMTTYPE=image/png:https://www.wcsu.edu/events/wp-content/uploads/sites/181/2022/09/Screen-Shot-2022-09-26-at-10.20.25-AM-e1665500052115.png
END:VEVENT
BEGIN:VEVENT
DTSTART;TZID=UTC:20220927T153000
DTEND;TZID=UTC:20220927T153000
DTSTAMP:20260420T193548
CREATED:20220920T194354Z
LAST-MODIFIED:20220920T195016Z
UID:10062768-1664292600-1664292600@www.wcsu.edu
SUMMARY:Newman Club Food Pantry
DESCRIPTION:NEWMAN CLUB FOOD PANTRY: Struggling and in need of food? The Newman Club is here to help! Every Tuesday from 3:30-4:30 p.m. at the Newman Center (behind and across from Newbury Hall)\, the Newman Club will be handing out bags of nonperishable goods for students experiencing food insecurity. Come stop by and get a bag!
URL:https://www.wcsu.edu/events/calendar/newman-club-food-pantry-4/2022-09-27/
LOCATION:Newman Center\, 7 8th Avenue\, Danbury\, CT\, 06810\, United States
CATEGORIES:Food,WOW
ATTACH;FMTTYPE=image/jpeg:https://www.wcsu.edu/events/wp-content/uploads/sites/181/2022/09/Blue-Colorful-Kiosk-Instagram-Post-e1663688542716.jpeg
END:VEVENT
BEGIN:VEVENT
DTSTART;TZID=UTC:20220920T153000
DTEND;TZID=UTC:20220920T163000
DTSTAMP:20260420T193548
CREATED:20220916T232053Z
LAST-MODIFIED:20220916T232053Z
UID:10062752-1663687800-1663691400@www.wcsu.edu
SUMMARY:Newman Club Food Pantry
DESCRIPTION:NEWMAN CLUB FOOD PANTRY: Struggling and in need of food? The Newman Club is here to help! Every Tuesday from 3:30-4:30 p.m. at the Newman Center (behind and across from Newbury Hall)\,  the Newman Club will be handing out bags of nonperishable goods for students experiencing food insecurity. Come stop by and get a bag!
URL:https://www.wcsu.edu/events/calendar/newman-club-food-pantry-5/
LOCATION:Newman Center\, 7 8th Avenue\, Danbury\, CT\, 06810\, United States
CATEGORIES:Food
ATTACH;FMTTYPE=image/jpeg:https://www.wcsu.edu/events/wp-content/uploads/sites/181/2022/09/Blue-Colorful-Kiosk-Instagram-Post-e1663688542716.jpeg
END:VEVENT
BEGIN:VEVENT
DTSTART;TZID=UTC:20220919T143000
DTEND;TZID=UTC:20220919T151500
DTSTAMP:20260420T193548
CREATED:20220919T165444Z
LAST-MODIFIED:20220919T165444Z
UID:10062753-1663597800-1663600500@www.wcsu.edu
SUMMARY:Lectio Divina with Allison
DESCRIPTION:LECTIO DIVINA WITH ALLISON: Need some time to relax after a long day? Want to spend a few minutes in contemplative reflection? The Newman Club will be hosting a  Lectio Divina from 2:30 to 3:15 p.m. at the Newman Center (behind and across from Newbury Hall) for all students on campus. The Lectio Divina will be led by Newman Club  Service Coordinator/Secretary Allison Cerasale. Lectio Divinas are guided readings and reflections with the focus of bringing everyone together as a community. Everyone is welcome! Looking forward to seeing you all there!
URL:https://www.wcsu.edu/events/calendar/lectio-divina-with-allison/
LOCATION:Newman Center\, 7 8th Avenue\, Danbury\, CT\, 06810\, United States
CATEGORIES:Reading
ATTACH;FMTTYPE=image/png:https://www.wcsu.edu/events/wp-content/uploads/sites/181/2022/09/Screen-Shot-2022-09-16-at-3.20.38-PM-e1663592043549.png
END:VEVENT
BEGIN:VEVENT
DTSTART;TZID=UTC:20220914T170000
DTEND;TZID=UTC:20220914T183000
DTSTAMP:20260420T193548
CREATED:20220913T183108Z
LAST-MODIFIED:20220914T192833Z
UID:10060499-1663174800-1663180200@www.wcsu.edu
SUMMARY:Soho Pizza Newman Dinner
DESCRIPTION:SOHO PIZZA NEWMAN DINNER: Come to our next Newman dinner from 5-6:30 p.m. at the Newman Center (behind and across from Newbury Hall). We will have a wide variety of pizzas from a Danbury classic\, Soho’s! Come have some yummy pizza with us! Bring your friends!
URL:https://www.wcsu.edu/events/calendar/soho-pizza-newman-dinner/
LOCATION:Newman Center\, 7 8th Avenue\, Danbury\, CT\, 06810\, United States
CATEGORIES:Food,Social Event
ATTACH;FMTTYPE=image/png:https://www.wcsu.edu/events/wp-content/uploads/sites/181/2022/09/Screen-Shot-2022-09-13-at-10.25.22-AM-e1665500333642.png
END:VEVENT
BEGIN:VEVENT
DTSTART;TZID=UTC:20220913T153000
DTEND;TZID=UTC:20220913T163000
DTSTAMP:20260420T193548
CREATED:20220913T182924Z
LAST-MODIFIED:20220913T182924Z
UID:10060497-1663083000-1663086600@www.wcsu.edu
SUMMARY:Newman Club Food Pantry
DESCRIPTION:NEWMAN CLUB FOOD PANTRY: Struggling and in need of food? The Newman Club is here to help! Every Tuesday from 3:30-4:30 p.m. on both the Midtown and Westside campuses\, the Newman Club will be handing out bags of nonperishable goods for students experiencing food insecurity. Be on the lookout for us!
URL:https://www.wcsu.edu/events/calendar/newman-club-food-pantry-3/
LOCATION:Midtown campus\, 181 White St.\, Danbury\, CT
CATEGORIES:Food
ATTACH;FMTTYPE=image/jpeg:https://www.wcsu.edu/events/wp-content/uploads/sites/181/2022/09/IMG_2341-e1665500349387.jpg
END:VEVENT
BEGIN:VEVENT
DTSTART;TZID=UTC:20220504T170000
DTEND;TZID=UTC:20220504T183000
DTSTAMP:20260420T193548
CREATED:20220428T213733Z
LAST-MODIFIED:20220428T214820Z
UID:10062281-1651683600-1651689000@www.wcsu.edu
SUMMARY:End of Year Newman Dinner
DESCRIPTION:END OF THE YEAR NEWMAN DINNER AND CELEBRATION: Come celebrate the end of the school year with our last Newman dinner of the semester from 5 to 6:30 p.m.!!!\nWe will be having burgers and hotdogs! 🍔🌭 Invite your friends and we hope to see you there!
URL:https://www.wcsu.edu/events/calendar/end-of-year-newman-dinner/
LOCATION:Newman Center\, 7 8th Avenue\, Danbury\, CT\, 06810\, United States
CATEGORIES:Food,Social Event,WOW
ATTACH;FMTTYPE=image/png:https://www.wcsu.edu/events/wp-content/uploads/sites/181/2022/04/Screen-Shot-2022-04-27-at-3.58.04-PM.png
END:VEVENT
BEGIN:VEVENT
DTSTART;TZID=UTC:20220428T153000
DTEND;TZID=UTC:20220428T153000
DTSTAMP:20260420T193548
CREATED:20220425T221952Z
LAST-MODIFIED:20220425T221952Z
UID:10062279-1651159800-1651159800@www.wcsu.edu
SUMMARY:Newman Club Food Pantry
DESCRIPTION:NEWMAN CLUB FOOD PANTRY: From 3:30 to 4:30 p.m. in the Haas Library and Student Center on the Midtown  campus\, the Newman Club will be handing out bags of nonperishable food for all WCSU students and faculty. All you need to grab a bag is your student ID number! There are lots of good food inside! Come and bring your friends!
URL:https://www.wcsu.edu/events/calendar/newman-club-food-pantry-2/
LOCATION:Midtown campus\, 181 White St.\, Danbury\, CT
CATEGORIES:Food
ATTACH;FMTTYPE=image/jpeg:https://www.wcsu.edu/events/wp-content/uploads/sites/181/2022/04/IMG_0977-1.jpeg
END:VEVENT
BEGIN:VEVENT
DTSTART;TZID=UTC:20220421T153000
DTEND;TZID=UTC:20220421T163000
DTSTAMP:20260420T193548
CREATED:20220418T221821Z
LAST-MODIFIED:20220418T225114Z
UID:10062267-1650555000-1650558600@www.wcsu.edu
SUMMARY:Newman Club Food Pantry
DESCRIPTION:NEWMAN CLUB FOOD PANTRY: Today from 3:30 to 4:30 p.m. on the Midtown campus\, the Newman Club will be handing out bags of nonperishable food for all WCSU students and faculty. All you need to grab a bag is your student ID number! There are lots of good food inside! Come and bring your friends!
URL:https://www.wcsu.edu/events/calendar/newman-club-food-pantry/
LOCATION:Midtown campus\, 181 White St.\, Danbury\, CT
CATEGORIES:Food
ATTACH;FMTTYPE=image/jpeg:https://www.wcsu.edu/events/wp-content/uploads/sites/181/2022/04/IMG_0977.jpeg
END:VEVENT
BEGIN:VEVENT
DTSTART;TZID=UTC:20220420T170000
DTEND;TZID=UTC:20220420T170000
DTSTAMP:20260420T193548
CREATED:20220418T215407Z
LAST-MODIFIED:20220418T215413Z
UID:10062266-1650474000-1650474000@www.wcsu.edu
SUMMARY:Buffalo Wild Wings Newman Dinner
DESCRIPTION:BUFFALO WILD WINGS NEWMAN DINNER: ITS WING TIME! Come to the Newman Center (across from Newbury Hall) from 5 to 6:30 p.m. for a yummy Newman Dinner! We will be having wings from Buffalo Wild Wings\, plus sides and desserts! Bring your friends!
URL:https://www.wcsu.edu/events/calendar/buffalo-wild-wings-newman-dinner/
LOCATION:Newman Center\, 7 8th Avenue\, Danbury\, CT\, 06810\, United States
CATEGORIES:Social Event
ATTACH;FMTTYPE=image/jpeg:https://www.wcsu.edu/events/wp-content/uploads/sites/181/2022/04/IMG_1635.jpg
END:VEVENT
BEGIN:VEVENT
DTSTART;TZID=UTC:20220411T140000
DTEND;TZID=UTC:20220411T140000
DTSTAMP:20260420T193548
CREATED:20220407T174715Z
LAST-MODIFIED:20220407T174716Z
UID:10060116-1649685600-1649685600@www.wcsu.edu
SUMMARY:Lenten Lectio Divina
DESCRIPTION:LENTEN LECTIO DIVINA WIATH ALLISON: During the Lenten season\, the Newman Club will be hosting a 4-part Lectio Divina series for all students on campus. Lectio Divinas are guided readings and reflections with the focus of bringing everyone together as a community. The third Lectio Divina series will be held by Allison Cerasale\, the Newman Club Vice President\, from 2 to 3 p.m. at the Newman Center behind and across from Newbury Hall. Everyone is welcome! Looking forward to seeing you all there!
URL:https://www.wcsu.edu/events/calendar/lenten-lectio-divina/
LOCATION:Newman Center\, 7 8th Avenue\, Danbury\, CT\, 06810\, United States
CATEGORIES:Reading,Social Event,WOW
ATTACH;FMTTYPE=image/jpeg:https://www.wcsu.edu/events/wp-content/uploads/sites/181/2022/04/IMG_1587.jpg
END:VEVENT
END:VCALENDAR