BEGIN:VCALENDAR
VERSION:2.0
PRODID:-//WCSU Events - ECPv6.15.17.1//NONSGML v1.0//EN
CALSCALE:GREGORIAN
METHOD:PUBLISH
X-ORIGINAL-URL:https://www.wcsu.edu/events
X-WR-CALDESC:Events for WCSU Events
REFRESH-INTERVAL;VALUE=DURATION:PT1H
X-Robots-Tag:noindex
X-PUBLISHED-TTL:PT1H
BEGIN:VTIMEZONE
TZID:UTC
BEGIN:STANDARD
TZOFFSETFROM:+0000
TZOFFSETTO:+0000
TZNAME:UTC
DTSTART:20200101T000000
END:STANDARD
END:VTIMEZONE
BEGIN:VEVENT
DTSTART;TZID=UTC:20220429T193000
DTEND;TZID=UTC:20220429T230000
DTSTAMP:20260425T075320
CREATED:20220418T162605Z
LAST-MODIFIED:20220418T162621Z
UID:10062264-1651260600-1651273200@www.wcsu.edu
SUMMARY:Fashion Show
DESCRIPTION:FASHION SHOW: ALBUMS OF FASHION: The Black Student Union is hosting their annual fashion show. It will be a show representing fashion through the times. Starting at 7:30 p.m. in Ives Concert Hall.
URL:https://www.wcsu.edu/events/calendar/albums-of-fashion/
LOCATION:Ives Concert Hall\, 181 White St.\, Danbury\, CT
CATEGORIES:Diversity
ATTACH;FMTTYPE=image/gif:https://www.wcsu.edu/events/wp-content/uploads/sites/181/2022/04/Albums-of-Fashion.gif
END:VEVENT
BEGIN:VEVENT
DTSTART;TZID=UTC:20220420T140000
DTEND;TZID=UTC:20220420T160000
DTSTAMP:20260425T075320
CREATED:20220405T192552Z
LAST-MODIFIED:20220405T194217Z
UID:10060103-1650463200-1650470400@www.wcsu.edu
SUMMARY:Spring into Action!
DESCRIPTION:SPRING INTO ACTION: Join the Student Government Association in Gardening\, Vendors\, and Novelties! From 2 to 4 p.m. on the Science Building Lawn.
URL:https://www.wcsu.edu/events/calendar/spring-into-action/
LOCATION:Rec Field – Science Building Lawn\, 181 White St.\, Danbury\, CT
CATEGORIES:Climate,Recreation
ATTACH;FMTTYPE=image/png:https://www.wcsu.edu/events/wp-content/uploads/sites/181/2022/04/MicrosoftTeams-image-e1649947051281.png
END:VEVENT
BEGIN:VEVENT
DTSTART;TZID=UTC:20220408T173000
DTEND;TZID=UTC:20220408T190000
DTSTAMP:20260425T075320
CREATED:20220331T002522Z
LAST-MODIFIED:20220331T003132Z
UID:10062218-1649439000-1649444400@www.wcsu.edu
SUMMARY:SGA Elections Debate
DESCRIPTION:SGA ELECTIONS DEBATE/OPEN FORUM: The SGA Debate and Open forum for E-Board elections are happening at MTSC 202 from 5:30 to 7 p.m.! The event is open to the entire student body. We encourage you to attend and ask questions to your future E-Board. This is a great way to get to know who’s representing you!
URL:https://www.wcsu.edu/events/calendar/sga-elections-debate-open-forum/
LOCATION:Midtown Student Center\, 181 White St.\, Danbury\, CT
CATEGORIES:Discussion,Leadership,Meeting,Panel discussion,Public Events,WOW
ATTACH;FMTTYPE=image/png:https://www.wcsu.edu/events/wp-content/uploads/sites/181/2022/03/SGA-Elections-debate-1-e1649947068291.png
END:VEVENT
BEGIN:VEVENT
DTSTART;TZID=UTC:20220323T110000
DTEND;TZID=UTC:20220323T160000
DTSTAMP:20260425T075320
CREATED:20220323T222643Z
LAST-MODIFIED:20220323T222643Z
UID:10062190-1648033200-1648051200@www.wcsu.edu
SUMMARY:Goody Bags
DESCRIPTION:WOMEN EMPOWERMENT GOODY BAGS: In celebration of Women’s History Month\, SGA is giving free women empowerment goody bags! From 11 to 4 p.m. in the Campus & Student Centers.
URL:https://www.wcsu.edu/events/calendar/goody-bags-2/
LOCATION:Campus & Student Centers
ATTACH;FMTTYPE=image/png:https://www.wcsu.edu/events/wp-content/uploads/sites/181/2022/03/Orange-Abstract-International-Womens-Day-A4-Flyer-Instagram-Post.png
END:VEVENT
BEGIN:VEVENT
DTSTART;TZID=UTC:20220216T100000
DTEND;TZID=UTC:20220216T170000
DTSTAMP:20260425T075320
CREATED:20220210T233935Z
LAST-MODIFIED:20220214T193749Z
UID:10061812-1645005600-1645030800@www.wcsu.edu
SUMMARY:Goody Bags
DESCRIPTION:SAFE SEX AND SELF LOVE GOODY BAGS: Stop by the SGA Midtown Office (MTSC Room 215) between 10 a.m. and 5 p.m. to get a free safe sex & self love goody bag.
URL:https://www.wcsu.edu/events/calendar/goody-bags/
LOCATION:Midtown Student Center\, 181 White St.\, Danbury\, CT
CATEGORIES:Health And Wellness,Wellness
ATTACH;FMTTYPE=image/png:https://www.wcsu.edu/events/wp-content/uploads/sites/181/2022/02/Safe-sex-and-self-love-event-Instagram-Post-3.png
END:VEVENT
BEGIN:VEVENT
DTSTART;TZID=UTC:20220202T120000
DTEND;TZID=UTC:20220202T120000
DTSTAMP:20260425T075320
CREATED:20220127T210759Z
LAST-MODIFIED:20220201T053259Z
UID:10061728-1643803200-1643803200@www.wcsu.edu
SUMMARY:Clubs Carnival
DESCRIPTION:CLUBS CARNIVAL: Looking to get more involved on campus and want to build your leadership skills? Clubs Carnival is an excellent opportunity for students to get involved and build on their WCSU experience. Join us from noon to 4 p.m.
URL:https://www.wcsu.edu/events/calendar/clubs-carnival-4/
LOCATION:Westside Campus Center Ballroom\, 43 Lake Ave. Extension\, Danbury\, CT
CATEGORIES:Social Event
ATTACH;FMTTYPE=image/png:https://www.wcsu.edu/events/wp-content/uploads/sites/181/2022/01/IMG_1062-e1643307815883.png
END:VEVENT
BEGIN:VEVENT
DTSTART;TZID=UTC:20211202T163000
DTEND;TZID=UTC:20211202T193000
DTSTAMP:20260425T075320
CREATED:20211129T202444Z
LAST-MODIFIED:20211129T202446Z
UID:10059729-1638462600-1638473400@www.wcsu.edu
SUMMARY:Winter around the World!
DESCRIPTION:WINTER AROUND THE WORLD: This is an event hosted by SGA/Philanthropy and LASO. It is going to be held from 4:30 to 7:30 p.m. in the Westside Cafe before PAC Bingo. We will be celebrating the upcoming holidays with a little more culture and diversity! There will be foods from all seven continents including sesame seed chicken\, tacos\, curried lamb\, penne a la vodka\, tres leches and more! This event was created to bring students of all cultures to come together and embrace where we all came from. There will be a raffle with several winners\, as well as music and great vibes. Please come by and celebrate the holidays in a more diverse way!
URL:https://www.wcsu.edu/events/calendar/winter-around-the-world/
LOCATION:Campus & Student Centers
CATEGORIES:Diversity,Food,International,Social Event,WOW
ATTACH;FMTTYPE=image/jpeg:https://www.wcsu.edu/events/wp-content/uploads/sites/181/2021/11/LASO-SGA-Philantrophy-Present-2-1.jpg
ORGANIZER;CN="LASO":MAILTO:sanchez264@wcsu.edu
END:VEVENT
BEGIN:VEVENT
DTSTART;TZID=UTC:20211029T180000
DTEND;TZID=UTC:20211029T190000
DTSTAMP:20260425T075320
CREATED:20211027T213520Z
LAST-MODIFIED:20211027T213525Z
UID:10061517-1635530400-1635534000@www.wcsu.edu
SUMMARY:Trick or Treat MTSC
DESCRIPTION:TRICK OR TRICK MTSC: Come to the Midtown Student Center between 6 and 7 p.m. to grab halloween-decorated treats and a goody bag. Each office on the second floor will be giving out candy. A perfect opportunity for students to see where different offices are located and the services they offer.
URL:https://www.wcsu.edu/events/calendar/trick-or-treat-mtsc/
LOCATION:Midtown Student Center\, 181 White St.\, Danbury\, CT
CATEGORIES:Social Event,WOW
ATTACH;FMTTYPE=image/png:https://www.wcsu.edu/events/wp-content/uploads/sites/181/2021/10/Screen-Shot-tricktreat-e1635356031859.png
END:VEVENT
BEGIN:VEVENT
DTSTART;TZID=UTC:20210908T110000
DTEND;TZID=UTC:20210908T160000
DTSTAMP:20260425T075320
CREATED:20210806T212248Z
LAST-MODIFIED:20210901T180919Z
UID:10060451-1631098800-1631116800@www.wcsu.edu
SUMMARY:Clubs Carnival
DESCRIPTION:CLUBS CARNIVAL: Looking to get more involved on campus and want to meet new people? Come meet WCSU clubs and organizations at Clubs Carnival! There will be food\, prizes\, music\, entertainment\, and more from 11 a.m. to 4 p.m. on the Midtown campus on the Litchfield and Newbury lawns. 
URL:https://www.wcsu.edu/events/calendar/clubs-carnival-3-2021-09-08/
LOCATION:Midtown campus\, 181 White St.\, Danbury\, CT
CATEGORIES:Entertainment,Food,Social Event
ATTACH;FMTTYPE=image/png:https://www.wcsu.edu/events/wp-content/uploads/sites/181/2021/08/updated-CC.png
END:VEVENT
BEGIN:VEVENT
DTSTART;TZID=UTC:20210901T110000
DTEND;TZID=UTC:20210901T160000
DTSTAMP:20260425T075320
CREATED:20210806T212248Z
LAST-MODIFIED:20210830T231356Z
UID:10060402-1630494000-1630512000@www.wcsu.edu
SUMMARY:POSTPONED: Clubs Carnival
DESCRIPTION:POSTPONED: CLUBS CARNIVAL: Looking to get more involved on campus and want to meet new people? Come meet WCSU clubs and organizations at Clubs Carnival! There will be food\, prizes\, music\, entertainment\, and more from 11 a.m. to 4 p.m. on the Midtown campus on the Litchfield and Newbury lawns. This event will now take place on September 8.
URL:https://www.wcsu.edu/events/calendar/clubs-carnival-3/2021-09-01/
LOCATION:Midtown campus\, 181 White St.\, Danbury\, CT
CATEGORIES:Entertainment,Food,Social Event
ATTACH;FMTTYPE=image/png:https://www.wcsu.edu/events/wp-content/uploads/sites/181/2021/08/Clubs-carnival-2021-post.png
END:VEVENT
END:VCALENDAR