BEGIN:VCALENDAR
VERSION:2.0
PRODID:-//WCSU Events - ECPv6.15.17.1//NONSGML v1.0//EN
CALSCALE:GREGORIAN
METHOD:PUBLISH
X-WR-CALNAME:WCSU Events
X-ORIGINAL-URL:https://www.wcsu.edu/events
X-WR-CALDESC:Events for WCSU Events
REFRESH-INTERVAL;VALUE=DURATION:PT1H
X-Robots-Tag:noindex
X-PUBLISHED-TTL:PT1H
BEGIN:VTIMEZONE
TZID:America/New_York
BEGIN:DAYLIGHT
TZOFFSETFROM:-0500
TZOFFSETTO:-0400
TZNAME:EDT
DTSTART:20220313T070000
END:DAYLIGHT
BEGIN:STANDARD
TZOFFSETFROM:-0400
TZOFFSETTO:-0500
TZNAME:EST
DTSTART:20221106T060000
END:STANDARD
BEGIN:DAYLIGHT
TZOFFSETFROM:-0500
TZOFFSETTO:-0400
TZNAME:EDT
DTSTART:20230312T070000
END:DAYLIGHT
BEGIN:STANDARD
TZOFFSETFROM:-0400
TZOFFSETTO:-0500
TZNAME:EST
DTSTART:20231105T060000
END:STANDARD
BEGIN:DAYLIGHT
TZOFFSETFROM:-0500
TZOFFSETTO:-0400
TZNAME:EDT
DTSTART:20240310T070000
END:DAYLIGHT
BEGIN:STANDARD
TZOFFSETFROM:-0400
TZOFFSETTO:-0500
TZNAME:EST
DTSTART:20241103T060000
END:STANDARD
BEGIN:DAYLIGHT
TZOFFSETFROM:-0500
TZOFFSETTO:-0400
TZNAME:EDT
DTSTART:20250309T070000
END:DAYLIGHT
BEGIN:STANDARD
TZOFFSETFROM:-0400
TZOFFSETTO:-0500
TZNAME:EST
DTSTART:20251102T060000
END:STANDARD
BEGIN:DAYLIGHT
TZOFFSETFROM:-0500
TZOFFSETTO:-0400
TZNAME:EDT
DTSTART:20260308T070000
END:DAYLIGHT
BEGIN:STANDARD
TZOFFSETFROM:-0400
TZOFFSETTO:-0500
TZNAME:EST
DTSTART:20261101T060000
END:STANDARD
END:VTIMEZONE
BEGIN:VTIMEZONE
TZID:UTC
BEGIN:STANDARD
TZOFFSETFROM:+0000
TZOFFSETTO:+0000
TZNAME:UTC
DTSTART:20200101T000000
END:STANDARD
END:VTIMEZONE
BEGIN:VTIMEZONE
TZID:UTC
BEGIN:STANDARD
TZOFFSETFROM:+0000
TZOFFSETTO:+0000
TZNAME:UTC
DTSTART:20200101T000000
END:STANDARD
END:VTIMEZONE
BEGIN:VEVENT
DTSTART;TZID=America/New_York:20250417T000000
DTEND;TZID=America/New_York:20250417T170000
DTSTAMP:20260420T031500
CREATED:20250328T183616Z
LAST-MODIFIED:20250328T183637Z
UID:10070730-1744848000-1744909200@www.wcsu.edu
SUMMARY:TKE Jumpathon
DESCRIPTION:TKE JUMPATHON: The brothers of Tau Kappa Epsilon are hosting our annual Jumpathon on April 16\, 2025. We take shifts jumping on a trampoline for 24 hours straight to raise money for St Jude. Come hang out and have fun with bouncy houses and other games. All donations are accepted and appreciated! On the Fairfield Hall lawn on the Midtown campus.
URL:https://www.wcsu.edu/events/calendar/tke-jumpathon-3/
LOCATION:Fairfield Lawn
CATEGORIES:Charity/Fundraising,Greek life
ATTACH;FMTTYPE=image/jpeg:https://www.wcsu.edu/events/wp-content/uploads/sites/181/2023/09/Greek-Life.jpg
ORGANIZER;CN="Tau Kappa Epsilon":MAILTO:tz.taukappaepsilon@gmail.com
END:VEVENT
BEGIN:VEVENT
DTSTART;TZID=America/New_York:20250416T080000
DTEND;TZID=America/New_York:20250416T235900
DTSTAMP:20260420T031500
CREATED:20250328T183454Z
LAST-MODIFIED:20250331T132926Z
UID:10070729-1744790400-1744847940@www.wcsu.edu
SUMMARY:TKE Jumpathon
DESCRIPTION:TKE JUMPATHON: The brothers of Tau Kappa Epsilon are hosting our annual Jumpathon on April 16\, 2025. We take shifts jumping on a trampoline for 24 hours straight to raise money for St Jude. Come hang out and have fun with bouncy houses and other games. All donations are accepted and appreciated! On the Fairfield Hall lawn on the Midtown campus.
URL:https://www.wcsu.edu/events/calendar/tke-jumpathon-2-2/
LOCATION:Fairfield Lawn
CATEGORIES:Charity/Fundraising,Greek life,WOW
ATTACH;FMTTYPE=image/jpeg:https://www.wcsu.edu/events/wp-content/uploads/sites/181/2023/09/Greek-Life.jpg
ORGANIZER;CN="Tau Kappa Epsilon":MAILTO:tz.taukappaepsilon@gmail.com
END:VEVENT
BEGIN:VEVENT
DTSTART;TZID=America/New_York:20241205T200000
DTEND;TZID=America/New_York:20241205T230000
DTSTAMP:20260420T031500
CREATED:20241104T150222Z
LAST-MODIFIED:20241104T150222Z
UID:10070175-1733428800-1733439600@www.wcsu.edu
SUMMARY:TKE x Sigma Chi Bingo
DESCRIPTION:TKE X SIGMA CHI BINGO: Bingo hosted by TKE and Sigma Chi from 8 to 11 p.m. in the Westside Campus Center Ballroom.
URL:https://www.wcsu.edu/events/calendar/tke-x-sigma-chi-bingo/
LOCATION:Westside Campus Center Ballroom\, 43 Lake Ave. Extension\, Danbury\, CT
CATEGORIES:Greek life
ATTACH;FMTTYPE=image/jpeg:https://www.wcsu.edu/events/wp-content/uploads/sites/181/2023/09/Greek-Life.jpg
ORGANIZER;CN="Tau Kappa Epsilon":MAILTO:tz.taukappaepsilon@gmail.com
END:VEVENT
BEGIN:VEVENT
DTSTART;TZID=America/New_York:20241024T200000
DTEND;TZID=America/New_York:20241024T220000
DTSTAMP:20260420T031500
CREATED:20241003T153828Z
LAST-MODIFIED:20241003T153828Z
UID:10069924-1729800000-1729807200@www.wcsu.edu
SUMMARY:TKE Halloween Movie Night
DESCRIPTION:TKE HALLOWEEN MOVIE NIGHT: Come get free candy and sit down and watch “Smile\,” a 2022 American psychological supernatural horror film written and directed by Parker Finn in his feature directorial debut. From 8 to 10 p.m. at the Science Building Rec Field Lawn. Rain date is Tuesday\, Oct. 29.
URL:https://www.wcsu.edu/events/calendar/tke-halloween-movie-night/
LOCATION:Rec Field – Science Building Lawn\, 181 White St.\, Danbury\, CT
CATEGORIES:Greek life,Movie,Outdoor
ATTACH;FMTTYPE=image/jpeg:https://www.wcsu.edu/events/wp-content/uploads/sites/181/2023/09/Greek-Life.jpg
ORGANIZER;CN="Tau Kappa Epsilon":MAILTO:tz.taukappaepsilon@gmail.com
END:VEVENT
BEGIN:VEVENT
DTSTART;VALUE=DATE:20240418
DTEND;VALUE=DATE:20240419
DTSTAMP:20260420T031500
CREATED:20240410T163503Z
LAST-MODIFIED:20240411T162041Z
UID:10065943-1713398400-1713484799@www.wcsu.edu
SUMMARY:Jumpathon
DESCRIPTION:JUMPATHON: Join us on the Fairfield lawn. Jumpathon is a 24 hour event. There will be bounce houses\, trampolines\, a dunk tank\, carnival games\, raffles\, and more.
URL:https://www.wcsu.edu/events/calendar/jumpathon/
LOCATION:Fairfield Lawn
CATEGORIES:Charity/Fundraising,Greek life
ATTACH;FMTTYPE=image/png:https://www.wcsu.edu/events/wp-content/uploads/sites/181/2024/04/Jumpathon.png
ORGANIZER;CN="Tau Kappa Epsilon":MAILTO:tz.taukappaepsilon@gmail.com
END:VEVENT
BEGIN:VEVENT
DTSTART;TZID=America/New_York:20230420T120000
DTEND;TZID=America/New_York:20230421T120000
DTSTAMP:20260420T031500
CREATED:20230411T191202Z
LAST-MODIFIED:20230421T171804Z
UID:10063615-1681992000-1682078400@www.wcsu.edu
SUMMARY:TKE Jumpathon
DESCRIPTION:TKE JUMPATHON: The brothers of TKE will be jumping and participating in this event for 24 hours to raise money and spread awareness for childhood cancer. Find and support them on the Fairfield Hall Lawn from noon on Thursday until noon on Friday. 
URL:https://www.wcsu.edu/events/calendar/tke-jumpathon/
LOCATION:Fairfield Lawn
CATEGORIES:Charity/Fundraising,Greek life
ATTACH;FMTTYPE=image/jpeg:https://www.wcsu.edu/events/wp-content/uploads/sites/181/2023/02/Fairfield-Hall.jpg
ORGANIZER;CN="Tau Kappa Epsilon":MAILTO:tz.taukappaepsilon@gmail.com
END:VEVENT
BEGIN:VEVENT
DTSTART;TZID=UTC:20211103T110000
DTEND;TZID=UTC:20211103T150000
DTSTAMP:20260420T031500
CREATED:20211101T170453Z
LAST-MODIFIED:20211101T170502Z
UID:10061550-1635937200-1635951600@www.wcsu.edu
SUMMARY:TKE Pumpkin Smash
DESCRIPTION:TKE PUMPKIN SMASH: Come out for a day of pumpkin smashing with the brothers of Tau Kappa Epsilon. From 11 a.m. to 3 p.m. on the Midtown Quad. All proceeds go straight to St. Jude Children’s Research Hospital!
URL:https://www.wcsu.edu/events/calendar/tke-pumpkin-smash/
LOCATION:Midtown Campus Quad\, 181 White Street\, Danbury\, CT
CATEGORIES:Charity/Fundraising
ATTACH;FMTTYPE=image/png:https://www.wcsu.edu/events/wp-content/uploads/sites/181/2021/11/png_20211022_031328_0000-1.png
ORGANIZER;CN="Tau Kappa Epsilon":MAILTO:tz.taukappaepsilon@gmail.com
END:VEVENT
BEGIN:VEVENT
DTSTART;TZID=UTC:20211027T110000
DTEND;TZID=UTC:20211027T150000
DTSTAMP:20260420T031500
CREATED:20211022T232634Z
LAST-MODIFIED:20211022T232634Z
UID:10059577-1635332400-1635346800@www.wcsu.edu
SUMMARY:Pumpkin Smash with TKE!
DESCRIPTION:PUMPKIN SMASH WITH TKE: Join the brothers of Tau Kappa Epsilon from 11 a.m. to 3 p.m. on the Midtown campus Quad for a day of pumpkin smashing! All proceeds go straight to St. Jude Children’s Hospital!
URL:https://www.wcsu.edu/events/calendar/pumpkin-smash-with-tke-2/
LOCATION:Midtown Campus Quad\, 181 White Street\, Danbury\, CT
CATEGORIES:Charity/Fundraising
ORGANIZER;CN="Tau Kappa Epsilon":MAILTO:tz.taukappaepsilon@gmail.com
END:VEVENT
BEGIN:VEVENT
DTSTART;TZID=UTC:20211027T110000
DTEND;TZID=UTC:20211027T150000
DTSTAMP:20260420T031500
CREATED:20211022T181113Z
LAST-MODIFIED:20211022T232713Z
UID:10059575-1635332400-1635346800@www.wcsu.edu
SUMMARY:Pumpkin Smash with TKE!
DESCRIPTION:PUMPKIN SMASH WITH TKE!: Come out and join the brothers of Tau Kappa Epsilon for a day of smashing pumpkins! All proceeds go straight to St. Jude Children’s Research Hospital! From 11 a.m. to 3 p.m. on the Midtown Campus Quad.
URL:https://www.wcsu.edu/events/calendar/pumpkin-smash-with-tke/
LOCATION:Midtown Campus Quad\, 181 White Street\, Danbury\, CT
CATEGORIES:Charity/Fundraising,Public Events,Social Event,WOW
ATTACH;FMTTYPE=image/png:https://www.wcsu.edu/events/wp-content/uploads/sites/181/2021/10/png_20211022_031328_0000.png
ORGANIZER;CN="Tau Kappa Epsilon":MAILTO:tz.taukappaepsilon@gmail.com
END:VEVENT
BEGIN:VEVENT
DTSTART;TZID=UTC:20211006T110000
DTEND;TZID=UTC:20211006T150000
DTSTAMP:20260420T031500
CREATED:20211004T172528Z
LAST-MODIFIED:20211004T172658Z
UID:10061397-1633518000-1633532400@www.wcsu.edu
SUMMARY:Pie A TeKE
DESCRIPTION:PIE A TKE: Come out and pie the brothers of Tau Kappa Epsilon in the face while donating to a good cause. From 11 to 3 p.m. in the Midtown campus Quad.
URL:https://www.wcsu.edu/events/calendar/pie-a-teke/
LOCATION:Midtown Campus Quad\, 181 White Street\, Danbury\, CT
CATEGORIES:Charity/Fundraising,Entertainment,WOW
ATTACH;FMTTYPE=image/png:https://www.wcsu.edu/events/wp-content/uploads/sites/181/2021/10/0001-9124158127_20211002_010843_0000-e1633353993577.png
ORGANIZER;CN="Tau Kappa Epsilon":MAILTO:tz.taukappaepsilon@gmail.com
END:VEVENT
BEGIN:VEVENT
DTSTART;TZID=UTC:20211005T170000
DTEND;TZID=UTC:20211005T210000
DTSTAMP:20260420T031500
CREATED:20210929T221403Z
LAST-MODIFIED:20210929T221403Z
UID:10061370-1633453200-1633467600@www.wcsu.edu
SUMMARY:TKE Fundraiser
DESCRIPTION:TAU KAPPA EPSILON CHIPOTLE FUNDRAISER: Come out and support Tau Kappa Epsilon on their future endeavors while enjoying a delicious meal at Chipotle between 5 and 9 p.m.! Use code HRTR2R9 when picking up your meal or show them the flyer!
URL:https://www.wcsu.edu/events/calendar/tke-fundraiser/
LOCATION:Chipotle
CATEGORIES:Charity/Fundraising,Food
ATTACH;FMTTYPE=image/jpeg:https://www.wcsu.edu/events/wp-content/uploads/sites/181/2021/09/353395-flyer.jpg
ORGANIZER;CN="Tau Kappa Epsilon":MAILTO:tz.taukappaepsilon@gmail.com
END:VEVENT
BEGIN:VEVENT
DTSTART;TZID=UTC:20210927T120000
DTEND;TZID=UTC:20210927T150000
DTSTAMP:20260420T031500
CREATED:20210927T172044Z
LAST-MODIFIED:20210927T172044Z
UID:10061362-1632744000-1632754800@www.wcsu.edu
SUMMARY:DartBoard for St. Jude
DESCRIPTION:DARTBOARD FOR ST. JUDE: Come out and throw some darts with the brothers of Tau Kappa Epsilon! Throw darts at balloons and earn a chance to win a gift. All payments go directly to St.Jude Children’s Research Hospital!
URL:https://www.wcsu.edu/events/calendar/dartboard-for-st-jude/
LOCATION:Midtown Campus Quad\, 181 White Street\, Danbury\, CT
CATEGORIES:Charity/Fundraising,Contest,Social Event
ATTACH;FMTTYPE=image/jpeg:https://www.wcsu.edu/events/wp-content/uploads/sites/181/2021/09/IMG_7965002.jpg
ORGANIZER;CN="Tau Kappa Epsilon":MAILTO:tz.taukappaepsilon@gmail.com
END:VEVENT
END:VCALENDAR