BEGIN:VCALENDAR
VERSION:2.0
PRODID:-//WCSU Events - ECPv6.15.17.1//NONSGML v1.0//EN
CALSCALE:GREGORIAN
METHOD:PUBLISH
X-ORIGINAL-URL:https://www.wcsu.edu/events
X-WR-CALDESC:Events for WCSU Events
REFRESH-INTERVAL;VALUE=DURATION:PT1H
X-Robots-Tag:noindex
X-PUBLISHED-TTL:PT1H
BEGIN:VTIMEZONE
TZID:America/New_York
BEGIN:DAYLIGHT
TZOFFSETFROM:-0500
TZOFFSETTO:-0400
TZNAME:EDT
DTSTART:20210314T070000
END:DAYLIGHT
BEGIN:STANDARD
TZOFFSETFROM:-0400
TZOFFSETTO:-0500
TZNAME:EST
DTSTART:20211107T060000
END:STANDARD
BEGIN:DAYLIGHT
TZOFFSETFROM:-0500
TZOFFSETTO:-0400
TZNAME:EDT
DTSTART:20220313T070000
END:DAYLIGHT
BEGIN:STANDARD
TZOFFSETFROM:-0400
TZOFFSETTO:-0500
TZNAME:EST
DTSTART:20221106T060000
END:STANDARD
BEGIN:DAYLIGHT
TZOFFSETFROM:-0500
TZOFFSETTO:-0400
TZNAME:EDT
DTSTART:20230312T070000
END:DAYLIGHT
BEGIN:STANDARD
TZOFFSETFROM:-0400
TZOFFSETTO:-0500
TZNAME:EST
DTSTART:20231105T060000
END:STANDARD
BEGIN:DAYLIGHT
TZOFFSETFROM:-0500
TZOFFSETTO:-0400
TZNAME:EDT
DTSTART:20240310T070000
END:DAYLIGHT
BEGIN:STANDARD
TZOFFSETFROM:-0400
TZOFFSETTO:-0500
TZNAME:EST
DTSTART:20241103T060000
END:STANDARD
END:VTIMEZONE
BEGIN:VTIMEZONE
TZID:UTC
BEGIN:STANDARD
TZOFFSETFROM:+0000
TZOFFSETTO:+0000
TZNAME:UTC
DTSTART:20210101T000000
END:STANDARD
END:VTIMEZONE
BEGIN:VEVENT
DTSTART;TZID=America/New_York:20230504T170000
DTEND;TZID=America/New_York:20230504T190000
DTSTAMP:20260419T233920
CREATED:20230424T172442Z
LAST-MODIFIED:20230427T124121Z
UID:10063640-1683219600-1683226800@www.wcsu.edu
SUMMARY:Bailando With the Community
DESCRIPTION:BAILANDO WITH THE COMMUNITY: Join us for Bailando with the Community from 5 to 7 p.m. in Warner Hall 101! Join us to learn about Puerto Rico’s traditional Bomba dancing with Brass City Bomba! There will be free food\, raffle prizes\, and lots of dancing! Sponsored by SGA\, WCSU Beyond Borders\, Latin America Student Organization\, Pre-Collegiate and Access Programs\, World Languages and Cultures Programs\, Office of InterCultural Affairs\, and the Commuter Student Organization. 
URL:https://www.wcsu.edu/events/calendar/bailando-with-the-community-3/
LOCATION:Warner Hall 101\, 181 White St.\, Danbury\, CT
CATEGORIES:Dance,Food
ATTACH;FMTTYPE=image/jpeg:https://www.wcsu.edu/events/wp-content/uploads/sites/181/2022/08/Warner-Hall-1-e1677177191305.jpg
END:VEVENT
BEGIN:VEVENT
DTSTART;TZID=America/New_York:20221208T160000
DTEND;TZID=America/New_York:20221208T180000
DTSTAMP:20260419T233920
CREATED:20221129T171312Z
LAST-MODIFIED:20221129T171312Z
UID:10063181-1670515200-1670522400@www.wcsu.edu
SUMMARY:WCSU Beyond Borders Holiday Celebration
DESCRIPTION:WCSU BEYOND BORDERS HOLIDAY CELEBRATION: WCSU Beyond Borders will host a holiday celebration with fun activities\, games and food from 4 to 6 p.m. in Warner Hall on the Midtown campus! Come destress a bit during a hectic week!
URL:https://www.wcsu.edu/events/calendar/wcsu-beyond-borders-holiday-celebration/
LOCATION:Warner Hall\, 181 White St.\, Danbury\, CT
CATEGORIES:Food,Games,Social Event
ATTACH;FMTTYPE=image/jpeg:https://www.wcsu.edu/events/wp-content/uploads/sites/181/2022/11/WBB-Christmas-1.jpg
END:VEVENT
BEGIN:VEVENT
DTSTART;TZID=UTC:20221117T160000
DTEND;TZID=UTC:20221117T173000
DTSTAMP:20260419T233920
CREATED:20221102T002256Z
LAST-MODIFIED:20221102T002427Z
UID:10061435-1668700800-1668706200@www.wcsu.edu
SUMMARY:Breaking Down the Borders of Oppression
DESCRIPTION:BREAKING DOWN THE BORDERS OF OPPRESSION: A panel event with first-generation WCSU past and current students at 4 p.m. in Room 127 of White Hall on the Midtown campus. Open to the WCSU campus community only.
URL:https://www.wcsu.edu/events/calendar/breaking-down-the-borders-of-oppression/
LOCATION:White Hall 127\, 181 White St.\, Danbury\, CT
CATEGORIES:Panel discussion
ATTACH;FMTTYPE=image/jpeg:https://www.wcsu.edu/events/wp-content/uploads/sites/181/2022/11/WBB-Panel-Event-Flyer.jpg
END:VEVENT
BEGIN:VEVENT
DTSTART;TZID=UTC:20221020T173000
DTEND;TZID=UTC:20221020T200000
DTSTAMP:20260419T233920
CREATED:20221017T170818Z
LAST-MODIFIED:20221017T171322Z
UID:10061391-1666287000-1666296000@www.wcsu.edu
SUMMARY:Bailando with the Community
DESCRIPTION:BAILANDO WITH THE COMMUNITY:  Please join us in continuing the recognition and celebration of Hispanic culture and heritage and to fundraise funds for Puerto Rico while learning to dance bachata and salsa along with a talk by Dr. Alba Hawkins with food and other fun surprises!! \nThe lecture by Dr. Alba Hawkins in Warner Hall will begin at 5:30 p.m.; learn to Bachata & Salsa at 6 p.m.
URL:https://www.wcsu.edu/events/calendar/bailando-with-the-community/
LOCATION:Warner Hall\, 181 White St.\, Danbury\, CT
CATEGORIES:Diversity
ATTACH;FMTTYPE=image/png:https://www.wcsu.edu/events/wp-content/uploads/sites/181/2022/10/bailando-with-the-community-flyer-002.png
ORGANIZER;CN="Office of InterCultural Affairs":MAILTO:dennisd@wcsu.edu
END:VEVENT
BEGIN:VEVENT
DTSTART;TZID=UTC:20221020T173000
DTEND;TZID=UTC:20221020T193000
DTSTAMP:20260419T233920
CREATED:20221017T191955Z
LAST-MODIFIED:20221017T192053Z
UID:10061392-1666287000-1666294200@www.wcsu.edu
SUMMARY:Bailando With The Community
DESCRIPTION:BAILANDO WITH THE COMMUNITY: Join us from 5:30 to 7:30 p.m. in Warner Hall 101 to raise funds for Puerto Rico while learning to dance bachata and salsa along with a talk by Dr. Alba Hawkins with food and other fun surprises!!
URL:https://www.wcsu.edu/events/calendar/bailando-with-the-community-2/
LOCATION:Warner Hall 101\, 181 White St.\, Danbury\, CT
CATEGORIES:Diversity,Fundraising,Social Event
ATTACH;FMTTYPE=image/jpeg:https://www.wcsu.edu/events/wp-content/uploads/sites/181/2022/10/IMG_8523.jpg
END:VEVENT
BEGIN:VEVENT
DTSTART;TZID=UTC:20220922T123000
DTEND;TZID=UTC:20220922T134500
DTSTAMP:20260419T233920
CREATED:20220912T164339Z
LAST-MODIFIED:20220919T221936Z
UID:10060487-1663849800-1663854300@www.wcsu.edu
SUMMARY:Human Rights and Popular Education in El Salvador
DESCRIPTION:HUMAN RIGHTS AND POPULAR EDUCATION IN EL SALVADOR: Come join us in White Hall 314 from 12:30 to 1:45 p.m. as WCSU Beyond Borders and the UndocuAlly Task Force host U.S.-El Salvador Sister Cities for a two-part workshop on Human Rights and Popular Education in El Salvador! \nPlease RSVP to Carina Bandhauer bandhauerc@wcsu.edu
URL:https://www.wcsu.edu/events/calendar/human-rights-and-popular-education-in-el-salvador/
LOCATION:White Hall 314
CATEGORIES:Discussion,Speaker
ATTACH;FMTTYPE=image/png:https://www.wcsu.edu/events/wp-content/uploads/sites/181/2022/09/Screen-Shot-2022-09-10-at-9.13.56-PM-e1665500398902.png
ORGANIZER;CN="WCSU UndocuAlly Task Force":MAILTO:bandhauerc@wcsu.edu
END:VEVENT
END:VCALENDAR