BEGIN:VCALENDAR
VERSION:2.0
PRODID:-//WCSU Events - ECPv6.15.17.1//NONSGML v1.0//EN
CALSCALE:GREGORIAN
METHOD:PUBLISH
X-WR-CALNAME:WCSU Events
X-ORIGINAL-URL:https://www.wcsu.edu/events
X-WR-CALDESC:Events for WCSU Events
REFRESH-INTERVAL;VALUE=DURATION:PT1H
X-Robots-Tag:noindex
X-PUBLISHED-TTL:PT1H
BEGIN:VTIMEZONE
TZID:America/New_York
BEGIN:DAYLIGHT
TZOFFSETFROM:-0500
TZOFFSETTO:-0400
TZNAME:EDT
DTSTART:20220313T070000
END:DAYLIGHT
BEGIN:STANDARD
TZOFFSETFROM:-0400
TZOFFSETTO:-0500
TZNAME:EST
DTSTART:20221106T060000
END:STANDARD
BEGIN:DAYLIGHT
TZOFFSETFROM:-0500
TZOFFSETTO:-0400
TZNAME:EDT
DTSTART:20230312T070000
END:DAYLIGHT
BEGIN:STANDARD
TZOFFSETFROM:-0400
TZOFFSETTO:-0500
TZNAME:EST
DTSTART:20231105T060000
END:STANDARD
BEGIN:DAYLIGHT
TZOFFSETFROM:-0500
TZOFFSETTO:-0400
TZNAME:EDT
DTSTART:20240310T070000
END:DAYLIGHT
BEGIN:STANDARD
TZOFFSETFROM:-0400
TZOFFSETTO:-0500
TZNAME:EST
DTSTART:20241103T060000
END:STANDARD
END:VTIMEZONE
BEGIN:VTIMEZONE
TZID:UTC
BEGIN:STANDARD
TZOFFSETFROM:+0000
TZOFFSETTO:+0000
TZNAME:UTC
DTSTART:20200101T000000
END:STANDARD
END:VTIMEZONE
BEGIN:VEVENT
DTSTART;TZID=America/New_York:20230405T190000
DTEND;TZID=America/New_York:20230405T200000
DTSTAMP:20260420T193355
CREATED:20230223T202752Z
LAST-MODIFIED:20230315T185840Z
UID:10063476-1680721200-1680724800@www.wcsu.edu
SUMMARY:Climate and Human Civilization
DESCRIPTION:CLIMATE AND HUMAN CIVILIZATION: 8th annual series of lectures for the general public on climate change. Professors at WCSU will team up with students to present the latest information on climate change and its effects on our lives and future. All talks take place at 7 p.m. in Room 125 of the Science Building on the Midtown campus. \nW\, Mar 22: “Climate and Toxic Cyanobacteria”\nDr. Edwin Wong\nwith Keyner Rojas \nW\, Mar 29: “Light\, Heat\, & the Chemistry of Combustion Products”\nDr. Brian Stankus\nwith Emily Coelho \nW\, Apr 5: “Fungal Diseases and Climate”\nDr. Hannah Reynolds\nwith Ezaan Khan \nW\, Apr 12: “Instances of Environmental Justice Struggles at Home and Abroad”\nDr. Manoj Misra \nW\, Apr 19: “Hope”\nDr. Mitch Wagener\nwith Lindsay Kirkness
URL:https://www.wcsu.edu/events/calendar/climate-and-human-civilization-2/2023-04-05/
LOCATION:Science Building 125\, 181 White St.\, Danbury\, CT
CATEGORIES:Lectures
ATTACH;FMTTYPE=image/jpeg:https://www.wcsu.edu/events/wp-content/uploads/sites/181/2023/02/Science-Building.jpg
END:VEVENT
BEGIN:VEVENT
DTSTART;TZID=America/New_York:20230329T190000
DTEND;TZID=America/New_York:20230329T200000
DTSTAMP:20260420T193355
CREATED:20230223T202752Z
LAST-MODIFIED:20230315T185840Z
UID:10063475-1680116400-1680120000@www.wcsu.edu
SUMMARY:Climate and Human Civilization
DESCRIPTION:CLIMATE AND HUMAN CIVILIZATION: 8th annual series of lectures for the general public on climate change. Professors at WCSU will team up with students to present the latest information on climate change and its effects on our lives and future. All talks take place at 7 p.m. in Room 125 of the Science Building on the Midtown campus. \nW\, Mar 22: “Climate and Toxic Cyanobacteria”\nDr. Edwin Wong\nwith Keyner Rojas \nW\, Mar 29: “Light\, Heat\, & the Chemistry of Combustion Products”\nDr. Brian Stankus\nwith Emily Coelho \nW\, Apr 5: “Fungal Diseases and Climate”\nDr. Hannah Reynolds\nwith Ezaan Khan \nW\, Apr 12: “Instances of Environmental Justice Struggles at Home and Abroad”\nDr. Manoj Misra \nW\, Apr 19: “Hope”\nDr. Mitch Wagener\nwith Lindsay Kirkness
URL:https://www.wcsu.edu/events/calendar/climate-and-human-civilization-2/2023-03-29/
LOCATION:Science Building 125\, 181 White St.\, Danbury\, CT
CATEGORIES:Lectures
ATTACH;FMTTYPE=image/jpeg:https://www.wcsu.edu/events/wp-content/uploads/sites/181/2023/02/Science-Building.jpg
END:VEVENT
BEGIN:VEVENT
DTSTART;TZID=America/New_York:20230322T190000
DTEND;TZID=America/New_York:20230322T200000
DTSTAMP:20260420T193355
CREATED:20230223T202752Z
LAST-MODIFIED:20230315T185840Z
UID:10063473-1679511600-1679515200@www.wcsu.edu
SUMMARY:Climate and Human Civilization
DESCRIPTION:CLIMATE AND HUMAN CIVILIZATION: 8th annual series of lectures for the general public on climate change. Professors at WCSU will team up with students to present the latest information on climate change and its effects on our lives and future. All talks take place at 7 p.m. in Room 125 of the Science Building on the Midtown campus. \nW\, Mar 22: “Climate and Toxic Cyanobacteria”\nDr. Edwin Wong\nwith Keyner Rojas \nW\, Mar 29: “Light\, Heat\, & the Chemistry of Combustion Products”\nDr. Brian Stankus\nwith Emily Coelho \nW\, Apr 5: “Fungal Diseases and Climate”\nDr. Hannah Reynolds\nwith Ezaan Khan \nW\, Apr 12: “Instances of Environmental Justice Struggles at Home and Abroad”\nDr. Manoj Misra \nW\, Apr 19: “Hope”\nDr. Mitch Wagener\nwith Lindsay Kirkness
URL:https://www.wcsu.edu/events/calendar/climate-and-human-civilization-2/2023-03-22/
LOCATION:Science Building 125\, 181 White St.\, Danbury\, CT
CATEGORIES:Lectures
ATTACH;FMTTYPE=image/jpeg:https://www.wcsu.edu/events/wp-content/uploads/sites/181/2023/02/Science-Building.jpg
END:VEVENT
BEGIN:VEVENT
DTSTART;TZID=UTC:20221015T081500
DTEND;TZID=UTC:20221015T170000
DTSTAMP:20260420T193355
CREATED:20220620T224117Z
LAST-MODIFIED:20220620T224252Z
UID:10062580-1665821700-1665853200@www.wcsu.edu
SUMMARY:Tri-State Weather Conference
DESCRIPTION:The Eighth Tri-State Weather Conference will be held on Saturday\, Oct. 15\,  from 9 a.m. to 5 p.m. in the Science Building Room 125 on the Midtown campus of Western Connecticut State University\, 181 White St.\, Danbury\, Connecticut. Continental breakfast will be served from 8:15 to 9 a.m. in the Science Building Atrium. Please arrive early for check-in and breakfast. \n\nThe conference is presented by the Meteorology Program at Western Connecticut State University and co-sponsored by the WestConn Student Chapter of the AMS\, the New York City/Long Island Chapter of the AMS\, NOAA/National Weather Service/Upton\, N.Y and NOAA/National Weather Service/Boston/Norton\, MA. The purpose of the conference is to enhance education\, professional development and communication among private and public sector meteorologists\, researchers\, educators\, students\, emergency management officials\, and weather enthusiasts. \nSubmissions\, in the form of posters\, are being solicited on high impact weather events that affect the Tri-State region of New York\, New Jersey\, and Connecticut. Potential topics would include\, but are not limited to\, nor‘easters and winter weather\, severe thunderstorms\, tropical weather and hurricanes\, climate change\, and mesoscale meteorology. We are especially interested in presentations about significant historical severe weather events from the region from the past 25\, 50\, 75 and 100 years or more. The deadline for abstracts is August 15\, 2022. \nRegistration details \nThe registration fee is $35 and will include continental breakfast and a full buffet lunch\, along with conference materials. Please register online. \nFor further information\, contact Gary Lessor\, Department of Physics\, Astronomy\, and Meteorology\, Western Connecticut State University\, 181 White Street\, Danbury\, CT 06810 ; email: lessorg@wcsu.edu \nConference Hotel \nSeptember 30\, 2022\, is the Cut-Off Date as any guest rooms not reserved under the room block are returned to the hotel’s general inventory to be sold at full-price. The guests will no longer have access to the room block or the discounted guest room rate. If we have rooms available they are welcome to reserve but have them mention that they are indeed attending with this specific group so notes are made on their reservation and the hotel knows to include them in room assignments.  Make a reservation now. \nLinks \n\nConference Registration\nConference Speakers\nConference Schedule\nMaster of Ceremony – Craig Allen
URL:https://www.wcsu.edu/events/calendar/tri-state-weather-conference/
LOCATION:Science Building 125\, 181 White St.\, Danbury\, CT
CATEGORIES:Conference
ATTACH;FMTTYPE=image/jpeg:https://www.wcsu.edu/events/wp-content/uploads/sites/181/2022/06/weather-ida_space.jpg
END:VEVENT
BEGIN:VEVENT
DTSTART;TZID=UTC:20220420T190000
DTEND;TZID=UTC:20220420T200000
DTSTAMP:20260420T193355
CREATED:20220228T193632Z
LAST-MODIFIED:20220308T215139Z
UID:10060011-1650481200-1650484800@www.wcsu.edu
SUMMARY:Climate and Human Civilization
DESCRIPTION:CLIMATE AND HUMAN CIVILIZATION: The Jane Goodall Center presents the 7th annual series of lectures for the general public on climate change. WCSU faculty and students will discuss topics ranging from the relationship of climate change to major disasters\, mental health\, environmental justice\, and fish physiology. All lectures are scheduled in Science Building 125 and start at 7 p.m. (with the exception of the 3/28 lecture which starts at 7:30 p.m.).
URL:https://www.wcsu.edu/events/calendar/climate-and-human-civilization/2022-04-20/
LOCATION:Science Building 125\, 181 White St.\, Danbury\, CT
CATEGORIES:Lectures
ATTACH;FMTTYPE=image/jpeg:https://www.wcsu.edu/events/wp-content/uploads/sites/181/2022/02/Climate-talks_header400x200.jpg
END:VEVENT
BEGIN:VEVENT
DTSTART;TZID=UTC:20220413T190000
DTEND;TZID=UTC:20220413T200000
DTSTAMP:20260420T193355
CREATED:20220228T193632Z
LAST-MODIFIED:20220308T215139Z
UID:10060010-1649876400-1649880000@www.wcsu.edu
SUMMARY:Climate and Human Civilization
DESCRIPTION:CLIMATE AND HUMAN CIVILIZATION: The Jane Goodall Center presents the 7th annual series of lectures for the general public on climate change. WCSU faculty and students will discuss topics ranging from the relationship of climate change to major disasters\, mental health\, environmental justice\, and fish physiology. All lectures are scheduled in Science Building 125 and start at 7 p.m. (with the exception of the 3/28 lecture which starts at 7:30 p.m.).
URL:https://www.wcsu.edu/events/calendar/climate-and-human-civilization/2022-04-13/
LOCATION:Science Building 125\, 181 White St.\, Danbury\, CT
CATEGORIES:Lectures
ATTACH;FMTTYPE=image/jpeg:https://www.wcsu.edu/events/wp-content/uploads/sites/181/2022/02/Climate-talks_header400x200.jpg
END:VEVENT
BEGIN:VEVENT
DTSTART;TZID=UTC:20220406T190000
DTEND;TZID=UTC:20220406T200000
DTSTAMP:20260420T193355
CREATED:20220228T193632Z
LAST-MODIFIED:20220308T215139Z
UID:10060009-1649271600-1649275200@www.wcsu.edu
SUMMARY:Climate and Human Civilization
DESCRIPTION:CLIMATE AND HUMAN CIVILIZATION: The Jane Goodall Center presents the 7th annual series of lectures for the general public on climate change. WCSU faculty and students will discuss topics ranging from the relationship of climate change to major disasters\, mental health\, environmental justice\, and fish physiology. All lectures are scheduled in Science Building 125 and start at 7 p.m. (with the exception of the 3/28 lecture which starts at 7:30 p.m.).
URL:https://www.wcsu.edu/events/calendar/climate-and-human-civilization/2022-04-06/
LOCATION:Science Building 125\, 181 White St.\, Danbury\, CT
CATEGORIES:Lectures
ATTACH;FMTTYPE=image/jpeg:https://www.wcsu.edu/events/wp-content/uploads/sites/181/2022/02/Climate-talks_header400x200.jpg
END:VEVENT
BEGIN:VEVENT
DTSTART;TZID=UTC:20220328T193000
DTEND;TZID=UTC:20220328T203000
DTSTAMP:20260420T193355
CREATED:20220228T193632Z
LAST-MODIFIED:20220308T215139Z
UID:10060008-1648495800-1648499400@www.wcsu.edu
SUMMARY:Climate and Human Civilization
DESCRIPTION:CLIMATE AND HUMAN CIVILIZATION: The Jane Goodall Center presents the 7th annual series of lectures for the general public on climate change. WCSU faculty and students will discuss topics ranging from the relationship of climate change to major disasters\, mental health\, environmental justice\, and fish physiology. All lectures are scheduled in Science Building 125 and start at 7 p.m. (with the exception of the 3/28 lecture which starts at 7:30 p.m.).
URL:https://www.wcsu.edu/events/calendar/climate-and-human-civilization/2022-03-28/
LOCATION:Science Building 125\, 181 White St.\, Danbury\, CT
CATEGORIES:Lectures
ATTACH;FMTTYPE=image/jpeg:https://www.wcsu.edu/events/wp-content/uploads/sites/181/2022/02/Climate-talks_header400x200.jpg
END:VEVENT
BEGIN:VEVENT
DTSTART;TZID=UTC:20220323T190000
DTEND;TZID=UTC:20220323T200000
DTSTAMP:20260420T193355
CREATED:20220228T193632Z
LAST-MODIFIED:20220308T215139Z
UID:10060007-1648062000-1648065600@www.wcsu.edu
SUMMARY:Climate and Human Civilization
DESCRIPTION:CLIMATE AND HUMAN CIVILIZATION: The Jane Goodall Center presents the 7th annual series of lectures for the general public on climate change. WCSU faculty and students will discuss topics ranging from the relationship of climate change to major disasters\, mental health\, environmental justice\, and fish physiology. All lectures are scheduled in Science Building 125 and start at 7 p.m. (with the exception of the 3/28 lecture which starts at 7:30 p.m.).
URL:https://www.wcsu.edu/events/calendar/climate-and-human-civilization/2022-03-23/
LOCATION:Science Building 125\, 181 White St.\, Danbury\, CT
CATEGORIES:Lectures
ATTACH;FMTTYPE=image/jpeg:https://www.wcsu.edu/events/wp-content/uploads/sites/181/2022/02/Climate-talks_header400x200.jpg
END:VEVENT
BEGIN:VEVENT
DTSTART;TZID=UTC:20211103T173000
DTEND;TZID=UTC:20211103T190000
DTSTAMP:20260420T193355
CREATED:20211025T235331Z
LAST-MODIFIED:20211025T235331Z
UID:10061494-1635960600-1635966000@www.wcsu.edu
SUMMARY:COVID-19: Perspectives from a Data Scientist
DESCRIPTION:COVID-19: PERSPECTIVES FROM A DATA SCIENTIST: This is a talk by Dr. Rick Lawrence\, a Data Scientist who currently works on the COVID-19 Task force in Ridgefield. The discussion will be at 5:30 p.m. in Room 125 of the Science Building on the Midtown campus. \nWe begin with an overview of the COVID-19 data reported by the CDC and the State of Connecticut\, and describe the data-science framework we have developed to ingest and analyze this data. We then address the following key questions from a pure data-science perspective: \n1. What is the current state of the pandemic in the US and Connecticut? \n2. Based on the latest vaccination data\, will the US reach herd immunity? \n3. Do masks reduce COVID infection rates? \n4. What is the relationship between vaccination rates\, natural immunity\, and new case rates? \nWe conclude with some personal perspectives on the convergence of COVID data science and political science. Our goal is to have this talk accessible to both data scientists as well as a more general audience.
URL:https://www.wcsu.edu/events/calendar/covid-19-perspectives-from-a-data-scientist/
LOCATION:Science Building 125\, 181 White St.\, Danbury\, CT
CATEGORIES:Public Events,Science
ORGANIZER;CN="Department of Philosophy and Humanistic Studies":MAILTO:malavisia@wcsu.edu
END:VEVENT
BEGIN:VEVENT
DTSTART;TZID=UTC:20210829T110000
DTEND;TZID=UTC:20210829T150000
DTSTAMP:20260420T193355
CREATED:20210817T001808Z
LAST-MODIFIED:20210817T215010Z
UID:10060415-1630234800-1630249200@www.wcsu.edu
SUMMARY:Clubs Officer Training
DESCRIPTION:CLUBS OFFICER TRAINING – MARK YOUR CALENDAR: Clubs Officer training will take place from 11 a.m. to 3 p.m. in Science Building 125. This is a mandatory training session for Presidents\, Vice Presidents and Treasurer. Secretary and Advisors are encouraged to attend. Please submit your attendance commitment by visiting https://www.wcsu.edu/csi/announcements/ 
URL:https://www.wcsu.edu/events/calendar/clubs-officer-training/
LOCATION:Science Building 125\, 181 White St.\, Danbury\, CT
ORGANIZER;CN="Center for Student Involvement (CSI)":MAILTO:csi@wcsu.edu
END:VEVENT
END:VCALENDAR