BEGIN:VCALENDAR
VERSION:2.0
PRODID:-//WCSU Events - ECPv6.15.17.1//NONSGML v1.0//EN
CALSCALE:GREGORIAN
METHOD:PUBLISH
X-WR-CALNAME:WCSU Events
X-ORIGINAL-URL:https://www.wcsu.edu/events
X-WR-CALDESC:Events for WCSU Events
REFRESH-INTERVAL;VALUE=DURATION:PT1H
X-Robots-Tag:noindex
X-PUBLISHED-TTL:PT1H
BEGIN:VTIMEZONE
TZID:America/New_York
BEGIN:DAYLIGHT
TZOFFSETFROM:-0500
TZOFFSETTO:-0400
TZNAME:EDT
DTSTART:20220313T070000
END:DAYLIGHT
BEGIN:STANDARD
TZOFFSETFROM:-0400
TZOFFSETTO:-0500
TZNAME:EST
DTSTART:20221106T060000
END:STANDARD
BEGIN:DAYLIGHT
TZOFFSETFROM:-0500
TZOFFSETTO:-0400
TZNAME:EDT
DTSTART:20230312T070000
END:DAYLIGHT
BEGIN:STANDARD
TZOFFSETFROM:-0400
TZOFFSETTO:-0500
TZNAME:EST
DTSTART:20231105T060000
END:STANDARD
BEGIN:DAYLIGHT
TZOFFSETFROM:-0500
TZOFFSETTO:-0400
TZNAME:EDT
DTSTART:20240310T070000
END:DAYLIGHT
BEGIN:STANDARD
TZOFFSETFROM:-0400
TZOFFSETTO:-0500
TZNAME:EST
DTSTART:20241103T060000
END:STANDARD
BEGIN:DAYLIGHT
TZOFFSETFROM:-0500
TZOFFSETTO:-0400
TZNAME:EDT
DTSTART:20250309T070000
END:DAYLIGHT
BEGIN:STANDARD
TZOFFSETFROM:-0400
TZOFFSETTO:-0500
TZNAME:EST
DTSTART:20251102T060000
END:STANDARD
BEGIN:DAYLIGHT
TZOFFSETFROM:-0500
TZOFFSETTO:-0400
TZNAME:EDT
DTSTART:20260308T070000
END:DAYLIGHT
BEGIN:STANDARD
TZOFFSETFROM:-0400
TZOFFSETTO:-0500
TZNAME:EST
DTSTART:20261101T060000
END:STANDARD
BEGIN:DAYLIGHT
TZOFFSETFROM:-0500
TZOFFSETTO:-0400
TZNAME:EDT
DTSTART:20270314T070000
END:DAYLIGHT
BEGIN:STANDARD
TZOFFSETFROM:-0400
TZOFFSETTO:-0500
TZNAME:EST
DTSTART:20271107T060000
END:STANDARD
END:VTIMEZONE
BEGIN:VTIMEZONE
TZID:UTC
BEGIN:STANDARD
TZOFFSETFROM:+0000
TZOFFSETTO:+0000
TZNAME:UTC
DTSTART:20210101T000000
END:STANDARD
END:VTIMEZONE
BEGIN:VEVENT
DTSTART;TZID=America/New_York:20260420T130000
DTEND;TZID=America/New_York:20260420T190000
DTSTAMP:20260420T215512
CREATED:20260313T170834Z
LAST-MODIFIED:20260313T172152Z
UID:10074464-1776690000-1776711600@www.wcsu.edu
SUMMARY:Survivor Art Gallery
DESCRIPTION:SURVIVOR ART GALLERY: The Center for Empowerment and Education will host its annual Survivor Art Gallery for Sexual Assault Awareness Month (SAAM) on Monday\, April 20\, from 1  – 7 p.m.\, and Tuesday\, April 21\, from 11 a.m. – 4 p.m.\, in the Westside Campus Center Ballroom. This event will showcase students’ and community members’ paintings\, drawings\, photography\, poems\, stories\, and more that exemplify their story of abuse\, assault\, trauma\, healing and survival. The event is free and open to the public! \nSUBMIT YOUR ART: If you are interested in submitting artwork\, please fill out the submission form using this link: qr.link/6XoJem \nPlease contact Ann Marie\, Volunteer & Survivor Engagement Coordinator\, at Annmarie.m@thecenterct.org if you are in need of any accommodations\, have questions\, or need more information. \nWhen and where do I submit my art? After completing the submission form\, you can submit artwork to our main office (2 West St\, Danbury) during business hours Monday-Friday (9 a.m.-5 p.m.) OR our campus office in the Student Health and Wellness Center\, which is attached to Newbury Hall (Office 106) on the Midtown campus.\nPlease note: You MUST email or text the Systems Liaison\, Rachel\, at rachel.k@thecenterct.org (475 )279-7441 to coordinate drop offs to the WCSU campus office. \nYou can email written submissions (writing and/or poetry) to Volunteer & Survivor Engagement Coordinator: Annmarie.m@thecenterct.org and Ann Marie can print it out to be displayed at the gallery. Please note: We can only print images/ artwork up to 8 1/2 x 11.
URL:https://www.wcsu.edu/events/calendar/survivor-art-gallery-5/2026-04-20/
LOCATION:Westside Campus Center North Ballroom\, 43 Lake Ave. Extension\, Danbury\, CT
CATEGORIES:Art,Health And Wellness,Painting,Public Events,Wellness
ATTACH;FMTTYPE=image/jpeg:https://www.wcsu.edu/events/wp-content/uploads/sites/181/2023/02/Westside-Campus-Center2.jpg
END:VEVENT
BEGIN:VEVENT
DTSTART;TZID=America/New_York:20260218T100000
DTEND;TZID=America/New_York:20260218T150000
DTSTAMP:20260420T215512
CREATED:20250721T145447Z
LAST-MODIFIED:20251205T154547Z
UID:10071370-1771408800-1771426800@www.wcsu.edu
SUMMARY:Blood Drive
DESCRIPTION:BLOOD DRIVE: The American Red Cross will host a blood drive from 10 a.m. to 3 p.m. in the Westside Campus Center Ballroom on the Westside campus. Visit www.RedCrossBlood.org and enter code WCSU to schedule an appointment!
URL:https://www.wcsu.edu/events/calendar/blood-drive-3/
LOCATION:Westside Campus Center North Ballroom\, 43 Lake Ave. Extension\, Danbury\, CT
CATEGORIES:Health And Wellness,WOW
ATTACH;FMTTYPE=image/jpeg:https://www.wcsu.edu/events/wp-content/uploads/sites/181/2025/01/Blood-Drive-2-19_500x300.jpg
END:VEVENT
BEGIN:VEVENT
DTSTART;TZID=America/New_York:20250430T200000
DTEND;TZID=America/New_York:20250430T220000
DTSTAMP:20260420T215512
CREATED:20250417T133924Z
LAST-MODIFIED:20250417T133924Z
UID:10071246-1746043200-1746050400@www.wcsu.edu
SUMMARY:Drag Show
DESCRIPTION:DRAG SHOW: PAC and the Pride Center are bringing back the Drag Show! Hosted by “Mean Girls” star Danny Franzese\, this is sure to be an exciting night! From 8 to 10 p.m. in the Westside Campus Center Ballroom.
URL:https://www.wcsu.edu/events/calendar/drag-show-2/
LOCATION:Westside Campus Center North Ballroom\, 43 Lake Ave. Extension\, Danbury\, CT
CATEGORIES:Entertainment,PAC
ATTACH;FMTTYPE=image/jpeg:https://www.wcsu.edu/events/wp-content/uploads/sites/181/2022/12/PAC.jpg
ORGANIZER;CN="Program Activities Council (PAC)":MAILTO:quirkm@wcsu.edu
END:VEVENT
BEGIN:VEVENT
DTSTART;TZID=America/New_York:20250426T103000
DTEND;TZID=America/New_York:20250426T170000
DTSTAMP:20260420T215512
CREATED:20250314T132719Z
LAST-MODIFIED:20251107T145706Z
UID:10071064-1745663400-1745686800@www.wcsu.edu
SUMMARY:Survivor Art Gallery
DESCRIPTION:SURVIVOR ART GALLERY: The Center for Empowerment and Education will host the annual Survivor Art Gallery from 10:30 a.m. – 5 p.m. in the Westside Campus Campus Center North Ballroom to showcase students’ and community members’ paintings\, drawings\, photography\, poems\, stories\, and more that exemplify their story of abuse\, assault\, trauma\, healing and survival. The event is free and open to the public. \nSUBMIT YOUR ART: If you are interested in submitting artwork\, please fill out the form using this link: https://bit.ly/CEESurvivorArtGallery2025 \nPlease contact Campus Advocate\, Rachel\, at rachel.k@thecenterct.org if you are in need of any accommodations\, have questions\, or need more information. \nPlease contact Rachel if you are interested in performing a live musical and/or spoken word performance. Performance pieces must be approved ahead of time.
URL:https://www.wcsu.edu/events/calendar/survivor-art-gallery-4/
LOCATION:Westside Campus Center North Ballroom\, 43 Lake Ave. Extension\, Danbury\, CT
CATEGORIES:Art,Health And Wellness,Painting,Public Events,Wellness
ATTACH;FMTTYPE=image/png:https://www.wcsu.edu/events/wp-content/uploads/sites/181/2023/10/11_8-A-Fireside-Chat-with-President-Singh.png
END:VEVENT
BEGIN:VEVENT
DTSTART;TZID=America/New_York:20250401T200000
DTEND;TZID=America/New_York:20250401T220000
DTSTAMP:20260420T215512
CREATED:20250401T125937Z
LAST-MODIFIED:20250401T125937Z
UID:10071172-1743537600-1743544800@www.wcsu.edu
SUMMARY:Trivia Night with BSU and ICA
DESCRIPTION:TRIVIA NIGHT WITH BSU AND ICA: Join us to relax\, recharge\, and test your knowledge! Join us for a Women’s History Month Self-Care & Trivia Night from 8 to 10 p.m. in the Westside Campus Center North Ballroom. \n 
URL:https://www.wcsu.edu/events/calendar/trivia-night-with-bsu-and-ica/
LOCATION:Westside Campus Center North Ballroom\, 43 Lake Ave. Extension\, Danbury\, CT
CATEGORIES:Diversity
ATTACH;FMTTYPE=image/jpeg:https://www.wcsu.edu/events/wp-content/uploads/sites/181/2025/02/Womens-History-Month_500x300.jpg
END:VEVENT
BEGIN:VEVENT
DTSTART;TZID=America/New_York:20250304T200000
DTEND;TZID=America/New_York:20250304T213000
DTSTAMP:20260420T215512
CREATED:20250224T161317Z
LAST-MODIFIED:20250224T161317Z
UID:10070942-1741118400-1741123800@www.wcsu.edu
SUMMARY:BSU Interest Meeting
DESCRIPTION:BLACK STUDENT UNION INTEREST MEETING: If you are interested in being a member or FUTURE executive member\, come out and join us. Get to know the E-board and what BSU really is about. From 8 to 9:30 p.m. in the Westside Campus Center North Ballroom.
URL:https://www.wcsu.edu/events/calendar/bsu-interest-meeting-3/
LOCATION:Westside Campus Center North Ballroom\, 43 Lake Ave. Extension\, Danbury\, CT
CATEGORIES:Meeting
ATTACH;FMTTYPE=image/jpeg:https://www.wcsu.edu/events/wp-content/uploads/sites/181/2024/09/BSU.jpg
END:VEVENT
BEGIN:VEVENT
DTSTART;TZID=America/New_York:20250227T200000
DTEND;TZID=America/New_York:20250227T220000
DTSTAMP:20260420T215512
CREATED:20250224T161613Z
LAST-MODIFIED:20250224T161613Z
UID:10070941-1740686400-1740693600@www.wcsu.edu
SUMMARY:Paint and Sip with Groove Phi Groove and BSWA
DESCRIPTION:PAINT AND SIP WITH GROOVE PHI GROOVE AND BSWA: Join us this Thursday for our Paint and Sip with BSWA and Groove Phi Groove. We will be vibing to music and painting all night. There will be also be giveaways; come out and win some prizes/ giveaways! Hope to see y’all there. From 8:30 to 10 p.m. in the Westside Campus Center North Ballroom.
URL:https://www.wcsu.edu/events/calendar/paint-and-sip-with-groove-phi-groove-and-bswa/
LOCATION:Westside Campus Center North Ballroom\, 43 Lake Ave. Extension\, Danbury\, CT
CATEGORIES:Painting
ATTACH;FMTTYPE=image/jpeg:https://www.wcsu.edu/events/wp-content/uploads/sites/181/2023/02/Westside-Campus-Center2.jpg
END:VEVENT
BEGIN:VEVENT
DTSTART;TZID=America/New_York:20241119T170000
DTEND;TZID=America/New_York:20241119T180000
DTSTAMP:20260420T215512
CREATED:20241112T201734Z
LAST-MODIFIED:20241112T201734Z
UID:10070244-1732035600-1732039200@www.wcsu.edu
SUMMARY:Pizza with the President
DESCRIPTION:PIZZA WITH THE PRESIDENT: Come join President Singh for some pizza and have the chance to speak with him about your experiences at WestConn. Event will be held from noon to 1 p.m. in the Berkshire Hall lobby on the Midtown campus\, and from 5 to 6 p.m. in the Westside Campus Center Ballroom. \n 
URL:https://www.wcsu.edu/events/calendar/pizza-with-the-president-2/
LOCATION:Westside Campus Center North Ballroom\, 43 Lake Ave. Extension\, Danbury\, CT
CATEGORIES:Food
ATTACH;FMTTYPE=image/jpeg:https://www.wcsu.edu/events/wp-content/uploads/sites/181/2024/11/Pizza-With-the-President_crop.jpg
END:VEVENT
BEGIN:VEVENT
DTSTART;TZID=America/New_York:20241008T200000
DTEND;TZID=America/New_York:20241008T220000
DTSTAMP:20260420T215512
CREATED:20241002T130258Z
LAST-MODIFIED:20241002T130258Z
UID:10069920-1728417600-1728424800@www.wcsu.edu
SUMMARY:Dear Black Men
DESCRIPTION:DEAR BLACK MEN: Come enjoy a beautiful\, heartfelt moment for the Black men on this campus from 8 to 10 p.m. in the Westside Campus Center North Ballroom.
URL:https://www.wcsu.edu/events/calendar/dear-black-men-2/
LOCATION:Westside Campus Center North Ballroom\, 43 Lake Ave. Extension\, Danbury\, CT
CATEGORIES:Social Event
ATTACH;FMTTYPE=image/jpeg:https://www.wcsu.edu/events/wp-content/uploads/sites/181/2024/09/BSU.jpg
END:VEVENT
BEGIN:VEVENT
DTSTART;TZID=America/New_York:20240917T200000
DTEND;TZID=America/New_York:20240917T213000
DTSTAMP:20260420T215512
CREATED:20240911T200028Z
LAST-MODIFIED:20240917T131340Z
UID:10069807-1726603200-1726608600@www.wcsu.edu
SUMMARY:BSU Interest Meeting
DESCRIPTION:BSU INTEREST MEETING: If you are interested in being a member or FUTURE executive member\, come out and join us from 8 to 9:30 p.m. in the Westside Campus Center Ballroom. Get to know the E-board and what the Black Student Union really is about.
URL:https://www.wcsu.edu/events/calendar/bsu-interest-meeting-2/
LOCATION:Westside Campus Center North Ballroom\, 43 Lake Ave. Extension\, Danbury\, CT
ATTACH;FMTTYPE=image/jpeg:https://www.wcsu.edu/events/wp-content/uploads/sites/181/2024/09/BSU.jpg
END:VEVENT
BEGIN:VEVENT
DTSTART;TZID=America/New_York:20240419T180000
DTEND;TZID=America/New_York:20240419T220000
DTSTAMP:20260420T215512
CREATED:20240408T140643Z
LAST-MODIFIED:20240419T164354Z
UID:10065940-1713549600-1713564000@www.wcsu.edu
SUMMARY:PAC WestFest Kickoff
DESCRIPTION:PAC WESTFEST KICKOFF: Join us for WestFest Kickoff! Kickoff will begin Friday\, April 19\, in the Westside Campus Center Ballroom at 6 p.m. with axe throwing\, food\, raffle baskets\, yard games\, performance by Cal Kehoe and more!
URL:https://www.wcsu.edu/events/calendar/pac-westfest-kickoff/
LOCATION:Westside Campus Center North Ballroom\, 43 Lake Ave. Extension\, Danbury\, CT
CATEGORIES:Entertainment,Food,Games,Music,PAC
ATTACH;FMTTYPE=image/jpeg:https://www.wcsu.edu/events/wp-content/uploads/sites/181/2022/12/PAC.jpg
ORGANIZER;CN="Program Activities Council (PAC)":MAILTO:quirkm@wcsu.edu
END:VEVENT
BEGIN:VEVENT
DTSTART;TZID=America/New_York:20240319T200000
DTEND;TZID=America/New_York:20240319T200000
DTSTAMP:20260420T215512
CREATED:20240311T181443Z
LAST-MODIFIED:20240312T184154Z
UID:10065816-1710878400-1710878400@www.wcsu.edu
SUMMARY:Wild N' Out
DESCRIPTION:WILD N’ OUT: Come to our favored and most asked for event at 8 p.m. in the Westside Campus Center Ballroom. Food will be provided.
URL:https://www.wcsu.edu/events/calendar/wild-n-out/
LOCATION:Westside Campus Center North Ballroom\, 43 Lake Ave. Extension\, Danbury\, CT
CATEGORIES:Food,Games
ATTACH;FMTTYPE=image/jpeg:https://www.wcsu.edu/events/wp-content/uploads/sites/181/2023/02/Westside-Campus-Center2.jpg
END:VEVENT
BEGIN:VEVENT
DTSTART;TZID=America/New_York:20240220T200000
DTEND;TZID=America/New_York:20240220T220000
DTSTAMP:20260420T215512
CREATED:20240208T191034Z
LAST-MODIFIED:20240208T191034Z
UID:10064671-1708459200-1708466400@www.wcsu.edu
SUMMARY:PAC Featured Act: Anthem and Aria
DESCRIPTION:PAC FEATURED ACT – ANTHEM AND ARIA: Join us for our featured act\, Anthem and Aria\, at 8 p.m. in the Westside Campus Center North Ballroom. Enjoy an interactive\, amazing and one-of-a-kind show from America’s Got Talent stars\, Anthem and Aria: The Psychic Soulmates.
URL:https://www.wcsu.edu/events/calendar/pac-featured-act-anthem-and-aria/
LOCATION:Westside Campus Center North Ballroom\, 43 Lake Ave. Extension\, Danbury\, CT
CATEGORIES:Entertainment
ATTACH;FMTTYPE=image/jpeg:https://www.wcsu.edu/events/wp-content/uploads/sites/181/2022/12/PAC.jpg
ORGANIZER;CN="Program Activities Council (PAC)":MAILTO:quirkm@wcsu.edu
END:VEVENT
BEGIN:VEVENT
DTSTART;TZID=America/New_York:20240213T200000
DTEND;TZID=America/New_York:20240213T220000
DTSTAMP:20260420T215512
CREATED:20240212T141836Z
LAST-MODIFIED:20240212T141836Z
UID:10064669-1707854400-1707861600@www.wcsu.edu
SUMMARY:Movie Night With BSWA
DESCRIPTION:MOVIE NIGHT WITH BSWA: Come watch “Boyz in The Hood” with us for our movie night!! At 8 p.m. in the Westside Campus Center Ballroom North. Snacks and drinks provided !
URL:https://www.wcsu.edu/events/calendar/movie-night-with-bswa/
LOCATION:Westside Campus Center North Ballroom\, 43 Lake Ave. Extension\, Danbury\, CT
CATEGORIES:Movie
END:VEVENT
BEGIN:VEVENT
DTSTART;TZID=America/New_York:20240206T200000
DTEND;TZID=America/New_York:20240206T220000
DTSTAMP:20260420T215512
CREATED:20240129T143055Z
LAST-MODIFIED:20240129T143055Z
UID:10064318-1707249600-1707256800@www.wcsu.edu
SUMMARY:BSU Interest Meeting
DESCRIPTION:BSU INTEREST MEETING: Meet The Eboard and join the team if you are interested in our positions open. From 8 to 10 p.m. in the Westside Campus Center Ballroom.
URL:https://www.wcsu.edu/events/calendar/bsu-interest-meeting/
LOCATION:Westside Campus Center North Ballroom\, 43 Lake Ave. Extension\, Danbury\, CT
CATEGORIES:Meeting
END:VEVENT
BEGIN:VEVENT
DTSTART;TZID=America/New_York:20240124T203000
DTEND;TZID=America/New_York:20240124T220000
DTSTAMP:20260420T215512
CREATED:20240123T152247Z
LAST-MODIFIED:20240124T132534Z
UID:10064270-1706128200-1706133600@www.wcsu.edu
SUMMARY:ACSA Interest Meeting
DESCRIPTION:ACSA INTEREST MEETING: We will be discussing the club\, playing games\, and talking about how to join our E-Board! From 8:30 to 10 p.m. in the Westside Campus Center Ballroom.
URL:https://www.wcsu.edu/events/calendar/acsa-interest-meeting-2/
LOCATION:Westside Campus Center North Ballroom\, 43 Lake Ave. Extension\, Danbury\, CT
CATEGORIES:Diversity,Information Session,Social Event
ATTACH;FMTTYPE=image/jpeg:https://www.wcsu.edu/events/wp-content/uploads/sites/181/2023/02/Clubs-Carnival3.jpg
END:VEVENT
BEGIN:VEVENT
DTSTART;TZID=America/New_York:20231201T190000
DTEND;TZID=America/New_York:20231201T210000
DTSTAMP:20260420T215512
CREATED:20231106T145337Z
LAST-MODIFIED:20231113T145629Z
UID:10064154-1701457200-1701464400@www.wcsu.edu
SUMMARY:Holiday Reading Session
DESCRIPTION:HOLIDAY READING SESSION: This is a relaxed event where anyone at any skill level can attend with any instrument and read some music together. For this Christmas session\, we’ll be playing various holiday tunes. Light refreshments will be available. From 7 to 9 p.m. in the Westside Campus Center North Ballroom.
URL:https://www.wcsu.edu/events/calendar/holiday-reading-session/
LOCATION:Westside Campus Center North Ballroom\, 43 Lake Ave. Extension\, Danbury\, CT
CATEGORIES:Music
ATTACH;FMTTYPE=image/jpeg:https://www.wcsu.edu/events/wp-content/uploads/sites/181/2023/09/10_03-Dear-Black-Men.jpg
ORGANIZER;CN="Strings Club":MAILTO:wcsustrings@gmail.com
END:VEVENT
BEGIN:VEVENT
DTSTART;TZID=America/New_York:20231129T120000
DTEND;TZID=America/New_York:20231129T133000
DTSTAMP:20260420T215512
CREATED:20231122T202820Z
LAST-MODIFIED:20231127T143613Z
UID:10064209-1701259200-1701264600@www.wcsu.edu
SUMMARY:President Town Hall
DESCRIPTION:PRESIDENT TOWN HALL: Join Dr. Manohar Singh and his Leadership Team from noon to 1:30 p.m. in the Westside Campus Center Ballroom for a President Town Hall. Lunch will be provided.
URL:https://www.wcsu.edu/events/calendar/president-town-hall/
LOCATION:Westside Campus Center North Ballroom\, 43 Lake Ave. Extension\, Danbury\, CT
CATEGORIES:Discussion
ATTACH;FMTTYPE=image/jpeg:https://www.wcsu.edu/events/wp-content/uploads/sites/181/2023/11/11_29-President-Town-Hall.jpg
END:VEVENT
BEGIN:VEVENT
DTSTART;TZID=America/New_York:20231117T190000
DTEND;TZID=America/New_York:20231117T210000
DTSTAMP:20260420T215512
CREATED:20231115T191427Z
LAST-MODIFIED:20231116T141135Z
UID:10064187-1700247600-1700254800@www.wcsu.edu
SUMMARY:Chocolate Lounge
DESCRIPTION:CHOCOLATE LOUNGE: BSU personally invites you all to attend our very own annual chocolate lounge!! On Friday from 7 to 9 p.m. in the Westside Campus Center Ballroom. DOORS OPEN @ 6:30 p.m.!!! We will have a lot of talented people show you what they’ve got! You can get your pictures taken for a small fee! 📸 and food will be provided. Come dressed nice formal/casual!! We hope to see you all there to support our local artists both from WestConn and around the CT area!
URL:https://www.wcsu.edu/events/calendar/chocolate-lounge-3/
LOCATION:Westside Campus Center North Ballroom\, 43 Lake Ave. Extension\, Danbury\, CT
CATEGORIES:Entertainment
ATTACH;FMTTYPE=image/png:https://www.wcsu.edu/events/wp-content/uploads/sites/181/2023/10/11_8-A-Fireside-Chat-with-President-Singh.png
END:VEVENT
BEGIN:VEVENT
DTSTART;TZID=America/New_York:20231113T190000
DTEND;TZID=America/New_York:20231113T210000
DTSTAMP:20260420T215512
CREATED:20231031T125707Z
LAST-MODIFIED:20231106T161000Z
UID:10064141-1699902000-1699909200@www.wcsu.edu
SUMMARY:Smash Bros Tournament
DESCRIPTION:SMASH BROS TOURNAMENT: Compete in a Super Smash Bros video game tournament with the Latin American Student Organization\, Black Social Workers Association\, the Commuter Student Organization\, Tau Kappa Epsilon\, and The Fraternity and Sorority Life Council! From 7 to 9 p.m. in the Westside Campus Center Ballroom.
URL:https://www.wcsu.edu/events/calendar/smash-bros-tournament/
LOCATION:Westside Campus Center North Ballroom\, 43 Lake Ave. Extension\, Danbury\, CT
CATEGORIES:Games
ATTACH;FMTTYPE=image/png:https://www.wcsu.edu/events/wp-content/uploads/sites/181/2023/10/11_13-Smash-Bros-Tournament.png
ORGANIZER;CN="LASO":MAILTO:sanchez264@wcsu.edu
END:VEVENT
BEGIN:VEVENT
DTSTART;TZID=America/New_York:20231017T200000
DTEND;TZID=America/New_York:20231017T220000
DTSTAMP:20260420T215512
CREATED:20231017T155246Z
LAST-MODIFIED:20231017T155246Z
UID:10064078-1697572800-1697580000@www.wcsu.edu
SUMMARY:Black Women Are Loved
DESCRIPTION:BLACK WOMEN ARE LOVED: The Black Student Union will host an event for all women on campus to come to our free space event and speak freely!! All are welcome to join from 8 to 10 p.m. in the Westside Campus Center North Ballroom.
URL:https://www.wcsu.edu/events/calendar/black-women-are-loved/
LOCATION:Westside Campus Center North Ballroom\, 43 Lake Ave. Extension\, Danbury\, CT
CATEGORIES:Public Events
END:VEVENT
BEGIN:VEVENT
DTSTART;TZID=America/New_York:20231003T200000
DTEND;TZID=America/New_York:20231003T220000
DTSTAMP:20260420T215512
CREATED:20230920T193433Z
LAST-MODIFIED:20230928T175802Z
UID:10063933-1696363200-1696370400@www.wcsu.edu
SUMMARY:Dear Black Men
DESCRIPTION:DEAR BLACK MEN: Come support the Black Men on campus. Take some time to show love and listen. There will be prizes and food! From 8 to 10 p.m. in the Westside Campus Center Ballroom North.
URL:https://www.wcsu.edu/events/calendar/dear-black-men/
LOCATION:Westside Campus Center North Ballroom\, 43 Lake Ave. Extension\, Danbury\, CT
CATEGORIES:Discussion,Diversity,Public Events
ATTACH;FMTTYPE=image/jpeg:https://www.wcsu.edu/events/wp-content/uploads/sites/181/2023/09/10_03-Dear-Black-Men.jpg
END:VEVENT
BEGIN:VEVENT
DTSTART;TZID=America/New_York:20230909T200000
DTEND;TZID=America/New_York:20230909T220000
DTSTAMP:20260420T215512
CREATED:20230911T154635Z
LAST-MODIFIED:20230911T154654Z
UID:10063831-1694289600-1694296800@www.wcsu.edu
SUMMARY:Hot Topic
DESCRIPTION:HOT TOPIC: Come show out to Black Student Union’s very first event this semester from 8 to 10 p.m. in the Westside Campus Center Ballroom.
URL:https://www.wcsu.edu/events/calendar/hot-topic-2/
LOCATION:Westside Campus Center North Ballroom\, 43 Lake Ave. Extension\, Danbury\, CT
CATEGORIES:Public Events,Social Event
END:VEVENT
BEGIN:VEVENT
DTSTART;TZID=America/New_York:20230503T170000
DTEND;TZID=America/New_York:20230503T190000
DTSTAMP:20260420T215512
CREATED:20230424T152306Z
LAST-MODIFIED:20230424T152306Z
UID:10063639-1683133200-1683140400@www.wcsu.edu
SUMMARY:Lotería Game Night
DESCRIPTION:LOTERIA GAME NIGHT: WCSU Beyond Borders invites you to Lotería Game Night! There will be free food\, awesome prizes\, and lots of fun!
URL:https://www.wcsu.edu/events/calendar/loteria-game-night/
LOCATION:Westside Campus Center North Ballroom\, 43 Lake Ave. Extension\, Danbury\, CT
CATEGORIES:Food,Games
END:VEVENT
BEGIN:VEVENT
DTSTART;TZID=America/New_York:20230412T150000
DTEND;TZID=America/New_York:20230412T190000
DTSTAMP:20260420T215512
CREATED:20230328T194336Z
LAST-MODIFIED:20230329T125702Z
UID:10063581-1681311600-1681326000@www.wcsu.edu
SUMMARY:Career Carnival
DESCRIPTION:CAREER CARNIVAL: WCSU Seniors & Juniors are welcome to attend the Career Carnival from 3 to 7 p.m. in the Westside Ballroom. Enjoy some fun\, engaging activities (including BINGO!) while learning about the job application process\, networking\, resumes and interviewing. \nSchedule of events:  \n3 p.m. – Slaying the Job Process\, featuring ENTERPRISE HOLDINGS \n4 p.m. – Conquering Networking and LinkedIn \n5 p.m. – Taming your Resume Workshop (WS Campus Ctr. 3rd Flr) \n5:30 p.m. – PIZZA and BINGO! (WSCC. 3rd Flr) \n6 p.m. – Navigating Interviews & How to Handle the Job Acceptance (WSCC 3rd flr) \nJOIN US FOR SOME OR ALL OF THE WORKSHOPS!!
URL:https://www.wcsu.edu/events/calendar/career-carnival/
LOCATION:Westside Campus Center North Ballroom\, 43 Lake Ave. Extension\, Danbury\, CT
CATEGORIES:Career search
ATTACH;FMTTYPE=image/jpeg:https://www.wcsu.edu/events/wp-content/uploads/sites/181/2023/02/Westside-Campus-Center2.jpg
END:VEVENT
BEGIN:VEVENT
DTSTART;TZID=America/New_York:20230221T170000
DTEND;TZID=America/New_York:20230221T193000
DTSTAMP:20260420T215512
CREATED:20230127T182027Z
LAST-MODIFIED:20230215T200801Z
UID:10063340-1676998800-1677007800@www.wcsu.edu
SUMMARY:Career Viewpoints from Trailblazing African American Leaders
DESCRIPTION:CAREER VIEWPOINTS FROM TRAILBLAZING AFRICAN AMERICAN LEADERS: Free Networking Event for the WCSU Community & Open to Public on Career Viewpoints from Trailblazing African American Leaders; Sponsored by M&T Bank — Listen to the stories and advice from earnest\, young and outstanding leaders of African American Heritage. All WCSU students are encouraged to attend and can register through Handshake. Doors open at 5 p.m. for early networking and will continue after the panel/speaker portion. Refreshments will be served. Questions? Email careersuccess@wcsu.edu or call 203-837-8263.
URL:https://www.wcsu.edu/events/calendar/career-viewpoints-from-trailblazing-african-american-leaders/
LOCATION:Westside Campus Center North Ballroom\, 43 Lake Ave. Extension\, Danbury\, CT
CATEGORIES:Panel discussion,Public Events
ATTACH;FMTTYPE=image/jpeg:https://www.wcsu.edu/events/wp-content/uploads/sites/181/2023/01/BHM-Career-Perspectives-2-21-e1676491668807.jpg
END:VEVENT
BEGIN:VEVENT
DTSTART;TZID=UTC:20221116T170000
DTEND;TZID=UTC:20221116T180000
DTSTAMP:20260420T215512
CREATED:20221026T203558Z
LAST-MODIFIED:20221026T203647Z
UID:10063131-1668618000-1668621600@www.wcsu.edu
SUMMARY:Kahoot Night
DESCRIPTION:KAHOOT NIGHT: Come show off your knowledge of WCSU\, Pop Culture and current events with the chance to win some big prizes! From 5 to 6 p.m. at the Westside Campus Center North Ballroom. \n  \n  \n 
URL:https://www.wcsu.edu/events/calendar/kahoot-night/
LOCATION:Westside Campus Center North Ballroom\, 43 Lake Ave. Extension\, Danbury\, CT
CATEGORIES:Games,Social Event
ATTACH;FMTTYPE=image/png:https://www.wcsu.edu/events/wp-content/uploads/sites/181/2022/10/68CC1A26-E5AB-4021-B866-1FD905726C74.png
END:VEVENT
END:VCALENDAR