BEGIN:VCALENDAR
VERSION:2.0
PRODID:-//WCSU Events - ECPv6.15.17.1//NONSGML v1.0//EN
CALSCALE:GREGORIAN
METHOD:PUBLISH
X-WR-CALNAME:WCSU Events
X-ORIGINAL-URL:https://www.wcsu.edu/events
X-WR-CALDESC:Events for WCSU Events
REFRESH-INTERVAL;VALUE=DURATION:PT1H
X-Robots-Tag:noindex
X-PUBLISHED-TTL:PT1H
BEGIN:VTIMEZONE
TZID:UTC
BEGIN:STANDARD
TZOFFSETFROM:+0000
TZOFFSETTO:+0000
TZNAME:UTC
DTSTART:20200101T000000
END:STANDARD
END:VTIMEZONE
BEGIN:VEVENT
DTSTART;TZID=UTC:20220121T200000
DTEND;TZID=UTC:20220121T220000
DTSTAMP:20260421T011435
CREATED:20220119T203158Z
LAST-MODIFIED:20220119T203158Z
UID:10059776-1642795200-1642802400@www.wcsu.edu
SUMMARY:Welcome Back Bingo!
DESCRIPTION:WELCOME BACK BINGO: Come enjoy our first bingo of the semester with PAC! Come for a chance to win some big prizes while having a good time with your friends! From 8 to 10 p.m. in the Westside Campus Center Ballroom.
URL:https://www.wcsu.edu/events/calendar/welcome-back-bingo-2/
LOCATION:Westside Campus Center\, 43 Lake Ave. Extension\, Danbury\, CT
CATEGORIES:Entertainment,Social Event,WOW
ATTACH;FMTTYPE=image/png:https://www.wcsu.edu/events/wp-content/uploads/sites/181/2022/01/Welcome-Back-Bingo.png
END:VEVENT
BEGIN:VEVENT
DTSTART;TZID=UTC:20211202T160000
DTEND;TZID=UTC:20211202T170000
DTSTAMP:20260421T011435
CREATED:20211014T185539Z
LAST-MODIFIED:20211027T231308Z
UID:10061450-1638460800-1638464400@www.wcsu.edu
SUMMARY:AS Upcoming Events
DESCRIPTION:ACCOUNTING SOCIETY UPCOMING EVENTS: Check out the upcoming events for the Accounting Society this Fall semester. All are welcome.
URL:https://www.wcsu.edu/events/calendar/as-upcoming-events/2021-12-02/
LOCATION:Westside Campus Center\, 43 Lake Ave. Extension\, Danbury\, CT
CATEGORIES:Career search,Meeting,WOW
ATTACH;FMTTYPE=image/jpeg:https://www.wcsu.edu/events/wp-content/uploads/sites/181/2021/10/Accounting-Society-Upcoming-Events-Flyer.jpg
END:VEVENT
BEGIN:VEVENT
DTSTART;TZID=UTC:20211129T150000
DTEND;TZID=UTC:20211129T160000
DTSTAMP:20260421T011435
CREATED:20210908T191002Z
LAST-MODIFIED:20210928T173613Z
UID:10059214-1638198000-1638201600@www.wcsu.edu
SUMMARY:Internship Information
DESCRIPTION:INTERNSHIP INFORMATION SESSION: Do you need to do an internship before graduation but don’t know where to start? Come to an Internship Information Session hosted by the Career Success Center on Mondays from 3 to 4 p.m. at the Westside Campus Center\, Suite 300. They can answer all of your questions about the process for applying for an internship\, finding potential internship opportunities and much more. The workshops are open to WCSU students and alumni. Register on Handshake or contact us at careersuccess@wcsu.edu.
URL:https://www.wcsu.edu/events/calendar/internship-information-2/2021-11-29/
LOCATION:Westside Campus Center\, 43 Lake Ave. Extension\, Danbury\, CT
CATEGORIES:Career search
ATTACH;FMTTYPE=image/jpeg:https://www.wcsu.edu/events/wp-content/uploads/sites/181/2021/09/Internship-Information-Session-Fall-2021-4.jpg
END:VEVENT
BEGIN:VEVENT
DTSTART;TZID=UTC:20211118T160000
DTEND;TZID=UTC:20211118T170000
DTSTAMP:20260421T011435
CREATED:20211014T185539Z
LAST-MODIFIED:20211027T231308Z
UID:10061449-1637251200-1637254800@www.wcsu.edu
SUMMARY:AS Upcoming Events
DESCRIPTION:ACCOUNTING SOCIETY UPCOMING EVENTS: Check out the upcoming events for the Accounting Society this Fall semester. All are welcome.
URL:https://www.wcsu.edu/events/calendar/as-upcoming-events/2021-11-18/
LOCATION:Westside Campus Center\, 43 Lake Ave. Extension\, Danbury\, CT
CATEGORIES:Career search,Meeting,WOW
ATTACH;FMTTYPE=image/jpeg:https://www.wcsu.edu/events/wp-content/uploads/sites/181/2021/10/Accounting-Society-Upcoming-Events-Flyer.jpg
END:VEVENT
BEGIN:VEVENT
DTSTART;TZID=UTC:20211116T113000
DTEND;TZID=UTC:20211116T140000
DTSTAMP:20260421T011435
CREATED:20211102T220006Z
LAST-MODIFIED:20211109T195013Z
UID:10059647-1637062200-1637071200@www.wcsu.edu
SUMMARY:International Info Session
DESCRIPTION:INTERNATIONAL INFORMATION SESSION: Come learn about possibilities of international involvement and study abroad with WCSU from 11:30 a.m. to 2 p.m. in the Westside Campus Center. Information will be available about ISEP\, languages\, faculty-led study abroad and other opportunities. \nInternational Student Association sign-up. Come meet fellow students interested in all things international!
URL:https://www.wcsu.edu/events/calendar/international-info-session-2/
LOCATION:Westside Campus Center\, 43 Lake Ave. Extension\, Danbury\, CT
CATEGORIES:Diversity,Information Session,International
ATTACH;FMTTYPE=image/jpeg:https://www.wcsu.edu/events/wp-content/uploads/sites/181/2021/11/ISEP-study-abroad.jpg
ORGANIZER;CN="Department of World Languages &amp%3B Cultures":MAILTO:bakhtiarg@wcsu.edu
END:VEVENT
BEGIN:VEVENT
DTSTART;TZID=UTC:20211116T113000
DTEND;TZID=UTC:20211116T123000
DTSTAMP:20260421T011435
CREATED:20211103T220839Z
LAST-MODIFIED:20211115T202611Z
UID:10061565-1637062200-1637065800@www.wcsu.edu
SUMMARY:Chinese Calligraphy Demo and Workshop
DESCRIPTION:CHINESE CALLIGRAPHY DEMONSTRATION AND WORKSHOP: From 11:30 a.m. to 12:30 p.m. in the Westside Campus Center. WCSU Professor Yan Toma will provide information about Chinese cultures and the intricate art of calligraphy.
URL:https://www.wcsu.edu/events/calendar/chinese-calligraphy-demo-and-workshop/
LOCATION:Westside Campus Center\, 43 Lake Ave. Extension\, Danbury\, CT
CATEGORIES:Diversity,International,Workshops
ATTACH;FMTTYPE=image/jpeg:https://www.wcsu.edu/events/wp-content/uploads/sites/181/2021/11/Internationl-Education-week_2021.jpg
ORGANIZER;CN="Department of World Languages &amp%3B Cultures":MAILTO:bakhtiarg@wcsu.edu
END:VEVENT
BEGIN:VEVENT
DTSTART;TZID=UTC:20211111T160000
DTEND;TZID=UTC:20211111T170000
DTSTAMP:20260421T011435
CREATED:20211014T185539Z
LAST-MODIFIED:20211027T231308Z
UID:10061448-1636646400-1636650000@www.wcsu.edu
SUMMARY:AS Upcoming Events
DESCRIPTION:ACCOUNTING SOCIETY UPCOMING EVENTS: Check out the upcoming events for the Accounting Society this Fall semester. All are welcome.
URL:https://www.wcsu.edu/events/calendar/as-upcoming-events/2021-11-11/
LOCATION:Westside Campus Center\, 43 Lake Ave. Extension\, Danbury\, CT
CATEGORIES:Career search,Meeting,WOW
ATTACH;FMTTYPE=image/jpeg:https://www.wcsu.edu/events/wp-content/uploads/sites/181/2021/10/Accounting-Society-Upcoming-Events-Flyer.jpg
END:VEVENT
BEGIN:VEVENT
DTSTART;TZID=UTC:20211110T200000
DTEND;TZID=UTC:20211110T213000
DTSTAMP:20260421T011435
CREATED:20211103T191708Z
LAST-MODIFIED:20211103T213801Z
UID:10059656-1636574400-1636579800@www.wcsu.edu
SUMMARY:Bad @$$ Bingo!
DESCRIPTION:BAD @$$ BINGO!: Come join PAC as we get ready for this month’s Bingo at 8 p.m. in the Westside Campus Center. Take a chance\, play some Bingo and you may just win!
URL:https://www.wcsu.edu/events/calendar/bad-bingo/
LOCATION:Westside Campus Center\, 43 Lake Ave. Extension\, Danbury\, CT
CATEGORIES:Entertainment
ATTACH;FMTTYPE=image/png:https://www.wcsu.edu/events/wp-content/uploads/sites/181/2021/11/T.png
END:VEVENT
BEGIN:VEVENT
DTSTART;TZID=UTC:20211108T150000
DTEND;TZID=UTC:20211108T160000
DTSTAMP:20260421T011435
CREATED:20210908T191002Z
LAST-MODIFIED:20210928T173613Z
UID:10059213-1636383600-1636387200@www.wcsu.edu
SUMMARY:Internship Information
DESCRIPTION:INTERNSHIP INFORMATION SESSION: Do you need to do an internship before graduation but don’t know where to start? Come to an Internship Information Session hosted by the Career Success Center on Mondays from 3 to 4 p.m. at the Westside Campus Center\, Suite 300. They can answer all of your questions about the process for applying for an internship\, finding potential internship opportunities and much more. The workshops are open to WCSU students and alumni. Register on Handshake or contact us at careersuccess@wcsu.edu.
URL:https://www.wcsu.edu/events/calendar/internship-information-2/2021-11-08/
LOCATION:Westside Campus Center\, 43 Lake Ave. Extension\, Danbury\, CT
CATEGORIES:Career search
ATTACH;FMTTYPE=image/jpeg:https://www.wcsu.edu/events/wp-content/uploads/sites/181/2021/09/Internship-Information-Session-Fall-2021-4.jpg
END:VEVENT
BEGIN:VEVENT
DTSTART;TZID=UTC:20211103T110000
DTEND;TZID=UTC:20211103T150000
DTSTAMP:20260421T011435
CREATED:20211026T164904Z
LAST-MODIFIED:20211029T214150Z
UID:10061496-1635937200-1635951600@www.wcsu.edu
SUMMARY:Lunch with a Vet
DESCRIPTION:LUNCH WITH A VET: The WCSU community are welcome to stop by the Westside Campus Center from 11 a.m. to 3 p.m.  to meet with members of military services. Come bring your thanks\, learn stories and/or ask questions. Services attending include: WCSU Student Veterans\, Army\, Navy\, Air Force\, Marine and Coast Guard\, Active duty (regional recruiters)\, and Airforce ROTC (Scholarship programs available). The event is being sponsored by the SVO\, SGA and Career Success Center. Questions? Contact careersuccess@wcsu.edu or (203) 837-8263.
URL:https://www.wcsu.edu/events/calendar/lunch-with-a-vet/
LOCATION:Westside Campus Center\, 43 Lake Ave. Extension\, Danbury\, CT
CATEGORIES:Alumni,Career search,Social Event,WOW
ATTACH;FMTTYPE=image/jpeg:https://www.wcsu.edu/events/wp-content/uploads/sites/181/2021/10/Lunch_Vet_TV-11.3.21.jpg
END:VEVENT
BEGIN:VEVENT
DTSTART;TZID=UTC:20211030T113000
DTEND;TZID=UTC:20211117T193000
DTSTAMP:20260421T011435
CREATED:20211102T180714Z
LAST-MODIFIED:20211104T162719Z
UID:10061549-1635593400-1637177400@www.wcsu.edu
SUMMARY:Uplifted by gratitude Thanksgiving!
DESCRIPTION:UPLIFTED BY GRATITUDE THANKSGIVING: Grab your closest friends and join Sodexo from 11:30 a.m. to 3:30 p.m. in the Westside Marketplace for an uplifting Thanksgiving celebration!
URL:https://www.wcsu.edu/events/calendar/uplifted-by-gratitude-thanksgiving/
LOCATION:Westside Campus Center\, 43 Lake Ave. Extension\, Danbury\, CT
CATEGORIES:Food
ATTACH;FMTTYPE=image/jpeg:https://www.wcsu.edu/events/wp-content/uploads/sites/181/2021/10/ThanksgivingDigitalLandscape.jpg
ORGANIZER;CN="Sodexo":MAILTO:Donald.Grayson@Sodexo.com
END:VEVENT
BEGIN:VEVENT
DTSTART;TZID=UTC:20211029T090000
DTEND;TZID=UTC:20211029T140000
DTSTAMP:20260421T011435
CREATED:20210914T170627Z
LAST-MODIFIED:20210928T173524Z
UID:10060508-1635498000-1635516000@www.wcsu.edu
SUMMARY:Life Design Workshop
DESCRIPTION:LIFE DESIGN WORKSHOP: Designers create worlds and solve problems using design thinking. Why not use this concept to design the type of life you want for yourself? Come to this 5-hour in-person workshop held from 9 a.m. to 2 p.m. in the Westside Campus Center\, 3rd Floor Lab and learn things you can start doing today that will put you on the path to your dream life. Register in Handshake at https://wcsu.joinhandshake.com.\nIf you have any questions\, please email the Career Success Center at careersuccess@wcsu.edu.
URL:https://www.wcsu.edu/events/calendar/life-designworkshop/
LOCATION:Westside Campus Center\, 43 Lake Ave. Extension\, Danbury\, CT
CATEGORIES:Alumni,Career search
ATTACH;FMTTYPE=image/jpeg:https://www.wcsu.edu/events/wp-content/uploads/sites/181/2021/09/Designing-Your-Life-Workshop-10.29.21-1.jpg
END:VEVENT
BEGIN:VEVENT
DTSTART;TZID=UTC:20211028T160000
DTEND;TZID=UTC:20211028T170000
DTSTAMP:20260421T011435
CREATED:20211014T185539Z
LAST-MODIFIED:20211027T231308Z
UID:10061447-1635436800-1635440400@www.wcsu.edu
SUMMARY:AS Upcoming Events
DESCRIPTION:ACCOUNTING SOCIETY UPCOMING EVENTS: Check out the upcoming events for the Accounting Society this Fall semester. All are welcome.
URL:https://www.wcsu.edu/events/calendar/as-upcoming-events/2021-10-28/
LOCATION:Westside Campus Center\, 43 Lake Ave. Extension\, Danbury\, CT
CATEGORIES:Career search,Meeting,WOW
ATTACH;FMTTYPE=image/jpeg:https://www.wcsu.edu/events/wp-content/uploads/sites/181/2021/10/Accounting-Society-Upcoming-Events-Flyer.jpg
END:VEVENT
BEGIN:VEVENT
DTSTART;TZID=UTC:20211026T150000
DTEND;TZID=UTC:20211026T163000
DTSTAMP:20260421T011435
CREATED:20211013T201532Z
LAST-MODIFIED:20211014T180719Z
UID:10060480-1635260400-1635265800@www.wcsu.edu
SUMMARY:LinkedIn Workshop
DESCRIPTION:LINKEDIN WORKSHOP: LINKEDIN is the world’s most valuable networking tool. 98% of hiring staff are on LinkedIn and use it to scope you out before they decide to call you for an interview. The Career Success Center will host a LINKEDIN workshop from 3 to 4:30 p.m. at the Westside Campus Center\, Suite 300. Come learn how to connect with groups\, find jobs\, research employers and companies before you apply or interview and so much more! \nThis is in-person event is open to WCSU students and alumni. Check out Handshake for more information and to register for the workshop. Questions? Contact careersuccess@wcsu.edu
URL:https://www.wcsu.edu/events/calendar/linkedin-workshop-4/
LOCATION:Westside Campus Center\, 43 Lake Ave. Extension\, Danbury\, CT
CATEGORIES:Career search
ATTACH;FMTTYPE=image/jpeg:https://www.wcsu.edu/events/wp-content/uploads/sites/181/2021/09/Linkedin-10.26.21.jpg
END:VEVENT
BEGIN:VEVENT
DTSTART;TZID=UTC:20211026T113000
DTEND;TZID=UTC:20211026T133000
DTSTAMP:20260421T011435
CREATED:20210804T171216Z
LAST-MODIFIED:20211013T202512Z
UID:10060398-1635247800-1635255000@www.wcsu.edu
SUMMARY:Love is Sweet
DESCRIPTION:LOVE IS SWEET: The Women’s Center will host “Love is Sweet\,” where students can share on a whiteboard what they value in a relationship and also relationship deal breakers. Candy will be distributed. Students can also enter a raffle by guessing the number of candy corn in a glass jar for a chance to win a prize! The event will be from 11:30 a.m. to 1:30 p.m. in the Westside Campus Center.
URL:https://www.wcsu.edu/events/calendar/love-is-sweet/
LOCATION:Westside Campus Center\, 43 Lake Ave. Extension\, Danbury\, CT
CATEGORIES:Health And Wellness,Wellness
ATTACH;FMTTYPE=image/jpeg:https://www.wcsu.edu/events/wp-content/uploads/sites/181/2021/08/valentines-day-event.jpg
END:VEVENT
BEGIN:VEVENT
DTSTART;TZID=UTC:20211018T150000
DTEND;TZID=UTC:20211018T160000
DTSTAMP:20260421T011435
CREATED:20210908T191002Z
LAST-MODIFIED:20210928T173613Z
UID:10059212-1634569200-1634572800@www.wcsu.edu
SUMMARY:Internship Information
DESCRIPTION:INTERNSHIP INFORMATION SESSION: Do you need to do an internship before graduation but don’t know where to start? Come to an Internship Information Session hosted by the Career Success Center on Mondays from 3 to 4 p.m. at the Westside Campus Center\, Suite 300. They can answer all of your questions about the process for applying for an internship\, finding potential internship opportunities and much more. The workshops are open to WCSU students and alumni. Register on Handshake or contact us at careersuccess@wcsu.edu.
URL:https://www.wcsu.edu/events/calendar/internship-information-2/2021-10-18/
LOCATION:Westside Campus Center\, 43 Lake Ave. Extension\, Danbury\, CT
CATEGORIES:Career search
ATTACH;FMTTYPE=image/jpeg:https://www.wcsu.edu/events/wp-content/uploads/sites/181/2021/09/Internship-Information-Session-Fall-2021-4.jpg
END:VEVENT
BEGIN:VEVENT
DTSTART;TZID=UTC:20211013T140000
DTEND;TZID=UTC:20211013T153000
DTSTAMP:20260421T011435
CREATED:20210928T222035Z
LAST-MODIFIED:20210928T222035Z
UID:10061368-1634133600-1634139000@www.wcsu.edu
SUMMARY:Cleaning your Digital Dirt
DESCRIPTION:CLEANING YOUR DIGITAL DIRT: The Career Success Center is hosting “Understanding and Cleaning Your Digital Dirt” workshop from 2 – 3:30 p.m. at Westside Campus Center\, third floor. Come to this workshop and find out how you can clean your “Digital Dirt” and create a more appealing online presence. Questions? Contact careersuccess@wcsu.edu or call 203-837-8263.
URL:https://www.wcsu.edu/events/calendar/cleaning-your-digital-dirt/
LOCATION:Westside Campus Center\, 43 Lake Ave. Extension\, Danbury\, CT
CATEGORIES:Career search,Workshops,WOW
ATTACH;FMTTYPE=image/jpeg:https://www.wcsu.edu/events/wp-content/uploads/sites/181/2021/09/Understanding-Cleaning-Your-Digital-Dirt-10.13.21.jpg
END:VEVENT
BEGIN:VEVENT
DTSTART;TZID=UTC:20211007T110000
DTEND;TZID=UTC:20211007T203000
DTSTAMP:20260421T011435
CREATED:20211004T172952Z
LAST-MODIFIED:20211004T172952Z
UID:10061398-1633604400-1633638600@www.wcsu.edu
SUMMARY:Hispanic Heritage Month!
DESCRIPTION:HISPANIC HERITAGE MONTH: Come join us in celebration of Hispanic Heritage month at the Westside Marketplace from 11:30 a.m. to 8:30 p.m.\nPresented by Office of InterCultural Affairs & WCSU Dining Serves.
URL:https://www.wcsu.edu/events/calendar/hispanic-heritage-month/
LOCATION:Westside Campus Center\, 43 Lake Ave. Extension\, Danbury\, CT
CATEGORIES:Food,Social Event,WOW
ATTACH;FMTTYPE=image/jpeg:https://www.wcsu.edu/events/wp-content/uploads/sites/181/2021/10/Larisssa-Menu-Lets-Dish_Bio-1-1.jpg
END:VEVENT
BEGIN:VEVENT
DTSTART;TZID=UTC:20211004T163000
DTEND;TZID=UTC:20211004T193000
DTSTAMP:20260421T011435
CREATED:20211001T214216Z
LAST-MODIFIED:20211001T214216Z
UID:10061396-1633365000-1633375800@www.wcsu.edu
SUMMARY:Meet the Roaster
DESCRIPTION:MEET THE ROASTER: Join us for a special dinner experience “Meet the Roaster” at the Westside Marketplace from 4:30 – 7:30 p.m.\nGet your tickets at the register!
URL:https://www.wcsu.edu/events/calendar/meet-the-roaster/
LOCATION:Westside Campus Center\, 43 Lake Ave. Extension\, Danbury\, CT
CATEGORIES:Food
ATTACH;FMTTYPE=image/jpeg:https://www.wcsu.edu/events/wp-content/uploads/sites/181/2021/10/Meet-the-Roasted-Menu-menu-dinner.jpg
ORGANIZER;CN="Sodexo":MAILTO:Donald.Grayson@Sodexo.com
END:VEVENT
BEGIN:VEVENT
DTSTART;TZID=UTC:20211004T113000
DTEND;TZID=UTC:20211004T133000
DTSTAMP:20260421T011435
CREATED:20210804T165650Z
LAST-MODIFIED:20210804T174443Z
UID:10060396-1633347000-1633354200@www.wcsu.edu
SUMMARY:Silent Witness Exhibit
DESCRIPTION:SILENT WITNESS EXHIBIT: The Women’s Center will host the Silent Witness Exhibit\, honoring Connecticut lives lost due to acts of domestic violence. Students can read the stories of Connecticut residents on red and silver statues that represent community members and college students who have died due to domestic and dating violence. Counselors will be available at the event\, which will be from 11:30 a.m. to 1:30 p.m. in the Westside Campus Center lobby.
URL:https://www.wcsu.edu/events/calendar/silent-witness-exhibit/
LOCATION:Westside Campus Center\, 43 Lake Ave. Extension\, Danbury\, CT
CATEGORIES:Health And Wellness,Wellness
ATTACH;FMTTYPE=image/jpeg:https://www.wcsu.edu/events/wp-content/uploads/sites/181/2021/08/silent-witness.jpg
END:VEVENT
BEGIN:VEVENT
DTSTART;TZID=UTC:20210924T140000
DTEND;TZID=UTC:20210924T170000
DTSTAMP:20260421T011435
CREATED:20210921T173636Z
LAST-MODIFIED:20210921T173636Z
UID:10061338-1632492000-1632502800@www.wcsu.edu
SUMMARY:Professional Clothing Closet
DESCRIPTION:PROFESSIONAL CLOTHING CLOSET OPENING: The WCSU Chapter of the National Society of Leadership and Success and the WCSU Career Success Center invite you to the first opening of the Professional Clothing Closet from 2 to 5 p.m. at the Westside Campus Center\, Suite 300. Check out some highly affordable business/interview attire available to WCSU students only. Welcome snacks will be provided and a free coffee voucher for customers who spend $10 or more (good at any campus food location.) Questions? Contact (203) 837-8263 or email careersuccess@wcsu.edu.
URL:https://www.wcsu.edu/events/calendar/professional-clothing-closet/
LOCATION:Westside Campus Center\, 43 Lake Ave. Extension\, Danbury\, CT
CATEGORIES:Career search
ATTACH;FMTTYPE=image/jpeg:https://www.wcsu.edu/events/wp-content/uploads/sites/181/2021/09/WOW-and-shuttle-PCC-Final-Poster-1.jpg
END:VEVENT
BEGIN:VEVENT
DTSTART;TZID=UTC:20210922T100000
DTEND;TZID=UTC:20210922T113000
DTSTAMP:20260421T011435
CREATED:20210914T165505Z
LAST-MODIFIED:20210914T165543Z
UID:10060506-1632304800-1632310200@www.wcsu.edu
SUMMARY:Resume Workshop
DESCRIPTION:RESUME WORKSHOP: Looking to build a powerful résumé? Don’t know where to start or what to include? Whether you are an alumni or a student\, the in person Resume workshop from 10 to 11:30 a.m. will get you started. You will learn: Trends that will get you noticed; How to connect the competencies employers seek to what you can do for them; The difference between an Objective and Summary statement and why employers don’t want to see an Objective on résumés plus much more…\n**Event is free and open to all WCSU students and alumni. Register on Handshake at https://wcsu.joinhandshake.com. Questions? Contact the Career Success Center at careersuccess@wcsu.edu.
URL:https://www.wcsu.edu/events/calendar/resume-workshop-5/
LOCATION:Westside Campus Center\, 43 Lake Ave. Extension\, Danbury\, CT
CATEGORIES:Alumni,Career search
ATTACH;FMTTYPE=image/jpeg:https://www.wcsu.edu/events/wp-content/uploads/sites/181/2021/09/Resume-Workshop-9222021-1.jpg
END:VEVENT
BEGIN:VEVENT
DTSTART;TZID=UTC:20210920T150000
DTEND;TZID=UTC:20210920T160000
DTSTAMP:20260421T011435
CREATED:20210908T191002Z
LAST-MODIFIED:20210928T173613Z
UID:10059211-1632150000-1632153600@www.wcsu.edu
SUMMARY:Internship Information
DESCRIPTION:INTERNSHIP INFORMATION SESSION: Do you need to do an internship before graduation but don’t know where to start? Come to an Internship Information Session hosted by the Career Success Center on Mondays from 3 to 4 p.m. at the Westside Campus Center\, Suite 300. They can answer all of your questions about the process for applying for an internship\, finding potential internship opportunities and much more. The workshops are open to WCSU students and alumni. Register on Handshake or contact us at careersuccess@wcsu.edu.
URL:https://www.wcsu.edu/events/calendar/internship-information-2/2021-09-20/
LOCATION:Westside Campus Center\, 43 Lake Ave. Extension\, Danbury\, CT
CATEGORIES:Career search
ATTACH;FMTTYPE=image/jpeg:https://www.wcsu.edu/events/wp-content/uploads/sites/181/2021/09/Internship-Information-Session-Fall-2021-4.jpg
END:VEVENT
BEGIN:VEVENT
DTSTART;TZID=UTC:20210910T190000
DTEND;TZID=UTC:20210910T200000
DTSTAMP:20260421T011435
CREATED:20210909T233233Z
LAST-MODIFIED:20210909T233350Z
UID:10060502-1631300400-1631304000@www.wcsu.edu
SUMMARY:Alpha Kappa Alpha Interest Meeting
DESCRIPTION:ALPHA KAPPA ALPHA SORORITY INC. INTEREST MEETING: The Office of Intercultural Affairs will host an interest meeting for the Alpha Kappa Alpha Sorority at 7 p.m. on the third floor of the Westside Campus Center.
URL:https://www.wcsu.edu/events/calendar/alpha-kappa-alpha-interest-meeting/
LOCATION:Westside Campus Center\, 43 Lake Ave. Extension\, Danbury\, CT
CATEGORIES:Meeting
ATTACH;FMTTYPE=image/jpeg:https://www.wcsu.edu/events/wp-content/uploads/sites/181/2021/09/Alpha-Kappa-Alpha.jpg
ORGANIZER;CN="Office of InterCultural Affairs":MAILTO:dennisd@wcsu.edu
END:VEVENT
BEGIN:VEVENT
DTSTART;TZID=UTC:20210909T150000
DTEND;TZID=UTC:20210909T163000
DTSTAMP:20260421T011435
CREATED:20210827T000545Z
LAST-MODIFIED:20210901T214508Z
UID:10060441-1631199600-1631205000@www.wcsu.edu
SUMMARY:Resume Workshop
DESCRIPTION:RESUME WORKSHOP: The Career Success Center will host a Resume Workshop from 3 to 4:30 p.m. at Westside Campus Center Suite 300. Please join us and learn how to create your resume in preparation for the Career Fair in October. Register through Handshake at https://wcsu.joinhandshake.com/login. Questions? Call (203) 837-8263 or email Careersuccess@wcsu.edu. Open to WCSU students and alumni only.
URL:https://www.wcsu.edu/events/calendar/resume-workshop-4/
LOCATION:Westside Campus Center\, 43 Lake Ave. Extension\, Danbury\, CT
CATEGORIES:Career search
ATTACH;FMTTYPE=image/jpeg:https://www.wcsu.edu/events/wp-content/uploads/sites/181/2021/08/Resume-Workshop-992021.jpg
END:VEVENT
BEGIN:VEVENT
DTSTART;TZID=UTC:20210831T103000
DTEND;TZID=UTC:20210831T143000
DTSTAMP:20260421T011435
CREATED:20210823T161057Z
LAST-MODIFIED:20210823T161058Z
UID:10059164-1630405800-1630420200@www.wcsu.edu
SUMMARY:Student Employment Info
DESCRIPTION:STUDENT EMPLOYMENT INFO TABLE: Are you interested in working on campus and not sure where to begin?\nVisit our Information Table from 10:30 a.m. to 2:30 p.m. at the Westside Campus Center to learn more about student employment at WCSU.
URL:https://www.wcsu.edu/events/calendar/student-employment-info/
LOCATION:Westside Campus Center\, 43 Lake Ave. Extension\, Danbury\, CT
CATEGORIES:Career search
ATTACH;FMTTYPE=image/png:https://www.wcsu.edu/events/wp-content/uploads/sites/181/2021/08/Job-Info-Tables1.png
ORGANIZER;CN="Financial Aid &amp%3Bamp%3B Student Employment":MAILTO:wcsufinancialaid@wcsu.edu
END:VEVENT
END:VCALENDAR