BEGIN:VCALENDAR
VERSION:2.0
PRODID:-//WCSU Events - ECPv6.15.17.1//NONSGML v1.0//EN
CALSCALE:GREGORIAN
METHOD:PUBLISH
X-WR-CALNAME:WCSU Events
X-ORIGINAL-URL:https://www.wcsu.edu/events
X-WR-CALDESC:Events for WCSU Events
REFRESH-INTERVAL;VALUE=DURATION:PT1H
X-Robots-Tag:noindex
X-PUBLISHED-TTL:PT1H
BEGIN:VTIMEZONE
TZID:America/New_York
BEGIN:DAYLIGHT
TZOFFSETFROM:-0500
TZOFFSETTO:-0400
TZNAME:EDT
DTSTART:20220313T070000
END:DAYLIGHT
BEGIN:STANDARD
TZOFFSETFROM:-0400
TZOFFSETTO:-0500
TZNAME:EST
DTSTART:20221106T060000
END:STANDARD
BEGIN:DAYLIGHT
TZOFFSETFROM:-0500
TZOFFSETTO:-0400
TZNAME:EDT
DTSTART:20230312T070000
END:DAYLIGHT
BEGIN:STANDARD
TZOFFSETFROM:-0400
TZOFFSETTO:-0500
TZNAME:EST
DTSTART:20231105T060000
END:STANDARD
BEGIN:DAYLIGHT
TZOFFSETFROM:-0500
TZOFFSETTO:-0400
TZNAME:EDT
DTSTART:20240310T070000
END:DAYLIGHT
BEGIN:STANDARD
TZOFFSETFROM:-0400
TZOFFSETTO:-0500
TZNAME:EST
DTSTART:20241103T060000
END:STANDARD
BEGIN:DAYLIGHT
TZOFFSETFROM:-0500
TZOFFSETTO:-0400
TZNAME:EDT
DTSTART:20250309T070000
END:DAYLIGHT
BEGIN:STANDARD
TZOFFSETFROM:-0400
TZOFFSETTO:-0500
TZNAME:EST
DTSTART:20251102T060000
END:STANDARD
END:VTIMEZONE
BEGIN:VEVENT
DTSTART;TZID=America/New_York:20240930T080000
DTEND;TZID=America/New_York:20240930T220000
DTSTAMP:20260425T103316
CREATED:20240911T160526Z
LAST-MODIFIED:20241003T144627Z
UID:10067888-1727683200-1727733600@www.wcsu.edu
SUMMARY:Create a Fact-Checked Democracy Library Exhibit
DESCRIPTION:CREATE A FACT-CHECKED DEMOCRACY LIBRARY EXHIBIT: Come view the newest library exhibit in Haas and Young Libraries! Designed to help you learn about the history of American democracy\, identify mis- or disinformation\, and make an informed choice in November. Open all hours the library is open: \nHaas Library\, Midtown campus\nMonday-Thursday\, 8 a.m.-10 p.m.\nFriday\, 8 a.m.-4 p.m.\nSaturday\, 10 a.m.-6 p.m.\nSunday\, 2 p.m.-6 p.m. \nYoung Library\, Westside campus\nMonday-Thursday\, 10 a.m.-6 p.m.
URL:https://www.wcsu.edu/events/calendar/create-a-fact-checked-democracy-library-exhibit/2024-09-30/
LOCATION:Ruth Haas Library\, 181 White St.\, Danbury\, CT
CATEGORIES:Exhibition
ATTACH;FMTTYPE=image/jpeg:https://www.wcsu.edu/events/wp-content/uploads/sites/181/2024/09/voting-wow.jpg
ORGANIZER;CN="Library Services":MAILTO:kenausisv@wcsu.edu
END:VEVENT
BEGIN:VEVENT
DTSTART;TZID=America/New_York:20240929T080000
DTEND;TZID=America/New_York:20240929T220000
DTSTAMP:20260425T103316
CREATED:20240911T160526Z
LAST-MODIFIED:20241003T144627Z
UID:10067887-1727596800-1727647200@www.wcsu.edu
SUMMARY:Create a Fact-Checked Democracy Library Exhibit
DESCRIPTION:CREATE A FACT-CHECKED DEMOCRACY LIBRARY EXHIBIT: Come view the newest library exhibit in Haas and Young Libraries! Designed to help you learn about the history of American democracy\, identify mis- or disinformation\, and make an informed choice in November. Open all hours the library is open: \nHaas Library\, Midtown campus\nMonday-Thursday\, 8 a.m.-10 p.m.\nFriday\, 8 a.m.-4 p.m.\nSaturday\, 10 a.m.-6 p.m.\nSunday\, 2 p.m.-6 p.m. \nYoung Library\, Westside campus\nMonday-Thursday\, 10 a.m.-6 p.m.
URL:https://www.wcsu.edu/events/calendar/create-a-fact-checked-democracy-library-exhibit/2024-09-29/
LOCATION:Ruth Haas Library\, 181 White St.\, Danbury\, CT
CATEGORIES:Exhibition
ATTACH;FMTTYPE=image/jpeg:https://www.wcsu.edu/events/wp-content/uploads/sites/181/2024/09/voting-wow.jpg
ORGANIZER;CN="Library Services":MAILTO:kenausisv@wcsu.edu
END:VEVENT
BEGIN:VEVENT
DTSTART;TZID=America/New_York:20240928T080000
DTEND;TZID=America/New_York:20240928T220000
DTSTAMP:20260425T103316
CREATED:20240911T160526Z
LAST-MODIFIED:20241003T144627Z
UID:10067886-1727510400-1727560800@www.wcsu.edu
SUMMARY:Create a Fact-Checked Democracy Library Exhibit
DESCRIPTION:CREATE A FACT-CHECKED DEMOCRACY LIBRARY EXHIBIT: Come view the newest library exhibit in Haas and Young Libraries! Designed to help you learn about the history of American democracy\, identify mis- or disinformation\, and make an informed choice in November. Open all hours the library is open: \nHaas Library\, Midtown campus\nMonday-Thursday\, 8 a.m.-10 p.m.\nFriday\, 8 a.m.-4 p.m.\nSaturday\, 10 a.m.-6 p.m.\nSunday\, 2 p.m.-6 p.m. \nYoung Library\, Westside campus\nMonday-Thursday\, 10 a.m.-6 p.m.
URL:https://www.wcsu.edu/events/calendar/create-a-fact-checked-democracy-library-exhibit/2024-09-28/
LOCATION:Ruth Haas Library\, 181 White St.\, Danbury\, CT
CATEGORIES:Exhibition
ATTACH;FMTTYPE=image/jpeg:https://www.wcsu.edu/events/wp-content/uploads/sites/181/2024/09/voting-wow.jpg
ORGANIZER;CN="Library Services":MAILTO:kenausisv@wcsu.edu
END:VEVENT
BEGIN:VEVENT
DTSTART;TZID=America/New_York:20240927T080000
DTEND;TZID=America/New_York:20240927T220000
DTSTAMP:20260425T103316
CREATED:20240911T160526Z
LAST-MODIFIED:20241003T144627Z
UID:10067885-1727424000-1727474400@www.wcsu.edu
SUMMARY:Create a Fact-Checked Democracy Library Exhibit
DESCRIPTION:CREATE A FACT-CHECKED DEMOCRACY LIBRARY EXHIBIT: Come view the newest library exhibit in Haas and Young Libraries! Designed to help you learn about the history of American democracy\, identify mis- or disinformation\, and make an informed choice in November. Open all hours the library is open: \nHaas Library\, Midtown campus\nMonday-Thursday\, 8 a.m.-10 p.m.\nFriday\, 8 a.m.-4 p.m.\nSaturday\, 10 a.m.-6 p.m.\nSunday\, 2 p.m.-6 p.m. \nYoung Library\, Westside campus\nMonday-Thursday\, 10 a.m.-6 p.m.
URL:https://www.wcsu.edu/events/calendar/create-a-fact-checked-democracy-library-exhibit/2024-09-27/
LOCATION:Ruth Haas Library\, 181 White St.\, Danbury\, CT
CATEGORIES:Exhibition
ATTACH;FMTTYPE=image/jpeg:https://www.wcsu.edu/events/wp-content/uploads/sites/181/2024/09/voting-wow.jpg
ORGANIZER;CN="Library Services":MAILTO:kenausisv@wcsu.edu
END:VEVENT
BEGIN:VEVENT
DTSTART;TZID=America/New_York:20240926T080000
DTEND;TZID=America/New_York:20240926T220000
DTSTAMP:20260425T103316
CREATED:20240911T160526Z
LAST-MODIFIED:20241003T144627Z
UID:10067884-1727337600-1727388000@www.wcsu.edu
SUMMARY:Create a Fact-Checked Democracy Library Exhibit
DESCRIPTION:CREATE A FACT-CHECKED DEMOCRACY LIBRARY EXHIBIT: Come view the newest library exhibit in Haas and Young Libraries! Designed to help you learn about the history of American democracy\, identify mis- or disinformation\, and make an informed choice in November. Open all hours the library is open: \nHaas Library\, Midtown campus\nMonday-Thursday\, 8 a.m.-10 p.m.\nFriday\, 8 a.m.-4 p.m.\nSaturday\, 10 a.m.-6 p.m.\nSunday\, 2 p.m.-6 p.m. \nYoung Library\, Westside campus\nMonday-Thursday\, 10 a.m.-6 p.m.
URL:https://www.wcsu.edu/events/calendar/create-a-fact-checked-democracy-library-exhibit/2024-09-26/
LOCATION:Ruth Haas Library\, 181 White St.\, Danbury\, CT
CATEGORIES:Exhibition
ATTACH;FMTTYPE=image/jpeg:https://www.wcsu.edu/events/wp-content/uploads/sites/181/2024/09/voting-wow.jpg
ORGANIZER;CN="Library Services":MAILTO:kenausisv@wcsu.edu
END:VEVENT
BEGIN:VEVENT
DTSTART;TZID=America/New_York:20240925T080000
DTEND;TZID=America/New_York:20240925T220000
DTSTAMP:20260425T103316
CREATED:20240911T160526Z
LAST-MODIFIED:20241003T144627Z
UID:10067883-1727251200-1727301600@www.wcsu.edu
SUMMARY:Create a Fact-Checked Democracy Library Exhibit
DESCRIPTION:CREATE A FACT-CHECKED DEMOCRACY LIBRARY EXHIBIT: Come view the newest library exhibit in Haas and Young Libraries! Designed to help you learn about the history of American democracy\, identify mis- or disinformation\, and make an informed choice in November. Open all hours the library is open: \nHaas Library\, Midtown campus\nMonday-Thursday\, 8 a.m.-10 p.m.\nFriday\, 8 a.m.-4 p.m.\nSaturday\, 10 a.m.-6 p.m.\nSunday\, 2 p.m.-6 p.m. \nYoung Library\, Westside campus\nMonday-Thursday\, 10 a.m.-6 p.m.
URL:https://www.wcsu.edu/events/calendar/create-a-fact-checked-democracy-library-exhibit/2024-09-25/
LOCATION:Ruth Haas Library\, 181 White St.\, Danbury\, CT
CATEGORIES:Exhibition
ATTACH;FMTTYPE=image/jpeg:https://www.wcsu.edu/events/wp-content/uploads/sites/181/2024/09/voting-wow.jpg
ORGANIZER;CN="Library Services":MAILTO:kenausisv@wcsu.edu
END:VEVENT
BEGIN:VEVENT
DTSTART;TZID=America/New_York:20240924T080000
DTEND;TZID=America/New_York:20240924T220000
DTSTAMP:20260425T103316
CREATED:20240924T170615Z
LAST-MODIFIED:20240924T170616Z
UID:10067882-1727164800-1727215200@www.wcsu.edu
SUMMARY:Create a Fact-Checked Democracy Library Exhibit
DESCRIPTION:CREATE A FACT-CHECKED DEMOCRACY LIBRARY EXHIBIT: Come view the newest library exhibit in Haas and Young Libraries! Designed to help you learn about the history of American democracy\, identify mis- or disinformation\, and make an informed choice in November. Open all hours the library is open: \nHaas Library\, Midtown campus\nMonday-Thursday\, 8 a.m.-10 p.m.\nFriday\, 8 a.m.-4 p.m.\nSaturday\, 10 a.m.-6 p.m.\nSunday\, 2 p.m.-6 p.m. \nYoung Library\, Westside campus\nMonday-Thursday\, 10 a.m.-6 p.m.
URL:https://www.wcsu.edu/events/calendar/create-a-fact-checked-democracy-library-exhibit-2/
LOCATION:Ruth Haas Library\, 181 White St.\, Danbury\, CT
CATEGORIES:Exhibition,WOW
ATTACH;FMTTYPE=image/jpeg:https://www.wcsu.edu/events/wp-content/uploads/sites/181/2024/09/voting-wow.jpg
ORGANIZER;CN="Library Services":MAILTO:kenausisv@wcsu.edu
END:VEVENT
BEGIN:VEVENT
DTSTART;TZID=America/New_York:20240923T080000
DTEND;TZID=America/New_York:20240923T220000
DTSTAMP:20260425T103316
CREATED:20240911T160526Z
LAST-MODIFIED:20241003T144627Z
UID:10067881-1727078400-1727128800@www.wcsu.edu
SUMMARY:Create a Fact-Checked Democracy Library Exhibit
DESCRIPTION:CREATE A FACT-CHECKED DEMOCRACY LIBRARY EXHIBIT: Come view the newest library exhibit in Haas and Young Libraries! Designed to help you learn about the history of American democracy\, identify mis- or disinformation\, and make an informed choice in November. Open all hours the library is open: \nHaas Library\, Midtown campus\nMonday-Thursday\, 8 a.m.-10 p.m.\nFriday\, 8 a.m.-4 p.m.\nSaturday\, 10 a.m.-6 p.m.\nSunday\, 2 p.m.-6 p.m. \nYoung Library\, Westside campus\nMonday-Thursday\, 10 a.m.-6 p.m.
URL:https://www.wcsu.edu/events/calendar/create-a-fact-checked-democracy-library-exhibit/2024-09-23/
LOCATION:Ruth Haas Library\, 181 White St.\, Danbury\, CT
CATEGORIES:Exhibition
ATTACH;FMTTYPE=image/jpeg:https://www.wcsu.edu/events/wp-content/uploads/sites/181/2024/09/voting-wow.jpg
ORGANIZER;CN="Library Services":MAILTO:kenausisv@wcsu.edu
END:VEVENT
BEGIN:VEVENT
DTSTART;TZID=America/New_York:20240922T080000
DTEND;TZID=America/New_York:20240922T220000
DTSTAMP:20260425T103316
CREATED:20240911T160526Z
LAST-MODIFIED:20241003T144627Z
UID:10067880-1726992000-1727042400@www.wcsu.edu
SUMMARY:Create a Fact-Checked Democracy Library Exhibit
DESCRIPTION:CREATE A FACT-CHECKED DEMOCRACY LIBRARY EXHIBIT: Come view the newest library exhibit in Haas and Young Libraries! Designed to help you learn about the history of American democracy\, identify mis- or disinformation\, and make an informed choice in November. Open all hours the library is open: \nHaas Library\, Midtown campus\nMonday-Thursday\, 8 a.m.-10 p.m.\nFriday\, 8 a.m.-4 p.m.\nSaturday\, 10 a.m.-6 p.m.\nSunday\, 2 p.m.-6 p.m. \nYoung Library\, Westside campus\nMonday-Thursday\, 10 a.m.-6 p.m.
URL:https://www.wcsu.edu/events/calendar/create-a-fact-checked-democracy-library-exhibit/2024-09-22/
LOCATION:Ruth Haas Library\, 181 White St.\, Danbury\, CT
CATEGORIES:Exhibition
ATTACH;FMTTYPE=image/jpeg:https://www.wcsu.edu/events/wp-content/uploads/sites/181/2024/09/voting-wow.jpg
ORGANIZER;CN="Library Services":MAILTO:kenausisv@wcsu.edu
END:VEVENT
BEGIN:VEVENT
DTSTART;TZID=America/New_York:20240921T080000
DTEND;TZID=America/New_York:20240921T220000
DTSTAMP:20260425T103316
CREATED:20240911T160526Z
LAST-MODIFIED:20241003T144627Z
UID:10067879-1726905600-1726956000@www.wcsu.edu
SUMMARY:Create a Fact-Checked Democracy Library Exhibit
DESCRIPTION:CREATE A FACT-CHECKED DEMOCRACY LIBRARY EXHIBIT: Come view the newest library exhibit in Haas and Young Libraries! Designed to help you learn about the history of American democracy\, identify mis- or disinformation\, and make an informed choice in November. Open all hours the library is open: \nHaas Library\, Midtown campus\nMonday-Thursday\, 8 a.m.-10 p.m.\nFriday\, 8 a.m.-4 p.m.\nSaturday\, 10 a.m.-6 p.m.\nSunday\, 2 p.m.-6 p.m. \nYoung Library\, Westside campus\nMonday-Thursday\, 10 a.m.-6 p.m.
URL:https://www.wcsu.edu/events/calendar/create-a-fact-checked-democracy-library-exhibit/2024-09-21/
LOCATION:Ruth Haas Library\, 181 White St.\, Danbury\, CT
CATEGORIES:Exhibition
ATTACH;FMTTYPE=image/jpeg:https://www.wcsu.edu/events/wp-content/uploads/sites/181/2024/09/voting-wow.jpg
ORGANIZER;CN="Library Services":MAILTO:kenausisv@wcsu.edu
END:VEVENT
BEGIN:VEVENT
DTSTART;TZID=America/New_York:20240920T080000
DTEND;TZID=America/New_York:20240920T220000
DTSTAMP:20260425T103316
CREATED:20240911T160526Z
LAST-MODIFIED:20241003T144627Z
UID:10067878-1726819200-1726869600@www.wcsu.edu
SUMMARY:Create a Fact-Checked Democracy Library Exhibit
DESCRIPTION:CREATE A FACT-CHECKED DEMOCRACY LIBRARY EXHIBIT: Come view the newest library exhibit in Haas and Young Libraries! Designed to help you learn about the history of American democracy\, identify mis- or disinformation\, and make an informed choice in November. Open all hours the library is open: \nHaas Library\, Midtown campus\nMonday-Thursday\, 8 a.m.-10 p.m.\nFriday\, 8 a.m.-4 p.m.\nSaturday\, 10 a.m.-6 p.m.\nSunday\, 2 p.m.-6 p.m. \nYoung Library\, Westside campus\nMonday-Thursday\, 10 a.m.-6 p.m.
URL:https://www.wcsu.edu/events/calendar/create-a-fact-checked-democracy-library-exhibit/2024-09-20/
LOCATION:Ruth Haas Library\, 181 White St.\, Danbury\, CT
CATEGORIES:Exhibition
ATTACH;FMTTYPE=image/jpeg:https://www.wcsu.edu/events/wp-content/uploads/sites/181/2024/09/voting-wow.jpg
ORGANIZER;CN="Library Services":MAILTO:kenausisv@wcsu.edu
END:VEVENT
BEGIN:VEVENT
DTSTART;TZID=America/New_York:20240919T080000
DTEND;TZID=America/New_York:20240919T220000
DTSTAMP:20260425T103316
CREATED:20240911T160526Z
LAST-MODIFIED:20241003T144627Z
UID:10067877-1726732800-1726783200@www.wcsu.edu
SUMMARY:Create a Fact-Checked Democracy Library Exhibit
DESCRIPTION:CREATE A FACT-CHECKED DEMOCRACY LIBRARY EXHIBIT: Come view the newest library exhibit in Haas and Young Libraries! Designed to help you learn about the history of American democracy\, identify mis- or disinformation\, and make an informed choice in November. Open all hours the library is open: \nHaas Library\, Midtown campus\nMonday-Thursday\, 8 a.m.-10 p.m.\nFriday\, 8 a.m.-4 p.m.\nSaturday\, 10 a.m.-6 p.m.\nSunday\, 2 p.m.-6 p.m. \nYoung Library\, Westside campus\nMonday-Thursday\, 10 a.m.-6 p.m.
URL:https://www.wcsu.edu/events/calendar/create-a-fact-checked-democracy-library-exhibit/2024-09-19/
LOCATION:Ruth Haas Library\, 181 White St.\, Danbury\, CT
CATEGORIES:Exhibition
ATTACH;FMTTYPE=image/jpeg:https://www.wcsu.edu/events/wp-content/uploads/sites/181/2024/09/voting-wow.jpg
ORGANIZER;CN="Library Services":MAILTO:kenausisv@wcsu.edu
END:VEVENT
BEGIN:VEVENT
DTSTART;TZID=America/New_York:20240918T080000
DTEND;TZID=America/New_York:20240918T220000
DTSTAMP:20260425T103316
CREATED:20240911T160526Z
LAST-MODIFIED:20241003T144627Z
UID:10067876-1726646400-1726696800@www.wcsu.edu
SUMMARY:Create a Fact-Checked Democracy Library Exhibit
DESCRIPTION:CREATE A FACT-CHECKED DEMOCRACY LIBRARY EXHIBIT: Come view the newest library exhibit in Haas and Young Libraries! Designed to help you learn about the history of American democracy\, identify mis- or disinformation\, and make an informed choice in November. Open all hours the library is open: \nHaas Library\, Midtown campus\nMonday-Thursday\, 8 a.m.-10 p.m.\nFriday\, 8 a.m.-4 p.m.\nSaturday\, 10 a.m.-6 p.m.\nSunday\, 2 p.m.-6 p.m. \nYoung Library\, Westside campus\nMonday-Thursday\, 10 a.m.-6 p.m.
URL:https://www.wcsu.edu/events/calendar/create-a-fact-checked-democracy-library-exhibit/2024-09-18/
LOCATION:Ruth Haas Library\, 181 White St.\, Danbury\, CT
CATEGORIES:Exhibition
ATTACH;FMTTYPE=image/jpeg:https://www.wcsu.edu/events/wp-content/uploads/sites/181/2024/09/voting-wow.jpg
ORGANIZER;CN="Library Services":MAILTO:kenausisv@wcsu.edu
END:VEVENT
BEGIN:VEVENT
DTSTART;TZID=America/New_York:20240917T080000
DTEND;TZID=America/New_York:20240917T220000
DTSTAMP:20260425T103316
CREATED:20240911T160526Z
LAST-MODIFIED:20241003T144627Z
UID:10067875-1726560000-1726610400@www.wcsu.edu
SUMMARY:Create a Fact-Checked Democracy Library Exhibit
DESCRIPTION:CREATE A FACT-CHECKED DEMOCRACY LIBRARY EXHIBIT: Come view the newest library exhibit in Haas and Young Libraries! Designed to help you learn about the history of American democracy\, identify mis- or disinformation\, and make an informed choice in November. Open all hours the library is open: \nHaas Library\, Midtown campus\nMonday-Thursday\, 8 a.m.-10 p.m.\nFriday\, 8 a.m.-4 p.m.\nSaturday\, 10 a.m.-6 p.m.\nSunday\, 2 p.m.-6 p.m. \nYoung Library\, Westside campus\nMonday-Thursday\, 10 a.m.-6 p.m.
URL:https://www.wcsu.edu/events/calendar/create-a-fact-checked-democracy-library-exhibit/2024-09-17/
LOCATION:Ruth Haas Library\, 181 White St.\, Danbury\, CT
CATEGORIES:Exhibition
ATTACH;FMTTYPE=image/jpeg:https://www.wcsu.edu/events/wp-content/uploads/sites/181/2024/09/voting-wow.jpg
ORGANIZER;CN="Library Services":MAILTO:kenausisv@wcsu.edu
END:VEVENT
BEGIN:VEVENT
DTSTART;TZID=America/New_York:20240916T080000
DTEND;TZID=America/New_York:20240916T220000
DTSTAMP:20260425T103316
CREATED:20240911T160526Z
LAST-MODIFIED:20241003T144627Z
UID:10067874-1726473600-1726524000@www.wcsu.edu
SUMMARY:Create a Fact-Checked Democracy Library Exhibit
DESCRIPTION:CREATE A FACT-CHECKED DEMOCRACY LIBRARY EXHIBIT: Come view the newest library exhibit in Haas and Young Libraries! Designed to help you learn about the history of American democracy\, identify mis- or disinformation\, and make an informed choice in November. Open all hours the library is open: \nHaas Library\, Midtown campus\nMonday-Thursday\, 8 a.m.-10 p.m.\nFriday\, 8 a.m.-4 p.m.\nSaturday\, 10 a.m.-6 p.m.\nSunday\, 2 p.m.-6 p.m. \nYoung Library\, Westside campus\nMonday-Thursday\, 10 a.m.-6 p.m.
URL:https://www.wcsu.edu/events/calendar/create-a-fact-checked-democracy-library-exhibit/2024-09-16/
LOCATION:Ruth Haas Library\, 181 White St.\, Danbury\, CT
CATEGORIES:Exhibition
ATTACH;FMTTYPE=image/jpeg:https://www.wcsu.edu/events/wp-content/uploads/sites/181/2024/09/voting-wow.jpg
ORGANIZER;CN="Library Services":MAILTO:kenausisv@wcsu.edu
END:VEVENT
BEGIN:VEVENT
DTSTART;TZID=America/New_York:20240915T080000
DTEND;TZID=America/New_York:20240915T220000
DTSTAMP:20260425T103316
CREATED:20240911T160526Z
LAST-MODIFIED:20241003T144627Z
UID:10067873-1726387200-1726437600@www.wcsu.edu
SUMMARY:Create a Fact-Checked Democracy Library Exhibit
DESCRIPTION:CREATE A FACT-CHECKED DEMOCRACY LIBRARY EXHIBIT: Come view the newest library exhibit in Haas and Young Libraries! Designed to help you learn about the history of American democracy\, identify mis- or disinformation\, and make an informed choice in November. Open all hours the library is open: \nHaas Library\, Midtown campus\nMonday-Thursday\, 8 a.m.-10 p.m.\nFriday\, 8 a.m.-4 p.m.\nSaturday\, 10 a.m.-6 p.m.\nSunday\, 2 p.m.-6 p.m. \nYoung Library\, Westside campus\nMonday-Thursday\, 10 a.m.-6 p.m.
URL:https://www.wcsu.edu/events/calendar/create-a-fact-checked-democracy-library-exhibit/2024-09-15/
LOCATION:Ruth Haas Library\, 181 White St.\, Danbury\, CT
CATEGORIES:Exhibition
ATTACH;FMTTYPE=image/jpeg:https://www.wcsu.edu/events/wp-content/uploads/sites/181/2024/09/voting-wow.jpg
ORGANIZER;CN="Library Services":MAILTO:kenausisv@wcsu.edu
END:VEVENT
BEGIN:VEVENT
DTSTART;TZID=America/New_York:20240914T080000
DTEND;TZID=America/New_York:20240914T220000
DTSTAMP:20260425T103316
CREATED:20240911T160526Z
LAST-MODIFIED:20241003T144627Z
UID:10067872-1726300800-1726351200@www.wcsu.edu
SUMMARY:Create a Fact-Checked Democracy Library Exhibit
DESCRIPTION:CREATE A FACT-CHECKED DEMOCRACY LIBRARY EXHIBIT: Come view the newest library exhibit in Haas and Young Libraries! Designed to help you learn about the history of American democracy\, identify mis- or disinformation\, and make an informed choice in November. Open all hours the library is open: \nHaas Library\, Midtown campus\nMonday-Thursday\, 8 a.m.-10 p.m.\nFriday\, 8 a.m.-4 p.m.\nSaturday\, 10 a.m.-6 p.m.\nSunday\, 2 p.m.-6 p.m. \nYoung Library\, Westside campus\nMonday-Thursday\, 10 a.m.-6 p.m.
URL:https://www.wcsu.edu/events/calendar/create-a-fact-checked-democracy-library-exhibit/2024-09-14/
LOCATION:Ruth Haas Library\, 181 White St.\, Danbury\, CT
CATEGORIES:Exhibition
ATTACH;FMTTYPE=image/jpeg:https://www.wcsu.edu/events/wp-content/uploads/sites/181/2024/09/voting-wow.jpg
ORGANIZER;CN="Library Services":MAILTO:kenausisv@wcsu.edu
END:VEVENT
BEGIN:VEVENT
DTSTART;TZID=America/New_York:20240913T080000
DTEND;TZID=America/New_York:20240913T220000
DTSTAMP:20260425T103316
CREATED:20240911T160526Z
LAST-MODIFIED:20241003T144627Z
UID:10067871-1726214400-1726264800@www.wcsu.edu
SUMMARY:Create a Fact-Checked Democracy Library Exhibit
DESCRIPTION:CREATE A FACT-CHECKED DEMOCRACY LIBRARY EXHIBIT: Come view the newest library exhibit in Haas and Young Libraries! Designed to help you learn about the history of American democracy\, identify mis- or disinformation\, and make an informed choice in November. Open all hours the library is open: \nHaas Library\, Midtown campus\nMonday-Thursday\, 8 a.m.-10 p.m.\nFriday\, 8 a.m.-4 p.m.\nSaturday\, 10 a.m.-6 p.m.\nSunday\, 2 p.m.-6 p.m. \nYoung Library\, Westside campus\nMonday-Thursday\, 10 a.m.-6 p.m.
URL:https://www.wcsu.edu/events/calendar/create-a-fact-checked-democracy-library-exhibit/2024-09-13/
LOCATION:Ruth Haas Library\, 181 White St.\, Danbury\, CT
CATEGORIES:Exhibition
ATTACH;FMTTYPE=image/jpeg:https://www.wcsu.edu/events/wp-content/uploads/sites/181/2024/09/voting-wow.jpg
ORGANIZER;CN="Library Services":MAILTO:kenausisv@wcsu.edu
END:VEVENT
BEGIN:VEVENT
DTSTART;TZID=America/New_York:20240912T080000
DTEND;TZID=America/New_York:20240912T220000
DTSTAMP:20260425T103316
CREATED:20240911T160526Z
LAST-MODIFIED:20241003T144627Z
UID:10067870-1726128000-1726178400@www.wcsu.edu
SUMMARY:Create a Fact-Checked Democracy Library Exhibit
DESCRIPTION:CREATE A FACT-CHECKED DEMOCRACY LIBRARY EXHIBIT: Come view the newest library exhibit in Haas and Young Libraries! Designed to help you learn about the history of American democracy\, identify mis- or disinformation\, and make an informed choice in November. Open all hours the library is open: \nHaas Library\, Midtown campus\nMonday-Thursday\, 8 a.m.-10 p.m.\nFriday\, 8 a.m.-4 p.m.\nSaturday\, 10 a.m.-6 p.m.\nSunday\, 2 p.m.-6 p.m. \nYoung Library\, Westside campus\nMonday-Thursday\, 10 a.m.-6 p.m.
URL:https://www.wcsu.edu/events/calendar/create-a-fact-checked-democracy-library-exhibit/2024-09-12/
LOCATION:Ruth Haas Library\, 181 White St.\, Danbury\, CT
CATEGORIES:Exhibition
ATTACH;FMTTYPE=image/jpeg:https://www.wcsu.edu/events/wp-content/uploads/sites/181/2024/09/voting-wow.jpg
ORGANIZER;CN="Library Services":MAILTO:kenausisv@wcsu.edu
END:VEVENT
BEGIN:VEVENT
DTSTART;TZID=America/New_York:20240911T080000
DTEND;TZID=America/New_York:20240911T220000
DTSTAMP:20260425T103316
CREATED:20240911T160526Z
LAST-MODIFIED:20241003T144627Z
UID:10067869-1726041600-1726092000@www.wcsu.edu
SUMMARY:Create a Fact-Checked Democracy Library Exhibit
DESCRIPTION:CREATE A FACT-CHECKED DEMOCRACY LIBRARY EXHIBIT: Come view the newest library exhibit in Haas and Young Libraries! Designed to help you learn about the history of American democracy\, identify mis- or disinformation\, and make an informed choice in November. Open all hours the library is open: \nHaas Library\, Midtown campus\nMonday-Thursday\, 8 a.m.-10 p.m.\nFriday\, 8 a.m.-4 p.m.\nSaturday\, 10 a.m.-6 p.m.\nSunday\, 2 p.m.-6 p.m. \nYoung Library\, Westside campus\nMonday-Thursday\, 10 a.m.-6 p.m.
URL:https://www.wcsu.edu/events/calendar/create-a-fact-checked-democracy-library-exhibit/2024-09-11/
LOCATION:Ruth Haas Library\, 181 White St.\, Danbury\, CT
CATEGORIES:Exhibition
ATTACH;FMTTYPE=image/jpeg:https://www.wcsu.edu/events/wp-content/uploads/sites/181/2024/09/voting-wow.jpg
ORGANIZER;CN="Library Services":MAILTO:kenausisv@wcsu.edu
END:VEVENT
BEGIN:VEVENT
DTSTART;TZID=America/New_York:20240910T080000
DTEND;TZID=America/New_York:20240910T220000
DTSTAMP:20260425T103316
CREATED:20240911T160526Z
LAST-MODIFIED:20241003T144627Z
UID:10067868-1725955200-1726005600@www.wcsu.edu
SUMMARY:Create a Fact-Checked Democracy Library Exhibit
DESCRIPTION:CREATE A FACT-CHECKED DEMOCRACY LIBRARY EXHIBIT: Come view the newest library exhibit in Haas and Young Libraries! Designed to help you learn about the history of American democracy\, identify mis- or disinformation\, and make an informed choice in November. Open all hours the library is open: \nHaas Library\, Midtown campus\nMonday-Thursday\, 8 a.m.-10 p.m.\nFriday\, 8 a.m.-4 p.m.\nSaturday\, 10 a.m.-6 p.m.\nSunday\, 2 p.m.-6 p.m. \nYoung Library\, Westside campus\nMonday-Thursday\, 10 a.m.-6 p.m.
URL:https://www.wcsu.edu/events/calendar/create-a-fact-checked-democracy-library-exhibit/2024-09-10/
LOCATION:Ruth Haas Library\, 181 White St.\, Danbury\, CT
CATEGORIES:Exhibition
ATTACH;FMTTYPE=image/jpeg:https://www.wcsu.edu/events/wp-content/uploads/sites/181/2024/09/voting-wow.jpg
ORGANIZER;CN="Library Services":MAILTO:kenausisv@wcsu.edu
END:VEVENT
BEGIN:VEVENT
DTSTART;TZID=America/New_York:20231003T110000
DTEND;TZID=America/New_York:20231003T150000
DTSTAMP:20260425T103316
CREATED:20230918T181430Z
LAST-MODIFIED:20230928T143335Z
UID:10063927-1696330800-1696345200@www.wcsu.edu
SUMMARY:Robert S. Young Library Day
DESCRIPTION:ROBERT S. YOUNG LIBRARY DAY: Drop in to meet or re-connect with the people who make it all happen\, enjoy refreshments\, learn about our new and continuing services and resources\, and pick up swag (limited quantities!). From 11 a.m. to 3 p.m. in Robert S. Young Library in the Westside Classroom Building. \n11 a.m.: All about Access Services \nCirculation? Interlibrary loan? Reserves? Study rooms? Meet our staff\, explore our space\, and learn how the library supports academic success. \nNoon: Research Round-Up \nReference? Databases? Information Literacy? Meet the librarians\, explore the new library website\, learn about all the ways we can connect you to the information you need. \n1 p.m.: Considering Collections   \nMonographs? Serials? Periodicals? E-books? Archives? Learn more about collection development and collection management\, how and why we select and DE-select materials\, and how we preserve university and local history. \n2 p.m.: Closing reception for student art show Riley Weaver  \nCo-sponsored by the Art Department
URL:https://www.wcsu.edu/events/calendar/young-library-open-house/
LOCATION:Young Library\, 43 Lake Ave. Extension\, Danbury\, CT
CATEGORIES:Open House
ATTACH;FMTTYPE=image/jpeg:https://www.wcsu.edu/events/wp-content/uploads/sites/181/2023/09/WCSU-Library.jpg
END:VEVENT
END:VCALENDAR