BEGIN:VCALENDAR
VERSION:2.0
PRODID:-//School of Visual, Performing, and Communication Arts - ECPv6.15.17.1//NONSGML v1.0//EN
CALSCALE:GREGORIAN
METHOD:PUBLISH
X-ORIGINAL-URL:https://www.wcsu.edu/svpca
X-WR-CALDESC:Events for School of Visual, Performing, and Communication Arts
REFRESH-INTERVAL;VALUE=DURATION:PT1H
X-Robots-Tag:noindex
X-PUBLISHED-TTL:PT1H
BEGIN:VTIMEZONE
TZID:America/New_York
BEGIN:DAYLIGHT
TZOFFSETFROM:-0500
TZOFFSETTO:-0400
TZNAME:EDT
DTSTART:20250309T070000
END:DAYLIGHT
BEGIN:STANDARD
TZOFFSETFROM:-0400
TZOFFSETTO:-0500
TZNAME:EST
DTSTART:20251102T060000
END:STANDARD
BEGIN:DAYLIGHT
TZOFFSETFROM:-0500
TZOFFSETTO:-0400
TZNAME:EDT
DTSTART:20260308T070000
END:DAYLIGHT
BEGIN:STANDARD
TZOFFSETFROM:-0400
TZOFFSETTO:-0500
TZNAME:EST
DTSTART:20261101T060000
END:STANDARD
BEGIN:DAYLIGHT
TZOFFSETFROM:-0500
TZOFFSETTO:-0400
TZNAME:EDT
DTSTART:20270314T070000
END:DAYLIGHT
BEGIN:STANDARD
TZOFFSETFROM:-0400
TZOFFSETTO:-0500
TZNAME:EST
DTSTART:20271107T060000
END:STANDARD
END:VTIMEZONE
BEGIN:VEVENT
DTSTART;TZID=America/New_York:20260423T180000
DTEND;TZID=America/New_York:20260423T200000
DTSTAMP:20260425T110701
CREATED:20260416T003250Z
LAST-MODIFIED:20260423T234557Z
UID:10000279-1776967200-1776974400@www.wcsu.edu
SUMMARY:WCSU 2026  Senior Portfolio Exhibition
DESCRIPTION:WCSU 2026 SENIOR PORTFOLIO EXHIBITION\nOPENING RECEPTION: Thursday\, April 23\, 2026\, 6-8 pm\n\n\n\nWCSU 2026 SENIOR PORTFOLIO EXHIBITION\nOPENING RECEPTION:\nThursday\, April 23\, 6-8 pm\nOn View April 23 – May 10\, 2026 \nGallery Hours: Tues–Fri\, 12–4 pm\, Sat–Sun\, 1–4 pm \nThe Gallery at the Visual & Performing Arts Center \n43 Lake Ave Extension\, Danbury\, CT 06811 \n \nThe WCSU Department of Art presents the Senior Portfolio Exhibition each spring as a capstone experience for students pursuing the BA or BFA in Art in one of four areas of concentration: graphic design\, illustration\, photography and studio arts: painting. This year’s exhibition will feature six art majors with a concentration in graphic design\, four in illustration\, six in studio arts\, and two in photography. The following 2026 B.A. or B.F.A in Art candidates will show selected works: \n \n    •	Graphic Design: Brooks Baldwin; Danielle Cruz (BFA); Tessa Hilford (BFA); April Maher; Cayden Nadolny-Pallatto (BFA);  Kamiyah Stackhouse \n    •	Illustration: Yandra Arias; Hannah Huminski; Amy Nozius; Gracen Regan \n    •	Painting: Ian Clifford; Anna Jordan; Bianca Makaj; Leah Sadler; Divya Saini; Tom Wolff \n    •	Photography: Lenee Brown and Anastasiia Vladymyrenko (BFA) \n \nFor more information\, contact the Department of Art at (203) 837-8403
URL:https://www.wcsu.edu/svpca/event/wcsu-2026-senior-portfolio-exhibition/
LOCATION:Visual & Performing Arts Center\, 43 Lake Avenue Extension\, Danbury\, CT\, 06811\, United States
ATTACH;FMTTYPE=image/jpeg:https://www.wcsu.edu/svpca/wp-content/uploads/sites/123/2025/04/28a65cdee43e23116b69a7e97a5dff5c.jpg
END:VEVENT
END:VCALENDAR